
BEGIN:VCALENDAR
VERSION:2.0
PRODID:-//San Francisco / East Bay SLAA - ECPv6.15.20//NONSGML v1.0//EN
CALSCALE:GREGORIAN
METHOD:PUBLISH
X-WR-CALNAME:San Francisco / East Bay SLAA
X-ORIGINAL-URL:https://slaa-sfeb.org
X-WR-CALDESC:Events for San Francisco / East Bay SLAA
REFRESH-INTERVAL;VALUE=DURATION:PT1H
X-Robots-Tag:noindex
X-PUBLISHED-TTL:PT1H
BEGIN:VTIMEZONE
TZID:UTC
BEGIN:STANDARD
TZOFFSETFROM:+0000
TZOFFSETTO:+0000
TZNAME:UTC
DTSTART:20250101T000000
END:STANDARD
END:VTIMEZONE
BEGIN:VTIMEZONE
TZID:America/Los_Angeles
BEGIN:DAYLIGHT
TZOFFSETFROM:-0800
TZOFFSETTO:-0700
TZNAME:PDT
DTSTART:20250309T100000
END:DAYLIGHT
BEGIN:STANDARD
TZOFFSETFROM:-0700
TZOFFSETTO:-0800
TZNAME:PST
DTSTART:20251102T090000
END:STANDARD
BEGIN:DAYLIGHT
TZOFFSETFROM:-0800
TZOFFSETTO:-0700
TZNAME:PDT
DTSTART:20260308T100000
END:DAYLIGHT
BEGIN:STANDARD
TZOFFSETFROM:-0700
TZOFFSETTO:-0800
TZNAME:PST
DTSTART:20261101T090000
END:STANDARD
BEGIN:DAYLIGHT
TZOFFSETFROM:-0800
TZOFFSETTO:-0700
TZNAME:PDT
DTSTART:20270314T100000
END:DAYLIGHT
BEGIN:STANDARD
TZOFFSETFROM:-0700
TZOFFSETTO:-0800
TZNAME:PST
DTSTART:20271107T090000
END:STANDARD
END:VTIMEZONE
BEGIN:VEVENT
DTSTART;TZID=UTC:20260416T083000
DTEND;TZID=UTC:20260416T094500
DTSTAMP:20260420T050802
CREATED:20240807T112943Z
LAST-MODIFIED:20240815T083818Z
UID:10008701-1776328200-1776332700@slaa-sfeb.org
SUMMARY:LGBTQ+ topic\, closed caption\, meditation\, sharing
DESCRIPTION:Focus varies by topic\, chosen by the leader. LGBTQ+\, closed caption\, meditation and sharing \nFor the Zoom password\, please email queerslaathursday@gmail.com
URL:https://slaa-sfeb.org/event/lgbtq-topic-closed-caption-meditation-sharing/2026-04-16/
CATEGORIES:Meeting: Zoom / Online
LOCATION:https://us02web.zoom.us/j/87154275141
END:VEVENT
BEGIN:VEVENT
DTSTART;TZID=UTC:20260416T093000
DTEND;TZID=UTC:20260416T103000
DTSTAMP:20260420T050802
CREATED:20240807T113259Z
LAST-MODIFIED:20240815T083656Z
UID:10008962-1776331800-1776335400@slaa-sfeb.org
SUMMARY:Therapists\, Clergy\, Teachers & Helping Professionals
DESCRIPTION:Closed meeting; for location and details call (925) 323-8120
URL:https://slaa-sfeb.org/event/eb-therapists-clergy-teachers-helping-professionals/2026-04-16/
CATEGORIES:Meeting: Zoom / Online
END:VEVENT
BEGIN:VEVENT
DTSTART;TZID=America/Los_Angeles:20260416T133000
DTEND;TZID=America/Los_Angeles:20260416T144500
DTSTAMP:20260420T050802
CREATED:20260415T044451Z
LAST-MODIFIED:20260415T044451Z
UID:10019673-1776346200-1776350700@slaa-sfeb.org
SUMMARY:South SF: Safe Arrivals
DESCRIPTION:Safe Arrivals is a weekly meeting with a primary focus on recovery from emotional\, social\, sexual\, and work-related anorexia — patterns of withdrawal\, avoidance\, and difficulty giving or receiving nourishment in life. \nMany people who struggle in these ways do not identify with common descriptions of sex or love addiction. Some have little relationship history at all\, yet experience: \n\nChronic isolation or loneliness\nFear of closeness\, exposure\, or vulnerability\nEmotional numbing or detachment\nReliance on fantasy instead of real connection\nDisappearing or withdrawing when stress increases\nAvoidance of people\, places\, and situations that might be triggering\nDifficulty sustaining meaningful work\, self-care\, or daily structure\n\nIn SLAA\, these patterns are understood as part of the same illness — often described as anorexia\, a compulsive restriction of emotional\, relational\, sexual\, or life nourishment. \nThis can include work anorexia\, such as: \n\nAvoidance of necessary work tasks or career development\nActing-in behaviors that block productivity or forward movement\nCycles of procrastination\, paralysis\, or shutdown\nDifficulty tolerating evaluation\, responsibility\, or visibility\nNeglect of health\, finances\, or daily self-maintenance\n\nAvoidance may once have served as protection from overwhelm\, trauma\, or shame\, but over time it can become a life strategy that deepens isolation and reduces freedom. \nSafe Arrivals aims to provide a calm\, structured\, trauma-informed environment where recovery can begin at a manageable pace. The emphasis is on stability\, consistency\, and rebuilding capacity for connection\, responsibility\, and participation in life. \nYou do not need to use any specific label to attend. If patterns of withdrawal or restriction are causing suffering\, you are welcome. \nWest Bay Alano Club\n216 Mosswood Way\nSouth San Francisco \nFree Parking; 10 minute drive from SFO Rental Car center; Samtrans ECR bus; 25 minute walk to BART; 30 minute walk to Caltrans.
URL:https://slaa-sfeb.org/event/south-sf-safe-arrivals-2/2026-04-16/
LOCATION:West Bay Alano Club\, 216 Mosswood Way\, South San Francisco\, United States
CATEGORIES:Meeting: In-Person
END:VEVENT
BEGIN:VEVENT
DTSTART;TZID=UTC:20260416T180000
DTEND;TZID=UTC:20260416T190000
DTSTAMP:20260420T050802
CREATED:20240807T113842Z
LAST-MODIFIED:20241222T050058Z
UID:10009223-1776362400-1776366000@slaa-sfeb.org
SUMMARY:HOW Healthy Relationships
DESCRIPTION:HOW Format meeting with a focus on tools for Healthy Relationships. Please note: Meeting is locked at 6:10pm PST. Meeting requires cameras remain on for the entirety of the session. \nhttps://us02web.zoom.us/j/82295085647?pwd=eE1LeTQzeC9QZE9rNlZueVliRXlCZz09 \nMeeting ID: 822 9508 5647\nPasscode: 042344
URL:https://slaa-sfeb.org/event/how-healthy-relationships/2026-04-16/
CATEGORIES:Meeting: Zoom / Online
LOCATION:https://us02web.zoom.us/j/82295085647?pwd=eE1LeTQzeC9QZE9rNlZueVliRXlCZz09
END:VEVENT
BEGIN:VEVENT
DTSTART;TZID=UTC:20260416T180000
DTEND;TZID=UTC:20260416T193000
DTSTAMP:20260420T050802
CREATED:20250201T075445Z
LAST-MODIFIED:20250201T075445Z
UID:10013926-1776362400-1776367800@slaa-sfeb.org
SUMMARY:SF: The San Francisco Augustine Group
DESCRIPTION:Alternating step study/speaker every other week. \nNot wheelchair accessible.
URL:https://slaa-sfeb.org/event/sf-the-san-francisco-augustine-group/2026-04-16/
LOCATION:Holy Innocents Church\, 455 Fair Oaks Street\, San Francisco\, CA\, United States
CATEGORIES:Meeting: In-Person
END:VEVENT
BEGIN:VEVENT
DTSTART;TZID=UTC:20260416T183000
DTEND;TZID=UTC:20260416T193000
DTSTAMP:20260420T050802
CREATED:20250201T073704Z
LAST-MODIFIED:20260126T174011Z
UID:10013313-1776364200-1776367800@slaa-sfeb.org
SUMMARY:Women’s\, Trans & Nonbinary
DESCRIPTION:The format rotates each week: speaker\, literature\, topic & meditation.\n\n\n\n\n\nTHIS MEETING IS NO LONGER IN PERSON\, starting February 5th\, 2026. Previously held at Trinity St. Peter’s.\n\n\n\nZoom login\nhttps://us06web.zoom.us/j/84103439053?pwd=2OuAHoaasDPs24uTg1CToz9oeMdiOl.1\n\nZoom ID: 841 0343 9053\nPassword: 450223
URL:https://slaa-sfeb.org/event/sf-womens-trans-nonbinary-2/2026-04-16/
LOCATION:Trinity St Peter’s Episcopal Church\, 1620 Gough Street\, San Francisco\, CA\, 94109\, United States
CATEGORIES:Meeting: Zoom / Online
END:VEVENT
BEGIN:VEVENT
DTSTART;TZID=UTC:20260416T183000
DTEND;TZID=UTC:20260416T200000
DTSTAMP:20260420T050802
CREATED:20250210T090920Z
LAST-MODIFIED:20260202T181507Z
UID:10015618-1776364200-1776369600@slaa-sfeb.org
SUMMARY:Men's Meeting
DESCRIPTION:Speakers: 1st\, 3rd\, 5th Thursday; Step Reading: 2nd\, 4th Thursdays; Chips: 4th Thursday. \nZoom link:\nhttps://us02web.zoom.us/j/87296314258?pwd=T0NzeXNWZlNHY1djMlQ4VzVST2Y2QT09 \nMeeting ID: 872 9631 4258\nPassword: 1823 \nDial by your location\n+1 669 900 6833 US (San Jose)\n+1 253 215 8782 US (Tacoma)\n+1 346 248 7799 US (Houston)\n+1 929 436 2866 US (New York)\n+1 301 715 8592 US (Germantown)\n+1 312 626 6799 US (Chicago)
URL:https://slaa-sfeb.org/event/hybrid-mens-meeting-2-2/2026-04-16/
CATEGORIES:Meeting: Zoom / Online
LOCATION:https://us02web.zoom.us/j/87296314258?pwd=T0NzeXNWZlNHY1djMlQ4VzVST2Y2QT09
END:VEVENT
BEGIN:VEVENT
DTSTART;TZID=UTC:20260416T193000
DTEND;TZID=UTC:20260416T204500
DTSTAMP:20260420T050802
CREATED:20250201T072453Z
LAST-MODIFIED:20250201T072453Z
UID:10009484-1776367800-1776372300@slaa-sfeb.org
SUMMARY:Focus On Anorexia: All Welcome!
DESCRIPTION:In the fellowship of SLAA\, “anorexia” is defined as the compulsive avoidance of giving or receiving social\, sexual or emotional nourishment. \nThis is an open meeting in which we explore how we may experience social\, sexual or emotional anorexia and how we can practice the SLAA program of recovery. GC\, SD\, NC. \nJoin Zoom Meeting\nhttps://us02web.zoom.us/j/88691371688?pwd=MWowRE1yZ0hXWVIzbDNTWC83MHZDUT09 \nMeeting ID: 886 9137 1688\nPasscode: 427112 \nOne tap mobile\n+1 669 444 9171 US
URL:https://slaa-sfeb.org/event/focus-on-anorexia-all-are-welcome-2/2026-04-16/
CATEGORIES:Meeting: Zoom / Online
LOCATION:https://us02web.zoom.us/j/88691371688?pwd=MWowRE1yZ0hXWVIzbDNTWC83MHZDUT09
END:VEVENT
BEGIN:VEVENT
DTSTART;TZID=UTC:20260416T210000
DTEND;TZID=UTC:20260416T220000
DTSTAMP:20260420T050802
CREATED:20240807T023938Z
LAST-MODIFIED:20240815T090601Z
UID:10001144-1776373200-1776376800@slaa-sfeb.org
SUMMARY:One Ultimate Authority: Power of Group Conscience
DESCRIPTION:Tradition 2: For our group purpose there is but one ultimate authority – a loving god as this power may be expressed through our group conscience. Our leaders are but trusted servants\, they do not govern. \nWe meet seven nights a week at 9 pm pacific time\, same Zoom link every night\, and everyone is welcome. \n  \nJoin Zoom Meeting\nhttps://us02web.zoom.us/j/87052578236?pwd=RC9MY2JFeFRrWVNCQW5waVpma1Fkdz09 \nMeeting ID: 870 5257 8236\nPasscode: 262699\nOne tap mobile\n+16699006833\,\,87052578236#\,\,\,\,\,\,0#\,\,262699# US (San Jose)\n+12532158782\,\,87052578236#\,\,\,\,\,\,0#\,\,262699# US (Tacoma)
URL:https://slaa-sfeb.org/event/one-ultimate-authority-power-of-group-conscience/2026-04-16/
CATEGORIES:Meeting: Zoom / Online
LOCATION:https://us02web.zoom.us/j/87052578236?pwd=RC9MY2JFeFRrWVNCQW5waVpma1Fkdz09
END:VEVENT
BEGIN:VEVENT
DTSTART;TZID=UTC:20260416T210000
DTEND;TZID=UTC:20260416T220000
DTSTAMP:20260420T050802
CREATED:20240807T031309Z
LAST-MODIFIED:20240813T083637Z
UID:10004705-1776373200-1776376800@slaa-sfeb.org
SUMMARY:Healing Late Night Cravings
DESCRIPTION:Join Zoom Meeting \nMeeting ID: 981 878 1190\nPasscode: HLNC \nGroup email: HealingLNC9@gmail.com
URL:https://slaa-sfeb.org/event/healing-late-night-cravings/2026-04-16/
CATEGORIES:Meeting: Zoom / Online
LOCATION:https://us02web.zoom.us/j/9818781190?pwd%3DcGp2MmN4bG04V0c0V2IrcENMWUNJUT09&sa=D&source=calendar&usd=2&usg=AOvVaw2MobXfsymxB6kCg4TEcyZx
END:VEVENT
END:VCALENDAR