
BEGIN:VCALENDAR
VERSION:2.0
PRODID:-//San Francisco / East Bay SLAA - ECPv6.15.20//NONSGML v1.0//EN
CALSCALE:GREGORIAN
METHOD:PUBLISH
X-WR-CALNAME:San Francisco / East Bay SLAA
X-ORIGINAL-URL:https://slaa-sfeb.org
X-WR-CALDESC:Events for San Francisco / East Bay SLAA
REFRESH-INTERVAL;VALUE=DURATION:PT1H
X-Robots-Tag:noindex
X-PUBLISHED-TTL:PT1H
BEGIN:VTIMEZONE
TZID:UTC
BEGIN:STANDARD
TZOFFSETFROM:+0000
TZOFFSETTO:+0000
TZNAME:UTC
DTSTART:20250101T000000
END:STANDARD
END:VTIMEZONE
BEGIN:VTIMEZONE
TZID:America/Los_Angeles
BEGIN:DAYLIGHT
TZOFFSETFROM:-0800
TZOFFSETTO:-0700
TZNAME:PDT
DTSTART:20250309T100000
END:DAYLIGHT
BEGIN:STANDARD
TZOFFSETFROM:-0700
TZOFFSETTO:-0800
TZNAME:PST
DTSTART:20251102T090000
END:STANDARD
BEGIN:DAYLIGHT
TZOFFSETFROM:-0800
TZOFFSETTO:-0700
TZNAME:PDT
DTSTART:20260308T100000
END:DAYLIGHT
BEGIN:STANDARD
TZOFFSETFROM:-0700
TZOFFSETTO:-0800
TZNAME:PST
DTSTART:20261101T090000
END:STANDARD
BEGIN:DAYLIGHT
TZOFFSETFROM:-0800
TZOFFSETTO:-0700
TZNAME:PDT
DTSTART:20270314T100000
END:DAYLIGHT
BEGIN:STANDARD
TZOFFSETFROM:-0700
TZOFFSETTO:-0800
TZNAME:PST
DTSTART:20271107T090000
END:STANDARD
END:VTIMEZONE
BEGIN:VEVENT
DTSTART;TZID=UTC:20260420T173000
DTEND;TZID=UTC:20260420T183000
DTSTAMP:20260424T195252
CREATED:20240806T125438Z
LAST-MODIFIED:20250722T193821Z
UID:10000091-1776706200-1776709800@slaa-sfeb.org
SUMMARY:Multilogue Group (Men)
DESCRIPTION:The format of the meeting is for a member to choose a topic and for everyone to share on that topic or a topic of their choice. Everyone will be given the chance to speak in the meeting. At the beginning of the meeting\, How It Works will be read. At the 30 minute mark\, the treasurer’s information will be shared for 7th tradition\, and a member will read the promises. At the end of the meeting\, the group will recite the Serenity Prayer. \nThe meeting is virtual on Mondays at 5:30 pm PT and only open to men who identify as a sex and love addict. Men Only. \nZoom link:\nhttps://zoom.us/j/85281817502 \nMeeting ID: 852 8181 7502\nPasscode: 063046
URL:https://slaa-sfeb.org/event/526/2026-04-20/
CATEGORIES:Meeting: Zoom / Online
LOCATION:https://slaa-sfeb.org/event/526/2026-04-20/
END:VEVENT
BEGIN:VEVENT
DTSTART;TZID=UTC:20260420T193000
DTEND;TZID=UTC:20260420T204500
DTSTAMP:20260424T195252
CREATED:20240807T025947Z
LAST-MODIFIED:20250727T001508Z
UID:10004008-1776713400-1776717900@slaa-sfeb.org
SUMMARY:SF: HOW Healthy Relationships
DESCRIPTION:The entrance may not be obvious. We are in the St. Ignatius Church on Parker & Fulton in the Pedro Arrupe room. Look for a brick at the top of the NE corner stairwell as well as “Augustine Fellowship” signs pointing to our room; go down the stairwell to below ground level. We are at the closest entrance/stairwell below street level adjacent to the Hilltop Campus grass quadrant and the USF Gleeson library. We are the furthest corner of the St. Ignatius Church from the Parker/Fulton intersection. \nPer group conscience\, this is a no-pets meeting (with the exception of service animals). We ask those joining to be scent-free and refrain from excess perfumes.We ask that you refrain from eating in the meeting. Finally\, we ask anyone who is sick or experiencing cold or flu-like symptoms to stay home to protect the health of all in-person meeting participants. Masking for protection is optional at this point but is welcomed if it makes any participant feel safe at this meeting. \nWe have created a website (bit.ly/SLAA-HOW-HealthySF) which provides more details about our meeting (as there are occasional adjustments needed).  If you wish to reach out and find information about the meeting\, feel free to drop a line to SFHRMonday@gmail.com.\nC\, CO\, DA\, GC\, HOW\, HR\, NC\, S\, SC\, WD. \nFellowship occurs following our meeting at a local restaurant\, decided by group conscience
URL:https://slaa-sfeb.org/event/how-healthy-relationships-meeting/2026-04-20/
LOCATION:St. Ignatius Church\, 650 Parker Avenue\, San Francisco\, CA\, 94118
CATEGORIES:Meeting: In-Person
END:VEVENT
BEGIN:VEVENT
DTSTART;TZID=America/Los_Angeles:20260420T193000
DTEND;TZID=America/Los_Angeles:20260420T210000
DTSTAMP:20260424T195252
CREATED:20250218T062246Z
LAST-MODIFIED:20260331T082424Z
UID:10016240-1776713400-1776718800@slaa-sfeb.org
SUMMARY:Walnut Creek SLAA Mtg
DESCRIPTION:MEETING:  Walnut Creek Monday Eve SLAA \nDAY/TIME:  Mondays\, 7:30 PM\n\n\n\nVIA ZOOM on the 1st\, 3rd and 5th Mondays\nhttps://us02web.zoom.us/j/463523779?pwd=aHhxUXpRTTUxVmJ6RVVPa1pWanlBUT09\nMeeting ID: 463 523 779\nPassword: 121212\n\n\n\nIN-PERSON on the 2nd and 4th Monday of the month\nSt Paul’s Commons & Trinity Center\n1888 Trinity Ave\, Walnut Creek\, CA 94596\nACCESS: Back of the courtyard\, enter through the door signed as “MEETING ROOMS”\nPARKING: On the street\, or in the large lot across from the church next door.
URL:https://slaa-sfeb.org/event/walnut-creek-slaa-mtg/2026-04-20/
CATEGORIES:Meeting: Zoom / Online
LOCATION:
END:VEVENT
BEGIN:VEVENT
DTSTART;TZID=UTC:20260420T210000
DTEND;TZID=UTC:20260420T220000
DTSTAMP:20260424T195252
CREATED:20240807T023938Z
LAST-MODIFIED:20240815T090601Z
UID:10001148-1776718800-1776722400@slaa-sfeb.org
SUMMARY:One Ultimate Authority: Power of Group Conscience
DESCRIPTION:Tradition 2: For our group purpose there is but one ultimate authority – a loving god as this power may be expressed through our group conscience. Our leaders are but trusted servants\, they do not govern. \nWe meet seven nights a week at 9 pm pacific time\, same Zoom link every night\, and everyone is welcome. \n  \nJoin Zoom Meeting\nhttps://us02web.zoom.us/j/87052578236?pwd=RC9MY2JFeFRrWVNCQW5waVpma1Fkdz09 \nMeeting ID: 870 5257 8236\nPasscode: 262699\nOne tap mobile\n+16699006833\,\,87052578236#\,\,\,\,\,\,0#\,\,262699# US (San Jose)\n+12532158782\,\,87052578236#\,\,\,\,\,\,0#\,\,262699# US (Tacoma)
URL:https://slaa-sfeb.org/event/one-ultimate-authority-power-of-group-conscience/2026-04-20/
CATEGORIES:Meeting: Zoom / Online
LOCATION:https://us02web.zoom.us/j/87052578236?pwd=RC9MY2JFeFRrWVNCQW5waVpma1Fkdz09
END:VEVENT
BEGIN:VEVENT
DTSTART;TZID=UTC:20260420T210000
DTEND;TZID=UTC:20260420T220000
DTSTAMP:20260424T195252
CREATED:20240807T031309Z
LAST-MODIFIED:20240813T083637Z
UID:10003486-1776718800-1776722400@slaa-sfeb.org
SUMMARY:Healing Late Night Cravings
DESCRIPTION:Join Zoom Meeting \nMeeting ID: 981 878 1190\nPasscode: HLNC \nGroup email: HealingLNC9@gmail.com
URL:https://slaa-sfeb.org/event/healing-late-night-cravings/2026-04-20/
CATEGORIES:Meeting: Zoom / Online
LOCATION:https://us02web.zoom.us/j/9818781190?pwd%3DcGp2MmN4bG04V0c0V2IrcENMWUNJUT09&sa=D&source=calendar&usd=2&usg=AOvVaw2MobXfsymxB6kCg4TEcyZx
END:VEVENT
END:VCALENDAR