
BEGIN:VCALENDAR
VERSION:2.0
PRODID:-//San Francisco / East Bay SLAA - ECPv6.15.20//NONSGML v1.0//EN
CALSCALE:GREGORIAN
METHOD:PUBLISH
X-WR-CALNAME:San Francisco / East Bay SLAA
X-ORIGINAL-URL:https://slaa-sfeb.org
X-WR-CALDESC:Events for San Francisco / East Bay SLAA
REFRESH-INTERVAL;VALUE=DURATION:PT1H
X-Robots-Tag:noindex
X-PUBLISHED-TTL:PT1H
BEGIN:VTIMEZONE
TZID:America/Los_Angeles
BEGIN:DAYLIGHT
TZOFFSETFROM:-0800
TZOFFSETTO:-0700
TZNAME:PDT
DTSTART:20240310T100000
END:DAYLIGHT
BEGIN:STANDARD
TZOFFSETFROM:-0700
TZOFFSETTO:-0800
TZNAME:PST
DTSTART:20241103T090000
END:STANDARD
BEGIN:DAYLIGHT
TZOFFSETFROM:-0800
TZOFFSETTO:-0700
TZNAME:PDT
DTSTART:20250309T100000
END:DAYLIGHT
BEGIN:STANDARD
TZOFFSETFROM:-0700
TZOFFSETTO:-0800
TZNAME:PST
DTSTART:20251102T090000
END:STANDARD
BEGIN:DAYLIGHT
TZOFFSETFROM:-0800
TZOFFSETTO:-0700
TZNAME:PDT
DTSTART:20260308T100000
END:DAYLIGHT
BEGIN:STANDARD
TZOFFSETFROM:-0700
TZOFFSETTO:-0800
TZNAME:PST
DTSTART:20261101T090000
END:STANDARD
END:VTIMEZONE
BEGIN:VEVENT
DTSTART;TZID=America/Los_Angeles:20251213T180000
DTEND;TZID=America/Los_Angeles:20251213T220000
DTSTAMP:20260420T090611
CREATED:20251110T234646Z
LAST-MODIFIED:20251111T000720Z
UID:10017790-1765648800-1765663200@slaa-sfeb.org
SUMMARY:Seasonal Celebration: Potluck & White Elephant Gift Exchange
DESCRIPTION:SAN FRANCISCO / EAST BAY FELLOWSHIP presents… \nSeasonal Celebration & White Elephant Gift Exchange\nPlease join us! \nPOTLUCK & WHITE ELEPHANT GIFT EXCHANGE\nTo participate in the White Elephant Gift Exchange\, please bring a wrapped gift. You are encouraged not to spend money or buy anything new. You can find something around your place that you would like to give to someone else… it could be useful\, funny\, cool\, whatever you like. \nSaturday\, December 13\, 2025 at 6-10pm\nSt. Paul Lutheran Church\n1658 Excelsior\, Oakland\, CA 94602 \n$10 Donation: no one turned away for lack of funds. \nThis is a quiet residential neighborhood with street parking. \nPlease spread the word near and far to all your meetings and friends! Please announce at your meetings as well. 😃 \nVolunteers: We welcome help to set-up (5pm) and clean-up at the end of the event.
URL:https://slaa-sfeb.org/event/seasonal-celebration/
LOCATION:St. Paul Lutheran Church\, 1658 Excelsior\, Oakland\, 94602\, United States
CATEGORIES:Event: Fellowship Gatherings
ATTACH;FMTTYPE=image/jpeg:https://slaa-sfeb.org/wp-content/uploads/2025/11/SLAA-HolidayParty_2025.jpg
END:VEVENT
END:VCALENDAR