
BEGIN:VCALENDAR
VERSION:2.0
PRODID:-//San Francisco / East Bay SLAA - ECPv6.15.20//NONSGML v1.0//EN
CALSCALE:GREGORIAN
METHOD:PUBLISH
X-WR-CALNAME:San Francisco / East Bay SLAA
X-ORIGINAL-URL:https://slaa-sfeb.org
X-WR-CALDESC:Events for San Francisco / East Bay SLAA
REFRESH-INTERVAL;VALUE=DURATION:PT1H
X-Robots-Tag:noindex
X-PUBLISHED-TTL:PT1H
BEGIN:VTIMEZONE
TZID:America/Los_Angeles
BEGIN:DAYLIGHT
TZOFFSETFROM:-0800
TZOFFSETTO:-0700
TZNAME:PDT
DTSTART:20260308T100000
END:DAYLIGHT
BEGIN:STANDARD
TZOFFSETFROM:-0700
TZOFFSETTO:-0800
TZNAME:PST
DTSTART:20261101T090000
END:STANDARD
BEGIN:DAYLIGHT
TZOFFSETFROM:-0800
TZOFFSETTO:-0700
TZNAME:PDT
DTSTART:20270314T100000
END:DAYLIGHT
BEGIN:STANDARD
TZOFFSETFROM:-0700
TZOFFSETTO:-0800
TZNAME:PST
DTSTART:20271107T090000
END:STANDARD
BEGIN:DAYLIGHT
TZOFFSETFROM:-0800
TZOFFSETTO:-0700
TZNAME:PDT
DTSTART:20280312T100000
END:DAYLIGHT
BEGIN:STANDARD
TZOFFSETFROM:-0700
TZOFFSETTO:-0800
TZNAME:PST
DTSTART:20281105T090000
END:STANDARD
END:VTIMEZONE
BEGIN:VEVENT
DTSTART;TZID=America/Los_Angeles:20270410T140000
DTEND;TZID=America/Los_Angeles:20270410T153000
DTSTAMP:20260420T044906
CREATED:20260129T185253Z
LAST-MODIFIED:20260129T185937Z
UID:10018441-1807365600-1807371000@slaa-sfeb.org
SUMMARY:SLAA HOW Workshop 20-Week Healthy Relationships
DESCRIPTION:SLAA HOW Workshop 20-Week Healthy Relationships\nMarch 7 – 18 July\, 2026 at 2-3:30pm PST (once DLS is in effect\, it will be 3-4:30) \nWeekly Workshop on Zoom\, Step Work focus & support\, HOW Concept & Tools\, help finding a sponsor\, weekly Speaker shares\, fellowship\, outreach\, private WhatsApp Groups\, and Open House meetings \n*Sponsors start meeting on 28 Feb 2026* \nQuestions?  Contact slaa.how.workshop@gmail.com\nSign up at: https://sites.google.com/view/slaahowworkshop/20-week-workshop-SLAA-HOW
URL:https://slaa-sfeb.org/event/slaa-how-workshop-20-week-healthy-relationships/2027-04-10/
CATEGORIES:Event: Workshop
ATTACH;FMTTYPE=image/jpeg:https://slaa-sfeb.org/wp-content/uploads/2026/01/SLAA-Workshop-Flyer.jpeg
LOCATION:
END:VEVENT
BEGIN:VEVENT
DTSTART;TZID=America/Los_Angeles:20270417T140000
DTEND;TZID=America/Los_Angeles:20270417T153000
DTSTAMP:20260420T044906
CREATED:20260129T185253Z
LAST-MODIFIED:20260129T185937Z
UID:10018442-1807970400-1807975800@slaa-sfeb.org
SUMMARY:SLAA HOW Workshop 20-Week Healthy Relationships
DESCRIPTION:SLAA HOW Workshop 20-Week Healthy Relationships\nMarch 7 – 18 July\, 2026 at 2-3:30pm PST (once DLS is in effect\, it will be 3-4:30) \nWeekly Workshop on Zoom\, Step Work focus & support\, HOW Concept & Tools\, help finding a sponsor\, weekly Speaker shares\, fellowship\, outreach\, private WhatsApp Groups\, and Open House meetings \n*Sponsors start meeting on 28 Feb 2026* \nQuestions?  Contact slaa.how.workshop@gmail.com\nSign up at: https://sites.google.com/view/slaahowworkshop/20-week-workshop-SLAA-HOW
URL:https://slaa-sfeb.org/event/slaa-how-workshop-20-week-healthy-relationships/2027-04-17/
CATEGORIES:Event: Workshop
ATTACH;FMTTYPE=image/jpeg:https://slaa-sfeb.org/wp-content/uploads/2026/01/SLAA-Workshop-Flyer.jpeg
LOCATION:
END:VEVENT
BEGIN:VEVENT
DTSTART;TZID=America/Los_Angeles:20270424T140000
DTEND;TZID=America/Los_Angeles:20270424T153000
DTSTAMP:20260420T044906
CREATED:20260129T185253Z
LAST-MODIFIED:20260129T185937Z
UID:10018443-1808575200-1808580600@slaa-sfeb.org
SUMMARY:SLAA HOW Workshop 20-Week Healthy Relationships
DESCRIPTION:SLAA HOW Workshop 20-Week Healthy Relationships\nMarch 7 – 18 July\, 2026 at 2-3:30pm PST (once DLS is in effect\, it will be 3-4:30) \nWeekly Workshop on Zoom\, Step Work focus & support\, HOW Concept & Tools\, help finding a sponsor\, weekly Speaker shares\, fellowship\, outreach\, private WhatsApp Groups\, and Open House meetings \n*Sponsors start meeting on 28 Feb 2026* \nQuestions?  Contact slaa.how.workshop@gmail.com\nSign up at: https://sites.google.com/view/slaahowworkshop/20-week-workshop-SLAA-HOW
URL:https://slaa-sfeb.org/event/slaa-how-workshop-20-week-healthy-relationships/2027-04-24/
CATEGORIES:Event: Workshop
ATTACH;FMTTYPE=image/jpeg:https://slaa-sfeb.org/wp-content/uploads/2026/01/SLAA-Workshop-Flyer.jpeg
LOCATION:
END:VEVENT
BEGIN:VEVENT
DTSTART;TZID=America/Los_Angeles:20270501T140000
DTEND;TZID=America/Los_Angeles:20270501T153000
DTSTAMP:20260420T044906
CREATED:20260129T185253Z
LAST-MODIFIED:20260129T185937Z
UID:10018444-1809180000-1809185400@slaa-sfeb.org
SUMMARY:SLAA HOW Workshop 20-Week Healthy Relationships
DESCRIPTION:SLAA HOW Workshop 20-Week Healthy Relationships\nMarch 7 – 18 July\, 2026 at 2-3:30pm PST (once DLS is in effect\, it will be 3-4:30) \nWeekly Workshop on Zoom\, Step Work focus & support\, HOW Concept & Tools\, help finding a sponsor\, weekly Speaker shares\, fellowship\, outreach\, private WhatsApp Groups\, and Open House meetings \n*Sponsors start meeting on 28 Feb 2026* \nQuestions?  Contact slaa.how.workshop@gmail.com\nSign up at: https://sites.google.com/view/slaahowworkshop/20-week-workshop-SLAA-HOW
URL:https://slaa-sfeb.org/event/slaa-how-workshop-20-week-healthy-relationships/2027-05-01/
CATEGORIES:Event: Workshop
ATTACH;FMTTYPE=image/jpeg:https://slaa-sfeb.org/wp-content/uploads/2026/01/SLAA-Workshop-Flyer.jpeg
LOCATION:
END:VEVENT
BEGIN:VEVENT
DTSTART;TZID=America/Los_Angeles:20270508T140000
DTEND;TZID=America/Los_Angeles:20270508T153000
DTSTAMP:20260420T044906
CREATED:20260129T185253Z
LAST-MODIFIED:20260129T185937Z
UID:10018445-1809784800-1809790200@slaa-sfeb.org
SUMMARY:SLAA HOW Workshop 20-Week Healthy Relationships
DESCRIPTION:SLAA HOW Workshop 20-Week Healthy Relationships\nMarch 7 – 18 July\, 2026 at 2-3:30pm PST (once DLS is in effect\, it will be 3-4:30) \nWeekly Workshop on Zoom\, Step Work focus & support\, HOW Concept & Tools\, help finding a sponsor\, weekly Speaker shares\, fellowship\, outreach\, private WhatsApp Groups\, and Open House meetings \n*Sponsors start meeting on 28 Feb 2026* \nQuestions?  Contact slaa.how.workshop@gmail.com\nSign up at: https://sites.google.com/view/slaahowworkshop/20-week-workshop-SLAA-HOW
URL:https://slaa-sfeb.org/event/slaa-how-workshop-20-week-healthy-relationships/2027-05-08/
CATEGORIES:Event: Workshop
ATTACH;FMTTYPE=image/jpeg:https://slaa-sfeb.org/wp-content/uploads/2026/01/SLAA-Workshop-Flyer.jpeg
LOCATION:
END:VEVENT
BEGIN:VEVENT
DTSTART;TZID=America/Los_Angeles:20270515T140000
DTEND;TZID=America/Los_Angeles:20270515T153000
DTSTAMP:20260420T044906
CREATED:20260129T185253Z
LAST-MODIFIED:20260129T185937Z
UID:10018446-1810389600-1810395000@slaa-sfeb.org
SUMMARY:SLAA HOW Workshop 20-Week Healthy Relationships
DESCRIPTION:SLAA HOW Workshop 20-Week Healthy Relationships\nMarch 7 – 18 July\, 2026 at 2-3:30pm PST (once DLS is in effect\, it will be 3-4:30) \nWeekly Workshop on Zoom\, Step Work focus & support\, HOW Concept & Tools\, help finding a sponsor\, weekly Speaker shares\, fellowship\, outreach\, private WhatsApp Groups\, and Open House meetings \n*Sponsors start meeting on 28 Feb 2026* \nQuestions?  Contact slaa.how.workshop@gmail.com\nSign up at: https://sites.google.com/view/slaahowworkshop/20-week-workshop-SLAA-HOW
URL:https://slaa-sfeb.org/event/slaa-how-workshop-20-week-healthy-relationships/2027-05-15/
CATEGORIES:Event: Workshop
ATTACH;FMTTYPE=image/jpeg:https://slaa-sfeb.org/wp-content/uploads/2026/01/SLAA-Workshop-Flyer.jpeg
LOCATION:
END:VEVENT
BEGIN:VEVENT
DTSTART;TZID=America/Los_Angeles:20270522T140000
DTEND;TZID=America/Los_Angeles:20270522T153000
DTSTAMP:20260420T044906
CREATED:20260129T185253Z
LAST-MODIFIED:20260129T185937Z
UID:10018447-1810994400-1810999800@slaa-sfeb.org
SUMMARY:SLAA HOW Workshop 20-Week Healthy Relationships
DESCRIPTION:SLAA HOW Workshop 20-Week Healthy Relationships\nMarch 7 – 18 July\, 2026 at 2-3:30pm PST (once DLS is in effect\, it will be 3-4:30) \nWeekly Workshop on Zoom\, Step Work focus & support\, HOW Concept & Tools\, help finding a sponsor\, weekly Speaker shares\, fellowship\, outreach\, private WhatsApp Groups\, and Open House meetings \n*Sponsors start meeting on 28 Feb 2026* \nQuestions?  Contact slaa.how.workshop@gmail.com\nSign up at: https://sites.google.com/view/slaahowworkshop/20-week-workshop-SLAA-HOW
URL:https://slaa-sfeb.org/event/slaa-how-workshop-20-week-healthy-relationships/2027-05-22/
CATEGORIES:Event: Workshop
ATTACH;FMTTYPE=image/jpeg:https://slaa-sfeb.org/wp-content/uploads/2026/01/SLAA-Workshop-Flyer.jpeg
LOCATION:
END:VEVENT
BEGIN:VEVENT
DTSTART;TZID=America/Los_Angeles:20270529T140000
DTEND;TZID=America/Los_Angeles:20270529T153000
DTSTAMP:20260420T044906
CREATED:20260129T185253Z
LAST-MODIFIED:20260129T185937Z
UID:10018448-1811599200-1811604600@slaa-sfeb.org
SUMMARY:SLAA HOW Workshop 20-Week Healthy Relationships
DESCRIPTION:SLAA HOW Workshop 20-Week Healthy Relationships\nMarch 7 – 18 July\, 2026 at 2-3:30pm PST (once DLS is in effect\, it will be 3-4:30) \nWeekly Workshop on Zoom\, Step Work focus & support\, HOW Concept & Tools\, help finding a sponsor\, weekly Speaker shares\, fellowship\, outreach\, private WhatsApp Groups\, and Open House meetings \n*Sponsors start meeting on 28 Feb 2026* \nQuestions?  Contact slaa.how.workshop@gmail.com\nSign up at: https://sites.google.com/view/slaahowworkshop/20-week-workshop-SLAA-HOW
URL:https://slaa-sfeb.org/event/slaa-how-workshop-20-week-healthy-relationships/2027-05-29/
CATEGORIES:Event: Workshop
ATTACH;FMTTYPE=image/jpeg:https://slaa-sfeb.org/wp-content/uploads/2026/01/SLAA-Workshop-Flyer.jpeg
LOCATION:
END:VEVENT
BEGIN:VEVENT
DTSTART;TZID=America/Los_Angeles:20270605T140000
DTEND;TZID=America/Los_Angeles:20270605T153000
DTSTAMP:20260420T044906
CREATED:20260129T185253Z
LAST-MODIFIED:20260129T185937Z
UID:10018449-1812204000-1812209400@slaa-sfeb.org
SUMMARY:SLAA HOW Workshop 20-Week Healthy Relationships
DESCRIPTION:SLAA HOW Workshop 20-Week Healthy Relationships\nMarch 7 – 18 July\, 2026 at 2-3:30pm PST (once DLS is in effect\, it will be 3-4:30) \nWeekly Workshop on Zoom\, Step Work focus & support\, HOW Concept & Tools\, help finding a sponsor\, weekly Speaker shares\, fellowship\, outreach\, private WhatsApp Groups\, and Open House meetings \n*Sponsors start meeting on 28 Feb 2026* \nQuestions?  Contact slaa.how.workshop@gmail.com\nSign up at: https://sites.google.com/view/slaahowworkshop/20-week-workshop-SLAA-HOW
URL:https://slaa-sfeb.org/event/slaa-how-workshop-20-week-healthy-relationships/2027-06-05/
CATEGORIES:Event: Workshop
ATTACH;FMTTYPE=image/jpeg:https://slaa-sfeb.org/wp-content/uploads/2026/01/SLAA-Workshop-Flyer.jpeg
LOCATION:
END:VEVENT
BEGIN:VEVENT
DTSTART;TZID=America/Los_Angeles:20270612T140000
DTEND;TZID=America/Los_Angeles:20270612T153000
DTSTAMP:20260420T044906
CREATED:20260129T185253Z
LAST-MODIFIED:20260129T185937Z
UID:10018450-1812808800-1812814200@slaa-sfeb.org
SUMMARY:SLAA HOW Workshop 20-Week Healthy Relationships
DESCRIPTION:SLAA HOW Workshop 20-Week Healthy Relationships\nMarch 7 – 18 July\, 2026 at 2-3:30pm PST (once DLS is in effect\, it will be 3-4:30) \nWeekly Workshop on Zoom\, Step Work focus & support\, HOW Concept & Tools\, help finding a sponsor\, weekly Speaker shares\, fellowship\, outreach\, private WhatsApp Groups\, and Open House meetings \n*Sponsors start meeting on 28 Feb 2026* \nQuestions?  Contact slaa.how.workshop@gmail.com\nSign up at: https://sites.google.com/view/slaahowworkshop/20-week-workshop-SLAA-HOW
URL:https://slaa-sfeb.org/event/slaa-how-workshop-20-week-healthy-relationships/2027-06-12/
CATEGORIES:Event: Workshop
ATTACH;FMTTYPE=image/jpeg:https://slaa-sfeb.org/wp-content/uploads/2026/01/SLAA-Workshop-Flyer.jpeg
LOCATION:
END:VEVENT
BEGIN:VEVENT
DTSTART;TZID=America/Los_Angeles:20270619T140000
DTEND;TZID=America/Los_Angeles:20270619T153000
DTSTAMP:20260420T044906
CREATED:20260129T185253Z
LAST-MODIFIED:20260129T185937Z
UID:10018451-1813413600-1813419000@slaa-sfeb.org
SUMMARY:SLAA HOW Workshop 20-Week Healthy Relationships
DESCRIPTION:SLAA HOW Workshop 20-Week Healthy Relationships\nMarch 7 – 18 July\, 2026 at 2-3:30pm PST (once DLS is in effect\, it will be 3-4:30) \nWeekly Workshop on Zoom\, Step Work focus & support\, HOW Concept & Tools\, help finding a sponsor\, weekly Speaker shares\, fellowship\, outreach\, private WhatsApp Groups\, and Open House meetings \n*Sponsors start meeting on 28 Feb 2026* \nQuestions?  Contact slaa.how.workshop@gmail.com\nSign up at: https://sites.google.com/view/slaahowworkshop/20-week-workshop-SLAA-HOW
URL:https://slaa-sfeb.org/event/slaa-how-workshop-20-week-healthy-relationships/2027-06-19/
CATEGORIES:Event: Workshop
ATTACH;FMTTYPE=image/jpeg:https://slaa-sfeb.org/wp-content/uploads/2026/01/SLAA-Workshop-Flyer.jpeg
LOCATION:
END:VEVENT
BEGIN:VEVENT
DTSTART;TZID=America/Los_Angeles:20270626T140000
DTEND;TZID=America/Los_Angeles:20270626T153000
DTSTAMP:20260420T044906
CREATED:20260129T185253Z
LAST-MODIFIED:20260129T185937Z
UID:10018452-1814018400-1814023800@slaa-sfeb.org
SUMMARY:SLAA HOW Workshop 20-Week Healthy Relationships
DESCRIPTION:SLAA HOW Workshop 20-Week Healthy Relationships\nMarch 7 – 18 July\, 2026 at 2-3:30pm PST (once DLS is in effect\, it will be 3-4:30) \nWeekly Workshop on Zoom\, Step Work focus & support\, HOW Concept & Tools\, help finding a sponsor\, weekly Speaker shares\, fellowship\, outreach\, private WhatsApp Groups\, and Open House meetings \n*Sponsors start meeting on 28 Feb 2026* \nQuestions?  Contact slaa.how.workshop@gmail.com\nSign up at: https://sites.google.com/view/slaahowworkshop/20-week-workshop-SLAA-HOW
URL:https://slaa-sfeb.org/event/slaa-how-workshop-20-week-healthy-relationships/2027-06-26/
CATEGORIES:Event: Workshop
ATTACH;FMTTYPE=image/jpeg:https://slaa-sfeb.org/wp-content/uploads/2026/01/SLAA-Workshop-Flyer.jpeg
LOCATION:
END:VEVENT
BEGIN:VEVENT
DTSTART;TZID=America/Los_Angeles:20270703T140000
DTEND;TZID=America/Los_Angeles:20270703T153000
DTSTAMP:20260420T044906
CREATED:20260129T185253Z
LAST-MODIFIED:20260129T185937Z
UID:10018453-1814623200-1814628600@slaa-sfeb.org
SUMMARY:SLAA HOW Workshop 20-Week Healthy Relationships
DESCRIPTION:SLAA HOW Workshop 20-Week Healthy Relationships\nMarch 7 – 18 July\, 2026 at 2-3:30pm PST (once DLS is in effect\, it will be 3-4:30) \nWeekly Workshop on Zoom\, Step Work focus & support\, HOW Concept & Tools\, help finding a sponsor\, weekly Speaker shares\, fellowship\, outreach\, private WhatsApp Groups\, and Open House meetings \n*Sponsors start meeting on 28 Feb 2026* \nQuestions?  Contact slaa.how.workshop@gmail.com\nSign up at: https://sites.google.com/view/slaahowworkshop/20-week-workshop-SLAA-HOW
URL:https://slaa-sfeb.org/event/slaa-how-workshop-20-week-healthy-relationships/2027-07-03/
CATEGORIES:Event: Workshop
ATTACH;FMTTYPE=image/jpeg:https://slaa-sfeb.org/wp-content/uploads/2026/01/SLAA-Workshop-Flyer.jpeg
LOCATION:
END:VEVENT
BEGIN:VEVENT
DTSTART;TZID=America/Los_Angeles:20270710T140000
DTEND;TZID=America/Los_Angeles:20270710T153000
DTSTAMP:20260420T044906
CREATED:20260129T185253Z
LAST-MODIFIED:20260129T185937Z
UID:10018454-1815228000-1815233400@slaa-sfeb.org
SUMMARY:SLAA HOW Workshop 20-Week Healthy Relationships
DESCRIPTION:SLAA HOW Workshop 20-Week Healthy Relationships\nMarch 7 – 18 July\, 2026 at 2-3:30pm PST (once DLS is in effect\, it will be 3-4:30) \nWeekly Workshop on Zoom\, Step Work focus & support\, HOW Concept & Tools\, help finding a sponsor\, weekly Speaker shares\, fellowship\, outreach\, private WhatsApp Groups\, and Open House meetings \n*Sponsors start meeting on 28 Feb 2026* \nQuestions?  Contact slaa.how.workshop@gmail.com\nSign up at: https://sites.google.com/view/slaahowworkshop/20-week-workshop-SLAA-HOW
URL:https://slaa-sfeb.org/event/slaa-how-workshop-20-week-healthy-relationships/2027-07-10/
CATEGORIES:Event: Workshop
ATTACH;FMTTYPE=image/jpeg:https://slaa-sfeb.org/wp-content/uploads/2026/01/SLAA-Workshop-Flyer.jpeg
LOCATION:
END:VEVENT
BEGIN:VEVENT
DTSTART;TZID=America/Los_Angeles:20270717T140000
DTEND;TZID=America/Los_Angeles:20270717T153000
DTSTAMP:20260420T044906
CREATED:20260129T185253Z
LAST-MODIFIED:20260129T185937Z
UID:10018455-1815832800-1815838200@slaa-sfeb.org
SUMMARY:SLAA HOW Workshop 20-Week Healthy Relationships
DESCRIPTION:SLAA HOW Workshop 20-Week Healthy Relationships\nMarch 7 – 18 July\, 2026 at 2-3:30pm PST (once DLS is in effect\, it will be 3-4:30) \nWeekly Workshop on Zoom\, Step Work focus & support\, HOW Concept & Tools\, help finding a sponsor\, weekly Speaker shares\, fellowship\, outreach\, private WhatsApp Groups\, and Open House meetings \n*Sponsors start meeting on 28 Feb 2026* \nQuestions?  Contact slaa.how.workshop@gmail.com\nSign up at: https://sites.google.com/view/slaahowworkshop/20-week-workshop-SLAA-HOW
URL:https://slaa-sfeb.org/event/slaa-how-workshop-20-week-healthy-relationships/2027-07-17/
CATEGORIES:Event: Workshop
ATTACH;FMTTYPE=image/jpeg:https://slaa-sfeb.org/wp-content/uploads/2026/01/SLAA-Workshop-Flyer.jpeg
LOCATION:
END:VEVENT
END:VCALENDAR