
BEGIN:VCALENDAR
VERSION:2.0
PRODID:-//San Francisco / East Bay SLAA - ECPv6.15.20//NONSGML v1.0//EN
CALSCALE:GREGORIAN
METHOD:PUBLISH
X-WR-CALNAME:San Francisco / East Bay SLAA
X-ORIGINAL-URL:https://slaa-sfeb.org
X-WR-CALDESC:Events for San Francisco / East Bay SLAA
REFRESH-INTERVAL;VALUE=DURATION:PT1H
X-Robots-Tag:noindex
X-PUBLISHED-TTL:PT1H
BEGIN:VTIMEZONE
TZID:UTC
BEGIN:STANDARD
TZOFFSETFROM:+0000
TZOFFSETTO:+0000
TZNAME:UTC
DTSTART:20250101T000000
END:STANDARD
END:VTIMEZONE
BEGIN:VEVENT
DTSTART;TZID=UTC:20260421T073000
DTEND;TZID=UTC:20260421T083000
DTSTAMP:20260420T222937
CREATED:20240807T064830Z
LAST-MODIFIED:20250729T220545Z
UID:10006091-1776756600-1776760200@slaa-sfeb.org
SUMMARY:In the Solution (Men)
DESCRIPTION:https://us02web.zoom.us/j/83794255879?pwd=YXBHd2pUQkVITVYwQVdDbXFFbHpCZz09 \nMeeting ID: 837 9425 5879\nPasscode: 427171 \nO\, 12\, GC\, SC\, SD.
URL:https://slaa-sfeb.org/event/in-the-solution-men/2026-04-21/
CATEGORIES:Meeting: Zoom / Online
LOCATION:https://us02web.zoom.us/j/83794255879?pwd=YXBHd2pUQkVITVYwQVdDbXFFbHpCZz09
END:VEVENT
BEGIN:VEVENT
DTSTART;TZID=UTC:20260421T170000
DTEND;TZID=UTC:20260421T180000
DTSTAMP:20260420T222937
CREATED:20260408T043552Z
LAST-MODIFIED:20260408T043553Z
UID:10019413-1776790800-1776794400@slaa-sfeb.org
SUMMARY:Sex Workers
DESCRIPTION:This meeting is online – please email ourmondaynightmeeting@gmail.com for more info and link. \nClosed meeting for current and former sex workers. \nWho is a sex worker? \nSex worker is a broad based term encompassing telephone sex operators\, web cam workers\, glamour models\, porn actors\, strippers\, burlesque dancers\, sensual masseuses\, street walkers\, escorts\, bdsm providers\, and the whole host of the sex working world in between. \nThis meeting is for anyone who self-identifies with the above. Please call the number above with any questions.
URL:https://slaa-sfeb.org/event/sex-workers-2/2026-04-21/
CATEGORIES:Meeting: Zoom / Online
LOCATION:
END:VEVENT
BEGIN:VEVENT
DTSTART;TZID=UTC:20260421T184500
DTEND;TZID=UTC:20260421T194500
DTSTAMP:20260420T222937
CREATED:20240807T065500Z
LAST-MODIFIED:20240815T092116Z
UID:10006352-1776797100-1776800700@slaa-sfeb.org
SUMMARY:Tools\, Step Study\, & Meditation
DESCRIPTION:[formerly at CPMC in San Francisco] \nJoin Zoom Meeting\nhttps://us02web.zoom.us/j/989146422?pwd=ZVdkWWF6NUs3T2J3T1lyYWFCa3JwQT09 \nMeeting ID: 989 146 422\nPasscode: email toolsstepstudy@gmail.com for password \nCall in number: +1-669-900-6833
URL:https://slaa-sfeb.org/event/tools-step-study-meditation/2026-04-21/
CATEGORIES:Meeting: Zoom / Online
LOCATION:https://us02web.zoom.us/j/989146422?pwd=ZVdkWWF6NUs3T2J3T1lyYWFCa3JwQT09
END:VEVENT
BEGIN:VEVENT
DTSTART;TZID=UTC:20260421T190000
DTEND;TZID=UTC:20260421T201500
DTSTAMP:20260420T222937
CREATED:20240807T104642Z
LAST-MODIFIED:20240815T101125Z
UID:10006874-1776798000-1776802500@slaa-sfeb.org
SUMMARY:Trans & Genderqueer Folx and Cis Women Meeting
DESCRIPTION:Please send an email to slaa7tuesday@gmail.com no later than 5PM Pacific Time on Tuesday for information about how to access our online Zoom meeting.\n\n\n\n\n\nnotes\n\nDescription:Information about how to maintain digital/phone anonymity\, click here.\nReadings for meetings (12 steps\, characteristics etc) can be found at this link.W\, GC\, SC\, SD\, C\, NC. Step Study 1st & 3rd\, Speaker/Discussion 2nd & 4th.
URL:https://slaa-sfeb.org/event/eb-trans-and-genderqueer-folx-and-cis-women-meeting/2026-04-21/
CATEGORIES:Meeting: Zoom / Online
LOCATION:
END:VEVENT
BEGIN:VEVENT
DTSTART;TZID=UTC:20260421T210000
DTEND;TZID=UTC:20260421T220000
DTSTAMP:20260420T222937
CREATED:20240807T023938Z
LAST-MODIFIED:20240815T090601Z
UID:10001149-1776805200-1776808800@slaa-sfeb.org
SUMMARY:One Ultimate Authority: Power of Group Conscience
DESCRIPTION:Tradition 2: For our group purpose there is but one ultimate authority – a loving god as this power may be expressed through our group conscience. Our leaders are but trusted servants\, they do not govern. \nWe meet seven nights a week at 9 pm pacific time\, same Zoom link every night\, and everyone is welcome. \n  \nJoin Zoom Meeting\nhttps://us02web.zoom.us/j/87052578236?pwd=RC9MY2JFeFRrWVNCQW5waVpma1Fkdz09 \nMeeting ID: 870 5257 8236\nPasscode: 262699\nOne tap mobile\n+16699006833\,\,87052578236#\,\,\,\,\,\,0#\,\,262699# US (San Jose)\n+12532158782\,\,87052578236#\,\,\,\,\,\,0#\,\,262699# US (Tacoma)
URL:https://slaa-sfeb.org/event/one-ultimate-authority-power-of-group-conscience/2026-04-21/
CATEGORIES:Meeting: Zoom / Online
LOCATION:https://us02web.zoom.us/j/87052578236?pwd=RC9MY2JFeFRrWVNCQW5waVpma1Fkdz09
END:VEVENT
BEGIN:VEVENT
DTSTART;TZID=UTC:20260421T210000
DTEND;TZID=UTC:20260421T220000
DTSTAMP:20260420T222937
CREATED:20240807T031309Z
LAST-MODIFIED:20240813T083637Z
UID:10004709-1776805200-1776808800@slaa-sfeb.org
SUMMARY:Healing Late Night Cravings
DESCRIPTION:Join Zoom Meeting \nMeeting ID: 981 878 1190\nPasscode: HLNC \nGroup email: HealingLNC9@gmail.com
URL:https://slaa-sfeb.org/event/healing-late-night-cravings/2026-04-21/
CATEGORIES:Meeting: Zoom / Online
LOCATION:https://us02web.zoom.us/j/9818781190?pwd%3DcGp2MmN4bG04V0c0V2IrcENMWUNJUT09&sa=D&source=calendar&usd=2&usg=AOvVaw2MobXfsymxB6kCg4TEcyZx
END:VEVENT
END:VCALENDAR