
BEGIN:VCALENDAR
VERSION:2.0
PRODID:-//San Francisco / East Bay SLAA - ECPv6.15.20//NONSGML v1.0//EN
CALSCALE:GREGORIAN
METHOD:PUBLISH
X-WR-CALNAME:San Francisco / East Bay SLAA
X-ORIGINAL-URL:https://slaa-sfeb.org
X-WR-CALDESC:Events for San Francisco / East Bay SLAA
REFRESH-INTERVAL;VALUE=DURATION:PT1H
X-Robots-Tag:noindex
X-PUBLISHED-TTL:PT1H
BEGIN:VTIMEZONE
TZID:UTC
BEGIN:STANDARD
TZOFFSETFROM:+0000
TZOFFSETTO:+0000
TZNAME:UTC
DTSTART:20250101T000000
END:STANDARD
END:VTIMEZONE
BEGIN:VEVENT
DTSTART;TZID=UTC:20260427T173000
DTEND;TZID=UTC:20260427T183000
DTSTAMP:20260425T080124
CREATED:20240806T125438Z
LAST-MODIFIED:20250722T193821Z
UID:10000092-1777311000-1777314600@slaa-sfeb.org
SUMMARY:Multilogue Group (Men)
DESCRIPTION:The format of the meeting is for a member to choose a topic and for everyone to share on that topic or a topic of their choice. Everyone will be given the chance to speak in the meeting. At the beginning of the meeting\, How It Works will be read. At the 30 minute mark\, the treasurer’s information will be shared for 7th tradition\, and a member will read the promises. At the end of the meeting\, the group will recite the Serenity Prayer. \nThe meeting is virtual on Mondays at 5:30 pm PT and only open to men who identify as a sex and love addict. Men Only. \nZoom link:\nhttps://zoom.us/j/85281817502 \nMeeting ID: 852 8181 7502\nPasscode: 063046
URL:https://slaa-sfeb.org/event/526/2026-04-27/
CATEGORIES:Meeting: Zoom / Online
LOCATION:https://slaa-sfeb.org/event/526/2026-04-27/
END:VEVENT
BEGIN:VEVENT
DTSTART;TZID=UTC:20260427T210000
DTEND;TZID=UTC:20260427T220000
DTSTAMP:20260425T080124
CREATED:20240807T023938Z
LAST-MODIFIED:20240815T090601Z
UID:10001155-1777323600-1777327200@slaa-sfeb.org
SUMMARY:One Ultimate Authority: Power of Group Conscience
DESCRIPTION:Tradition 2: For our group purpose there is but one ultimate authority – a loving god as this power may be expressed through our group conscience. Our leaders are but trusted servants\, they do not govern. \nWe meet seven nights a week at 9 pm pacific time\, same Zoom link every night\, and everyone is welcome. \n  \nJoin Zoom Meeting\nhttps://us02web.zoom.us/j/87052578236?pwd=RC9MY2JFeFRrWVNCQW5waVpma1Fkdz09 \nMeeting ID: 870 5257 8236\nPasscode: 262699\nOne tap mobile\n+16699006833\,\,87052578236#\,\,\,\,\,\,0#\,\,262699# US (San Jose)\n+12532158782\,\,87052578236#\,\,\,\,\,\,0#\,\,262699# US (Tacoma)
URL:https://slaa-sfeb.org/event/one-ultimate-authority-power-of-group-conscience/2026-04-27/
CATEGORIES:Meeting: Zoom / Online
LOCATION:https://us02web.zoom.us/j/87052578236?pwd=RC9MY2JFeFRrWVNCQW5waVpma1Fkdz09
END:VEVENT
BEGIN:VEVENT
DTSTART;TZID=UTC:20260427T210000
DTEND;TZID=UTC:20260427T220000
DTSTAMP:20260425T080124
CREATED:20240807T031309Z
LAST-MODIFIED:20240813T083637Z
UID:10003487-1777323600-1777327200@slaa-sfeb.org
SUMMARY:Healing Late Night Cravings
DESCRIPTION:Join Zoom Meeting \nMeeting ID: 981 878 1190\nPasscode: HLNC \nGroup email: HealingLNC9@gmail.com
URL:https://slaa-sfeb.org/event/healing-late-night-cravings/2026-04-27/
CATEGORIES:Meeting: Zoom / Online
LOCATION:https://us02web.zoom.us/j/9818781190?pwd%3DcGp2MmN4bG04V0c0V2IrcENMWUNJUT09&sa=D&source=calendar&usd=2&usg=AOvVaw2MobXfsymxB6kCg4TEcyZx
END:VEVENT
END:VCALENDAR