
BEGIN:VCALENDAR
VERSION:2.0
PRODID:-//San Francisco / East Bay SLAA - ECPv6.15.20//NONSGML v1.0//EN
CALSCALE:GREGORIAN
METHOD:PUBLISH
X-WR-CALNAME:San Francisco / East Bay SLAA
X-ORIGINAL-URL:https://slaa-sfeb.org
X-WR-CALDESC:Events for San Francisco / East Bay SLAA
REFRESH-INTERVAL;VALUE=DURATION:PT1H
X-Robots-Tag:noindex
X-PUBLISHED-TTL:PT1H
BEGIN:VTIMEZONE
TZID:UTC
BEGIN:STANDARD
TZOFFSETFROM:+0000
TZOFFSETTO:+0000
TZNAME:UTC
DTSTART:20250101T000000
END:STANDARD
END:VTIMEZONE
BEGIN:VEVENT
DTSTART;TZID=UTC:20260428T170000
DTEND;TZID=UTC:20260428T180000
DTSTAMP:20260424T200024
CREATED:20260408T043552Z
LAST-MODIFIED:20260408T043553Z
UID:10019414-1777395600-1777399200@slaa-sfeb.org
SUMMARY:Sex Workers
DESCRIPTION:This meeting is online – please email ourmondaynightmeeting@gmail.com for more info and link. \nClosed meeting for current and former sex workers. \nWho is a sex worker? \nSex worker is a broad based term encompassing telephone sex operators\, web cam workers\, glamour models\, porn actors\, strippers\, burlesque dancers\, sensual masseuses\, street walkers\, escorts\, bdsm providers\, and the whole host of the sex working world in between. \nThis meeting is for anyone who self-identifies with the above. Please call the number above with any questions.
URL:https://slaa-sfeb.org/event/sex-workers-2/2026-04-28/
CATEGORIES:Meeting: Zoom / Online
LOCATION:
END:VEVENT
BEGIN:VEVENT
DTSTART;TZID=UTC:20260505T170000
DTEND;TZID=UTC:20260505T180000
DTSTAMP:20260424T200024
CREATED:20260408T043552Z
LAST-MODIFIED:20260408T043553Z
UID:10019415-1778000400-1778004000@slaa-sfeb.org
SUMMARY:Sex Workers
DESCRIPTION:This meeting is online – please email ourmondaynightmeeting@gmail.com for more info and link. \nClosed meeting for current and former sex workers. \nWho is a sex worker? \nSex worker is a broad based term encompassing telephone sex operators\, web cam workers\, glamour models\, porn actors\, strippers\, burlesque dancers\, sensual masseuses\, street walkers\, escorts\, bdsm providers\, and the whole host of the sex working world in between. \nThis meeting is for anyone who self-identifies with the above. Please call the number above with any questions.
URL:https://slaa-sfeb.org/event/sex-workers-2/2026-05-05/
CATEGORIES:Meeting: Zoom / Online
LOCATION:
END:VEVENT
BEGIN:VEVENT
DTSTART;TZID=UTC:20260512T170000
DTEND;TZID=UTC:20260512T180000
DTSTAMP:20260424T200024
CREATED:20260408T043552Z
LAST-MODIFIED:20260408T043553Z
UID:10019416-1778605200-1778608800@slaa-sfeb.org
SUMMARY:Sex Workers
DESCRIPTION:This meeting is online – please email ourmondaynightmeeting@gmail.com for more info and link. \nClosed meeting for current and former sex workers. \nWho is a sex worker? \nSex worker is a broad based term encompassing telephone sex operators\, web cam workers\, glamour models\, porn actors\, strippers\, burlesque dancers\, sensual masseuses\, street walkers\, escorts\, bdsm providers\, and the whole host of the sex working world in between. \nThis meeting is for anyone who self-identifies with the above. Please call the number above with any questions.
URL:https://slaa-sfeb.org/event/sex-workers-2/2026-05-12/
CATEGORIES:Meeting: Zoom / Online
LOCATION:
END:VEVENT
BEGIN:VEVENT
DTSTART;TZID=UTC:20260519T170000
DTEND;TZID=UTC:20260519T180000
DTSTAMP:20260424T200024
CREATED:20260408T043552Z
LAST-MODIFIED:20260408T043553Z
UID:10019417-1779210000-1779213600@slaa-sfeb.org
SUMMARY:Sex Workers
DESCRIPTION:This meeting is online – please email ourmondaynightmeeting@gmail.com for more info and link. \nClosed meeting for current and former sex workers. \nWho is a sex worker? \nSex worker is a broad based term encompassing telephone sex operators\, web cam workers\, glamour models\, porn actors\, strippers\, burlesque dancers\, sensual masseuses\, street walkers\, escorts\, bdsm providers\, and the whole host of the sex working world in between. \nThis meeting is for anyone who self-identifies with the above. Please call the number above with any questions.
URL:https://slaa-sfeb.org/event/sex-workers-2/2026-05-19/
CATEGORIES:Meeting: Zoom / Online
LOCATION:
END:VEVENT
BEGIN:VEVENT
DTSTART;TZID=UTC:20260526T170000
DTEND;TZID=UTC:20260526T180000
DTSTAMP:20260424T200024
CREATED:20260408T043552Z
LAST-MODIFIED:20260408T043553Z
UID:10019418-1779814800-1779818400@slaa-sfeb.org
SUMMARY:Sex Workers
DESCRIPTION:This meeting is online – please email ourmondaynightmeeting@gmail.com for more info and link. \nClosed meeting for current and former sex workers. \nWho is a sex worker? \nSex worker is a broad based term encompassing telephone sex operators\, web cam workers\, glamour models\, porn actors\, strippers\, burlesque dancers\, sensual masseuses\, street walkers\, escorts\, bdsm providers\, and the whole host of the sex working world in between. \nThis meeting is for anyone who self-identifies with the above. Please call the number above with any questions.
URL:https://slaa-sfeb.org/event/sex-workers-2/2026-05-26/
CATEGORIES:Meeting: Zoom / Online
LOCATION:
END:VEVENT
BEGIN:VEVENT
DTSTART;TZID=UTC:20260602T170000
DTEND;TZID=UTC:20260602T180000
DTSTAMP:20260424T200024
CREATED:20260408T043552Z
LAST-MODIFIED:20260408T043553Z
UID:10019419-1780419600-1780423200@slaa-sfeb.org
SUMMARY:Sex Workers
DESCRIPTION:This meeting is online – please email ourmondaynightmeeting@gmail.com for more info and link. \nClosed meeting for current and former sex workers. \nWho is a sex worker? \nSex worker is a broad based term encompassing telephone sex operators\, web cam workers\, glamour models\, porn actors\, strippers\, burlesque dancers\, sensual masseuses\, street walkers\, escorts\, bdsm providers\, and the whole host of the sex working world in between. \nThis meeting is for anyone who self-identifies with the above. Please call the number above with any questions.
URL:https://slaa-sfeb.org/event/sex-workers-2/2026-06-02/
CATEGORIES:Meeting: Zoom / Online
LOCATION:
END:VEVENT
BEGIN:VEVENT
DTSTART;TZID=UTC:20260609T170000
DTEND;TZID=UTC:20260609T180000
DTSTAMP:20260424T200024
CREATED:20260408T043552Z
LAST-MODIFIED:20260408T043553Z
UID:10019420-1781024400-1781028000@slaa-sfeb.org
SUMMARY:Sex Workers
DESCRIPTION:This meeting is online – please email ourmondaynightmeeting@gmail.com for more info and link. \nClosed meeting for current and former sex workers. \nWho is a sex worker? \nSex worker is a broad based term encompassing telephone sex operators\, web cam workers\, glamour models\, porn actors\, strippers\, burlesque dancers\, sensual masseuses\, street walkers\, escorts\, bdsm providers\, and the whole host of the sex working world in between. \nThis meeting is for anyone who self-identifies with the above. Please call the number above with any questions.
URL:https://slaa-sfeb.org/event/sex-workers-2/2026-06-09/
CATEGORIES:Meeting: Zoom / Online
LOCATION:
END:VEVENT
BEGIN:VEVENT
DTSTART;TZID=UTC:20260616T170000
DTEND;TZID=UTC:20260616T180000
DTSTAMP:20260424T200024
CREATED:20260408T043552Z
LAST-MODIFIED:20260408T043553Z
UID:10019421-1781629200-1781632800@slaa-sfeb.org
SUMMARY:Sex Workers
DESCRIPTION:This meeting is online – please email ourmondaynightmeeting@gmail.com for more info and link. \nClosed meeting for current and former sex workers. \nWho is a sex worker? \nSex worker is a broad based term encompassing telephone sex operators\, web cam workers\, glamour models\, porn actors\, strippers\, burlesque dancers\, sensual masseuses\, street walkers\, escorts\, bdsm providers\, and the whole host of the sex working world in between. \nThis meeting is for anyone who self-identifies with the above. Please call the number above with any questions.
URL:https://slaa-sfeb.org/event/sex-workers-2/2026-06-16/
CATEGORIES:Meeting: Zoom / Online
LOCATION:
END:VEVENT
BEGIN:VEVENT
DTSTART;TZID=UTC:20260623T170000
DTEND;TZID=UTC:20260623T180000
DTSTAMP:20260424T200024
CREATED:20260408T043552Z
LAST-MODIFIED:20260408T043553Z
UID:10019422-1782234000-1782237600@slaa-sfeb.org
SUMMARY:Sex Workers
DESCRIPTION:This meeting is online – please email ourmondaynightmeeting@gmail.com for more info and link. \nClosed meeting for current and former sex workers. \nWho is a sex worker? \nSex worker is a broad based term encompassing telephone sex operators\, web cam workers\, glamour models\, porn actors\, strippers\, burlesque dancers\, sensual masseuses\, street walkers\, escorts\, bdsm providers\, and the whole host of the sex working world in between. \nThis meeting is for anyone who self-identifies with the above. Please call the number above with any questions.
URL:https://slaa-sfeb.org/event/sex-workers-2/2026-06-23/
CATEGORIES:Meeting: Zoom / Online
LOCATION:
END:VEVENT
BEGIN:VEVENT
DTSTART;TZID=UTC:20260630T170000
DTEND;TZID=UTC:20260630T180000
DTSTAMP:20260424T200024
CREATED:20260408T043552Z
LAST-MODIFIED:20260408T043553Z
UID:10019423-1782838800-1782842400@slaa-sfeb.org
SUMMARY:Sex Workers
DESCRIPTION:This meeting is online – please email ourmondaynightmeeting@gmail.com for more info and link. \nClosed meeting for current and former sex workers. \nWho is a sex worker? \nSex worker is a broad based term encompassing telephone sex operators\, web cam workers\, glamour models\, porn actors\, strippers\, burlesque dancers\, sensual masseuses\, street walkers\, escorts\, bdsm providers\, and the whole host of the sex working world in between. \nThis meeting is for anyone who self-identifies with the above. Please call the number above with any questions.
URL:https://slaa-sfeb.org/event/sex-workers-2/2026-06-30/
CATEGORIES:Meeting: Zoom / Online
LOCATION:
END:VEVENT
BEGIN:VEVENT
DTSTART;TZID=UTC:20260707T170000
DTEND;TZID=UTC:20260707T180000
DTSTAMP:20260424T200024
CREATED:20260408T043552Z
LAST-MODIFIED:20260408T043553Z
UID:10019424-1783443600-1783447200@slaa-sfeb.org
SUMMARY:Sex Workers
DESCRIPTION:This meeting is online – please email ourmondaynightmeeting@gmail.com for more info and link. \nClosed meeting for current and former sex workers. \nWho is a sex worker? \nSex worker is a broad based term encompassing telephone sex operators\, web cam workers\, glamour models\, porn actors\, strippers\, burlesque dancers\, sensual masseuses\, street walkers\, escorts\, bdsm providers\, and the whole host of the sex working world in between. \nThis meeting is for anyone who self-identifies with the above. Please call the number above with any questions.
URL:https://slaa-sfeb.org/event/sex-workers-2/2026-07-07/
CATEGORIES:Meeting: Zoom / Online
LOCATION:
END:VEVENT
BEGIN:VEVENT
DTSTART;TZID=UTC:20260714T170000
DTEND;TZID=UTC:20260714T180000
DTSTAMP:20260424T200024
CREATED:20260408T043552Z
LAST-MODIFIED:20260408T043553Z
UID:10019425-1784048400-1784052000@slaa-sfeb.org
SUMMARY:Sex Workers
DESCRIPTION:This meeting is online – please email ourmondaynightmeeting@gmail.com for more info and link. \nClosed meeting for current and former sex workers. \nWho is a sex worker? \nSex worker is a broad based term encompassing telephone sex operators\, web cam workers\, glamour models\, porn actors\, strippers\, burlesque dancers\, sensual masseuses\, street walkers\, escorts\, bdsm providers\, and the whole host of the sex working world in between. \nThis meeting is for anyone who self-identifies with the above. Please call the number above with any questions.
URL:https://slaa-sfeb.org/event/sex-workers-2/2026-07-14/
CATEGORIES:Meeting: Zoom / Online
LOCATION:
END:VEVENT
BEGIN:VEVENT
DTSTART;TZID=UTC:20260721T170000
DTEND;TZID=UTC:20260721T180000
DTSTAMP:20260424T200024
CREATED:20260408T043552Z
LAST-MODIFIED:20260408T043553Z
UID:10019426-1784653200-1784656800@slaa-sfeb.org
SUMMARY:Sex Workers
DESCRIPTION:This meeting is online – please email ourmondaynightmeeting@gmail.com for more info and link. \nClosed meeting for current and former sex workers. \nWho is a sex worker? \nSex worker is a broad based term encompassing telephone sex operators\, web cam workers\, glamour models\, porn actors\, strippers\, burlesque dancers\, sensual masseuses\, street walkers\, escorts\, bdsm providers\, and the whole host of the sex working world in between. \nThis meeting is for anyone who self-identifies with the above. Please call the number above with any questions.
URL:https://slaa-sfeb.org/event/sex-workers-2/2026-07-21/
CATEGORIES:Meeting: Zoom / Online
LOCATION:
END:VEVENT
BEGIN:VEVENT
DTSTART;TZID=UTC:20260728T170000
DTEND;TZID=UTC:20260728T180000
DTSTAMP:20260424T200024
CREATED:20260408T043552Z
LAST-MODIFIED:20260408T043553Z
UID:10019427-1785258000-1785261600@slaa-sfeb.org
SUMMARY:Sex Workers
DESCRIPTION:This meeting is online – please email ourmondaynightmeeting@gmail.com for more info and link. \nClosed meeting for current and former sex workers. \nWho is a sex worker? \nSex worker is a broad based term encompassing telephone sex operators\, web cam workers\, glamour models\, porn actors\, strippers\, burlesque dancers\, sensual masseuses\, street walkers\, escorts\, bdsm providers\, and the whole host of the sex working world in between. \nThis meeting is for anyone who self-identifies with the above. Please call the number above with any questions.
URL:https://slaa-sfeb.org/event/sex-workers-2/2026-07-28/
CATEGORIES:Meeting: Zoom / Online
LOCATION:
END:VEVENT
BEGIN:VEVENT
DTSTART;TZID=UTC:20260804T170000
DTEND;TZID=UTC:20260804T180000
DTSTAMP:20260424T200024
CREATED:20260408T043552Z
LAST-MODIFIED:20260408T043553Z
UID:10019428-1785862800-1785866400@slaa-sfeb.org
SUMMARY:Sex Workers
DESCRIPTION:This meeting is online – please email ourmondaynightmeeting@gmail.com for more info and link. \nClosed meeting for current and former sex workers. \nWho is a sex worker? \nSex worker is a broad based term encompassing telephone sex operators\, web cam workers\, glamour models\, porn actors\, strippers\, burlesque dancers\, sensual masseuses\, street walkers\, escorts\, bdsm providers\, and the whole host of the sex working world in between. \nThis meeting is for anyone who self-identifies with the above. Please call the number above with any questions.
URL:https://slaa-sfeb.org/event/sex-workers-2/2026-08-04/
CATEGORIES:Meeting: Zoom / Online
LOCATION:
END:VEVENT
BEGIN:VEVENT
DTSTART;TZID=UTC:20260811T170000
DTEND;TZID=UTC:20260811T180000
DTSTAMP:20260424T200024
CREATED:20260408T043552Z
LAST-MODIFIED:20260408T043553Z
UID:10019429-1786467600-1786471200@slaa-sfeb.org
SUMMARY:Sex Workers
DESCRIPTION:This meeting is online – please email ourmondaynightmeeting@gmail.com for more info and link. \nClosed meeting for current and former sex workers. \nWho is a sex worker? \nSex worker is a broad based term encompassing telephone sex operators\, web cam workers\, glamour models\, porn actors\, strippers\, burlesque dancers\, sensual masseuses\, street walkers\, escorts\, bdsm providers\, and the whole host of the sex working world in between. \nThis meeting is for anyone who self-identifies with the above. Please call the number above with any questions.
URL:https://slaa-sfeb.org/event/sex-workers-2/2026-08-11/
CATEGORIES:Meeting: Zoom / Online
LOCATION:
END:VEVENT
BEGIN:VEVENT
DTSTART;TZID=UTC:20260818T170000
DTEND;TZID=UTC:20260818T180000
DTSTAMP:20260424T200024
CREATED:20260408T043552Z
LAST-MODIFIED:20260408T043553Z
UID:10019430-1787072400-1787076000@slaa-sfeb.org
SUMMARY:Sex Workers
DESCRIPTION:This meeting is online – please email ourmondaynightmeeting@gmail.com for more info and link. \nClosed meeting for current and former sex workers. \nWho is a sex worker? \nSex worker is a broad based term encompassing telephone sex operators\, web cam workers\, glamour models\, porn actors\, strippers\, burlesque dancers\, sensual masseuses\, street walkers\, escorts\, bdsm providers\, and the whole host of the sex working world in between. \nThis meeting is for anyone who self-identifies with the above. Please call the number above with any questions.
URL:https://slaa-sfeb.org/event/sex-workers-2/2026-08-18/
CATEGORIES:Meeting: Zoom / Online
LOCATION:
END:VEVENT
BEGIN:VEVENT
DTSTART;TZID=UTC:20260825T170000
DTEND;TZID=UTC:20260825T180000
DTSTAMP:20260424T200024
CREATED:20260408T043552Z
LAST-MODIFIED:20260408T043553Z
UID:10019431-1787677200-1787680800@slaa-sfeb.org
SUMMARY:Sex Workers
DESCRIPTION:This meeting is online – please email ourmondaynightmeeting@gmail.com for more info and link. \nClosed meeting for current and former sex workers. \nWho is a sex worker? \nSex worker is a broad based term encompassing telephone sex operators\, web cam workers\, glamour models\, porn actors\, strippers\, burlesque dancers\, sensual masseuses\, street walkers\, escorts\, bdsm providers\, and the whole host of the sex working world in between. \nThis meeting is for anyone who self-identifies with the above. Please call the number above with any questions.
URL:https://slaa-sfeb.org/event/sex-workers-2/2026-08-25/
CATEGORIES:Meeting: Zoom / Online
LOCATION:
END:VEVENT
BEGIN:VEVENT
DTSTART;TZID=UTC:20260901T170000
DTEND;TZID=UTC:20260901T180000
DTSTAMP:20260424T200024
CREATED:20260408T043552Z
LAST-MODIFIED:20260408T043553Z
UID:10019432-1788282000-1788285600@slaa-sfeb.org
SUMMARY:Sex Workers
DESCRIPTION:This meeting is online – please email ourmondaynightmeeting@gmail.com for more info and link. \nClosed meeting for current and former sex workers. \nWho is a sex worker? \nSex worker is a broad based term encompassing telephone sex operators\, web cam workers\, glamour models\, porn actors\, strippers\, burlesque dancers\, sensual masseuses\, street walkers\, escorts\, bdsm providers\, and the whole host of the sex working world in between. \nThis meeting is for anyone who self-identifies with the above. Please call the number above with any questions.
URL:https://slaa-sfeb.org/event/sex-workers-2/2026-09-01/
CATEGORIES:Meeting: Zoom / Online
LOCATION:
END:VEVENT
BEGIN:VEVENT
DTSTART;TZID=UTC:20260908T170000
DTEND;TZID=UTC:20260908T180000
DTSTAMP:20260424T200024
CREATED:20260408T043552Z
LAST-MODIFIED:20260408T043553Z
UID:10019433-1788886800-1788890400@slaa-sfeb.org
SUMMARY:Sex Workers
DESCRIPTION:This meeting is online – please email ourmondaynightmeeting@gmail.com for more info and link. \nClosed meeting for current and former sex workers. \nWho is a sex worker? \nSex worker is a broad based term encompassing telephone sex operators\, web cam workers\, glamour models\, porn actors\, strippers\, burlesque dancers\, sensual masseuses\, street walkers\, escorts\, bdsm providers\, and the whole host of the sex working world in between. \nThis meeting is for anyone who self-identifies with the above. Please call the number above with any questions.
URL:https://slaa-sfeb.org/event/sex-workers-2/2026-09-08/
CATEGORIES:Meeting: Zoom / Online
LOCATION:
END:VEVENT
BEGIN:VEVENT
DTSTART;TZID=UTC:20260915T170000
DTEND;TZID=UTC:20260915T180000
DTSTAMP:20260424T200024
CREATED:20260408T043552Z
LAST-MODIFIED:20260408T043553Z
UID:10019434-1789491600-1789495200@slaa-sfeb.org
SUMMARY:Sex Workers
DESCRIPTION:This meeting is online – please email ourmondaynightmeeting@gmail.com for more info and link. \nClosed meeting for current and former sex workers. \nWho is a sex worker? \nSex worker is a broad based term encompassing telephone sex operators\, web cam workers\, glamour models\, porn actors\, strippers\, burlesque dancers\, sensual masseuses\, street walkers\, escorts\, bdsm providers\, and the whole host of the sex working world in between. \nThis meeting is for anyone who self-identifies with the above. Please call the number above with any questions.
URL:https://slaa-sfeb.org/event/sex-workers-2/2026-09-15/
CATEGORIES:Meeting: Zoom / Online
LOCATION:
END:VEVENT
BEGIN:VEVENT
DTSTART;TZID=UTC:20260922T170000
DTEND;TZID=UTC:20260922T180000
DTSTAMP:20260424T200024
CREATED:20260408T043552Z
LAST-MODIFIED:20260408T043553Z
UID:10019435-1790096400-1790100000@slaa-sfeb.org
SUMMARY:Sex Workers
DESCRIPTION:This meeting is online – please email ourmondaynightmeeting@gmail.com for more info and link. \nClosed meeting for current and former sex workers. \nWho is a sex worker? \nSex worker is a broad based term encompassing telephone sex operators\, web cam workers\, glamour models\, porn actors\, strippers\, burlesque dancers\, sensual masseuses\, street walkers\, escorts\, bdsm providers\, and the whole host of the sex working world in between. \nThis meeting is for anyone who self-identifies with the above. Please call the number above with any questions.
URL:https://slaa-sfeb.org/event/sex-workers-2/2026-09-22/
CATEGORIES:Meeting: Zoom / Online
LOCATION:
END:VEVENT
BEGIN:VEVENT
DTSTART;TZID=UTC:20260929T170000
DTEND;TZID=UTC:20260929T180000
DTSTAMP:20260424T200024
CREATED:20260408T043552Z
LAST-MODIFIED:20260408T043553Z
UID:10019436-1790701200-1790704800@slaa-sfeb.org
SUMMARY:Sex Workers
DESCRIPTION:This meeting is online – please email ourmondaynightmeeting@gmail.com for more info and link. \nClosed meeting for current and former sex workers. \nWho is a sex worker? \nSex worker is a broad based term encompassing telephone sex operators\, web cam workers\, glamour models\, porn actors\, strippers\, burlesque dancers\, sensual masseuses\, street walkers\, escorts\, bdsm providers\, and the whole host of the sex working world in between. \nThis meeting is for anyone who self-identifies with the above. Please call the number above with any questions.
URL:https://slaa-sfeb.org/event/sex-workers-2/2026-09-29/
CATEGORIES:Meeting: Zoom / Online
LOCATION:
END:VEVENT
BEGIN:VEVENT
DTSTART;TZID=UTC:20261006T170000
DTEND;TZID=UTC:20261006T180000
DTSTAMP:20260424T200024
CREATED:20260408T043552Z
LAST-MODIFIED:20260408T043553Z
UID:10019437-1791306000-1791309600@slaa-sfeb.org
SUMMARY:Sex Workers
DESCRIPTION:This meeting is online – please email ourmondaynightmeeting@gmail.com for more info and link. \nClosed meeting for current and former sex workers. \nWho is a sex worker? \nSex worker is a broad based term encompassing telephone sex operators\, web cam workers\, glamour models\, porn actors\, strippers\, burlesque dancers\, sensual masseuses\, street walkers\, escorts\, bdsm providers\, and the whole host of the sex working world in between. \nThis meeting is for anyone who self-identifies with the above. Please call the number above with any questions.
URL:https://slaa-sfeb.org/event/sex-workers-2/2026-10-06/
CATEGORIES:Meeting: Zoom / Online
LOCATION:
END:VEVENT
BEGIN:VEVENT
DTSTART;TZID=UTC:20261013T170000
DTEND;TZID=UTC:20261013T180000
DTSTAMP:20260424T200024
CREATED:20260408T043552Z
LAST-MODIFIED:20260408T043553Z
UID:10019438-1791910800-1791914400@slaa-sfeb.org
SUMMARY:Sex Workers
DESCRIPTION:This meeting is online – please email ourmondaynightmeeting@gmail.com for more info and link. \nClosed meeting for current and former sex workers. \nWho is a sex worker? \nSex worker is a broad based term encompassing telephone sex operators\, web cam workers\, glamour models\, porn actors\, strippers\, burlesque dancers\, sensual masseuses\, street walkers\, escorts\, bdsm providers\, and the whole host of the sex working world in between. \nThis meeting is for anyone who self-identifies with the above. Please call the number above with any questions.
URL:https://slaa-sfeb.org/event/sex-workers-2/2026-10-13/
CATEGORIES:Meeting: Zoom / Online
LOCATION:
END:VEVENT
BEGIN:VEVENT
DTSTART;TZID=UTC:20261020T170000
DTEND;TZID=UTC:20261020T180000
DTSTAMP:20260424T200024
CREATED:20260408T043552Z
LAST-MODIFIED:20260408T043553Z
UID:10019439-1792515600-1792519200@slaa-sfeb.org
SUMMARY:Sex Workers
DESCRIPTION:This meeting is online – please email ourmondaynightmeeting@gmail.com for more info and link. \nClosed meeting for current and former sex workers. \nWho is a sex worker? \nSex worker is a broad based term encompassing telephone sex operators\, web cam workers\, glamour models\, porn actors\, strippers\, burlesque dancers\, sensual masseuses\, street walkers\, escorts\, bdsm providers\, and the whole host of the sex working world in between. \nThis meeting is for anyone who self-identifies with the above. Please call the number above with any questions.
URL:https://slaa-sfeb.org/event/sex-workers-2/2026-10-20/
CATEGORIES:Meeting: Zoom / Online
LOCATION:
END:VEVENT
BEGIN:VEVENT
DTSTART;TZID=UTC:20261027T170000
DTEND;TZID=UTC:20261027T180000
DTSTAMP:20260424T200024
CREATED:20260408T043552Z
LAST-MODIFIED:20260408T043553Z
UID:10019440-1793120400-1793124000@slaa-sfeb.org
SUMMARY:Sex Workers
DESCRIPTION:This meeting is online – please email ourmondaynightmeeting@gmail.com for more info and link. \nClosed meeting for current and former sex workers. \nWho is a sex worker? \nSex worker is a broad based term encompassing telephone sex operators\, web cam workers\, glamour models\, porn actors\, strippers\, burlesque dancers\, sensual masseuses\, street walkers\, escorts\, bdsm providers\, and the whole host of the sex working world in between. \nThis meeting is for anyone who self-identifies with the above. Please call the number above with any questions.
URL:https://slaa-sfeb.org/event/sex-workers-2/2026-10-27/
CATEGORIES:Meeting: Zoom / Online
LOCATION:
END:VEVENT
BEGIN:VEVENT
DTSTART;TZID=UTC:20261103T170000
DTEND;TZID=UTC:20261103T180000
DTSTAMP:20260424T200024
CREATED:20260408T043552Z
LAST-MODIFIED:20260408T043553Z
UID:10019441-1793725200-1793728800@slaa-sfeb.org
SUMMARY:Sex Workers
DESCRIPTION:This meeting is online – please email ourmondaynightmeeting@gmail.com for more info and link. \nClosed meeting for current and former sex workers. \nWho is a sex worker? \nSex worker is a broad based term encompassing telephone sex operators\, web cam workers\, glamour models\, porn actors\, strippers\, burlesque dancers\, sensual masseuses\, street walkers\, escorts\, bdsm providers\, and the whole host of the sex working world in between. \nThis meeting is for anyone who self-identifies with the above. Please call the number above with any questions.
URL:https://slaa-sfeb.org/event/sex-workers-2/2026-11-03/
CATEGORIES:Meeting: Zoom / Online
LOCATION:
END:VEVENT
BEGIN:VEVENT
DTSTART;TZID=UTC:20261110T170000
DTEND;TZID=UTC:20261110T180000
DTSTAMP:20260424T200024
CREATED:20260408T043552Z
LAST-MODIFIED:20260408T043553Z
UID:10019442-1794330000-1794333600@slaa-sfeb.org
SUMMARY:Sex Workers
DESCRIPTION:This meeting is online – please email ourmondaynightmeeting@gmail.com for more info and link. \nClosed meeting for current and former sex workers. \nWho is a sex worker? \nSex worker is a broad based term encompassing telephone sex operators\, web cam workers\, glamour models\, porn actors\, strippers\, burlesque dancers\, sensual masseuses\, street walkers\, escorts\, bdsm providers\, and the whole host of the sex working world in between. \nThis meeting is for anyone who self-identifies with the above. Please call the number above with any questions.
URL:https://slaa-sfeb.org/event/sex-workers-2/2026-11-10/
CATEGORIES:Meeting: Zoom / Online
LOCATION:
END:VEVENT
BEGIN:VEVENT
DTSTART;TZID=UTC:20261117T170000
DTEND;TZID=UTC:20261117T180000
DTSTAMP:20260424T200024
CREATED:20260408T043552Z
LAST-MODIFIED:20260408T043553Z
UID:10019443-1794934800-1794938400@slaa-sfeb.org
SUMMARY:Sex Workers
DESCRIPTION:This meeting is online – please email ourmondaynightmeeting@gmail.com for more info and link. \nClosed meeting for current and former sex workers. \nWho is a sex worker? \nSex worker is a broad based term encompassing telephone sex operators\, web cam workers\, glamour models\, porn actors\, strippers\, burlesque dancers\, sensual masseuses\, street walkers\, escorts\, bdsm providers\, and the whole host of the sex working world in between. \nThis meeting is for anyone who self-identifies with the above. Please call the number above with any questions.
URL:https://slaa-sfeb.org/event/sex-workers-2/2026-11-17/
CATEGORIES:Meeting: Zoom / Online
LOCATION:
END:VEVENT
END:VCALENDAR