
BEGIN:VCALENDAR
VERSION:2.0
PRODID:-//San Francisco / East Bay SLAA - ECPv6.15.20//NONSGML v1.0//EN
CALSCALE:GREGORIAN
METHOD:PUBLISH
X-WR-CALNAME:San Francisco / East Bay SLAA
X-ORIGINAL-URL:https://slaa-sfeb.org
X-WR-CALDESC:Events for San Francisco / East Bay SLAA
REFRESH-INTERVAL;VALUE=DURATION:PT1H
X-Robots-Tag:noindex
X-PUBLISHED-TTL:PT1H
BEGIN:VTIMEZONE
TZID:UTC
BEGIN:STANDARD
TZOFFSETFROM:+0000
TZOFFSETTO:+0000
TZNAME:UTC
DTSTART:20250101T000000
END:STANDARD
END:VTIMEZONE
BEGIN:VEVENT
DTSTART;TZID=UTC:20260430T183000
DTEND;TZID=UTC:20260430T200000
DTSTAMP:20260424T022202
CREATED:20250210T090920Z
LAST-MODIFIED:20260202T181507Z
UID:10015620-1777573800-1777579200@slaa-sfeb.org
SUMMARY:Men's Meeting
DESCRIPTION:Speakers: 1st\, 3rd\, 5th Thursday; Step Reading: 2nd\, 4th Thursdays; Chips: 4th Thursday. \nZoom link:\nhttps://us02web.zoom.us/j/87296314258?pwd=T0NzeXNWZlNHY1djMlQ4VzVST2Y2QT09 \nMeeting ID: 872 9631 4258\nPassword: 1823 \nDial by your location\n+1 669 900 6833 US (San Jose)\n+1 253 215 8782 US (Tacoma)\n+1 346 248 7799 US (Houston)\n+1 929 436 2866 US (New York)\n+1 301 715 8592 US (Germantown)\n+1 312 626 6799 US (Chicago)
URL:https://slaa-sfeb.org/event/hybrid-mens-meeting-2-2/2026-04-30/
CATEGORIES:Meeting: Zoom / Online
LOCATION:https://us02web.zoom.us/j/87296314258?pwd=T0NzeXNWZlNHY1djMlQ4VzVST2Y2QT09
END:VEVENT
BEGIN:VEVENT
DTSTART;TZID=UTC:20260507T183000
DTEND;TZID=UTC:20260507T200000
DTSTAMP:20260424T022202
CREATED:20250210T090920Z
LAST-MODIFIED:20260202T181507Z
UID:10015621-1778178600-1778184000@slaa-sfeb.org
SUMMARY:Men's Meeting
DESCRIPTION:Speakers: 1st\, 3rd\, 5th Thursday; Step Reading: 2nd\, 4th Thursdays; Chips: 4th Thursday. \nZoom link:\nhttps://us02web.zoom.us/j/87296314258?pwd=T0NzeXNWZlNHY1djMlQ4VzVST2Y2QT09 \nMeeting ID: 872 9631 4258\nPassword: 1823 \nDial by your location\n+1 669 900 6833 US (San Jose)\n+1 253 215 8782 US (Tacoma)\n+1 346 248 7799 US (Houston)\n+1 929 436 2866 US (New York)\n+1 301 715 8592 US (Germantown)\n+1 312 626 6799 US (Chicago)
URL:https://slaa-sfeb.org/event/hybrid-mens-meeting-2-2/2026-05-07/
CATEGORIES:Meeting: Zoom / Online
LOCATION:https://us02web.zoom.us/j/87296314258?pwd=T0NzeXNWZlNHY1djMlQ4VzVST2Y2QT09
END:VEVENT
BEGIN:VEVENT
DTSTART;TZID=UTC:20260514T183000
DTEND;TZID=UTC:20260514T200000
DTSTAMP:20260424T022202
CREATED:20250210T090920Z
LAST-MODIFIED:20260202T181507Z
UID:10015622-1778783400-1778788800@slaa-sfeb.org
SUMMARY:Men's Meeting
DESCRIPTION:Speakers: 1st\, 3rd\, 5th Thursday; Step Reading: 2nd\, 4th Thursdays; Chips: 4th Thursday. \nZoom link:\nhttps://us02web.zoom.us/j/87296314258?pwd=T0NzeXNWZlNHY1djMlQ4VzVST2Y2QT09 \nMeeting ID: 872 9631 4258\nPassword: 1823 \nDial by your location\n+1 669 900 6833 US (San Jose)\n+1 253 215 8782 US (Tacoma)\n+1 346 248 7799 US (Houston)\n+1 929 436 2866 US (New York)\n+1 301 715 8592 US (Germantown)\n+1 312 626 6799 US (Chicago)
URL:https://slaa-sfeb.org/event/hybrid-mens-meeting-2-2/2026-05-14/
CATEGORIES:Meeting: Zoom / Online
LOCATION:https://us02web.zoom.us/j/87296314258?pwd=T0NzeXNWZlNHY1djMlQ4VzVST2Y2QT09
END:VEVENT
BEGIN:VEVENT
DTSTART;TZID=UTC:20260521T183000
DTEND;TZID=UTC:20260521T200000
DTSTAMP:20260424T022202
CREATED:20250210T090920Z
LAST-MODIFIED:20260202T181507Z
UID:10015623-1779388200-1779393600@slaa-sfeb.org
SUMMARY:Men's Meeting
DESCRIPTION:Speakers: 1st\, 3rd\, 5th Thursday; Step Reading: 2nd\, 4th Thursdays; Chips: 4th Thursday. \nZoom link:\nhttps://us02web.zoom.us/j/87296314258?pwd=T0NzeXNWZlNHY1djMlQ4VzVST2Y2QT09 \nMeeting ID: 872 9631 4258\nPassword: 1823 \nDial by your location\n+1 669 900 6833 US (San Jose)\n+1 253 215 8782 US (Tacoma)\n+1 346 248 7799 US (Houston)\n+1 929 436 2866 US (New York)\n+1 301 715 8592 US (Germantown)\n+1 312 626 6799 US (Chicago)
URL:https://slaa-sfeb.org/event/hybrid-mens-meeting-2-2/2026-05-21/
CATEGORIES:Meeting: Zoom / Online
LOCATION:https://us02web.zoom.us/j/87296314258?pwd=T0NzeXNWZlNHY1djMlQ4VzVST2Y2QT09
END:VEVENT
BEGIN:VEVENT
DTSTART;TZID=UTC:20260528T183000
DTEND;TZID=UTC:20260528T200000
DTSTAMP:20260424T022202
CREATED:20250210T090920Z
LAST-MODIFIED:20260202T181507Z
UID:10015624-1779993000-1779998400@slaa-sfeb.org
SUMMARY:Men's Meeting
DESCRIPTION:Speakers: 1st\, 3rd\, 5th Thursday; Step Reading: 2nd\, 4th Thursdays; Chips: 4th Thursday. \nZoom link:\nhttps://us02web.zoom.us/j/87296314258?pwd=T0NzeXNWZlNHY1djMlQ4VzVST2Y2QT09 \nMeeting ID: 872 9631 4258\nPassword: 1823 \nDial by your location\n+1 669 900 6833 US (San Jose)\n+1 253 215 8782 US (Tacoma)\n+1 346 248 7799 US (Houston)\n+1 929 436 2866 US (New York)\n+1 301 715 8592 US (Germantown)\n+1 312 626 6799 US (Chicago)
URL:https://slaa-sfeb.org/event/hybrid-mens-meeting-2-2/2026-05-28/
CATEGORIES:Meeting: Zoom / Online
LOCATION:https://us02web.zoom.us/j/87296314258?pwd=T0NzeXNWZlNHY1djMlQ4VzVST2Y2QT09
END:VEVENT
BEGIN:VEVENT
DTSTART;TZID=UTC:20260604T183000
DTEND;TZID=UTC:20260604T200000
DTSTAMP:20260424T022202
CREATED:20250210T090920Z
LAST-MODIFIED:20260202T181507Z
UID:10015625-1780597800-1780603200@slaa-sfeb.org
SUMMARY:Men's Meeting
DESCRIPTION:Speakers: 1st\, 3rd\, 5th Thursday; Step Reading: 2nd\, 4th Thursdays; Chips: 4th Thursday. \nZoom link:\nhttps://us02web.zoom.us/j/87296314258?pwd=T0NzeXNWZlNHY1djMlQ4VzVST2Y2QT09 \nMeeting ID: 872 9631 4258\nPassword: 1823 \nDial by your location\n+1 669 900 6833 US (San Jose)\n+1 253 215 8782 US (Tacoma)\n+1 346 248 7799 US (Houston)\n+1 929 436 2866 US (New York)\n+1 301 715 8592 US (Germantown)\n+1 312 626 6799 US (Chicago)
URL:https://slaa-sfeb.org/event/hybrid-mens-meeting-2-2/2026-06-04/
CATEGORIES:Meeting: Zoom / Online
LOCATION:https://us02web.zoom.us/j/87296314258?pwd=T0NzeXNWZlNHY1djMlQ4VzVST2Y2QT09
END:VEVENT
BEGIN:VEVENT
DTSTART;TZID=UTC:20260611T183000
DTEND;TZID=UTC:20260611T200000
DTSTAMP:20260424T022202
CREATED:20250210T090920Z
LAST-MODIFIED:20260202T181507Z
UID:10015626-1781202600-1781208000@slaa-sfeb.org
SUMMARY:Men's Meeting
DESCRIPTION:Speakers: 1st\, 3rd\, 5th Thursday; Step Reading: 2nd\, 4th Thursdays; Chips: 4th Thursday. \nZoom link:\nhttps://us02web.zoom.us/j/87296314258?pwd=T0NzeXNWZlNHY1djMlQ4VzVST2Y2QT09 \nMeeting ID: 872 9631 4258\nPassword: 1823 \nDial by your location\n+1 669 900 6833 US (San Jose)\n+1 253 215 8782 US (Tacoma)\n+1 346 248 7799 US (Houston)\n+1 929 436 2866 US (New York)\n+1 301 715 8592 US (Germantown)\n+1 312 626 6799 US (Chicago)
URL:https://slaa-sfeb.org/event/hybrid-mens-meeting-2-2/2026-06-11/
CATEGORIES:Meeting: Zoom / Online
LOCATION:https://us02web.zoom.us/j/87296314258?pwd=T0NzeXNWZlNHY1djMlQ4VzVST2Y2QT09
END:VEVENT
BEGIN:VEVENT
DTSTART;TZID=UTC:20260618T183000
DTEND;TZID=UTC:20260618T200000
DTSTAMP:20260424T022202
CREATED:20250210T090920Z
LAST-MODIFIED:20260202T181507Z
UID:10015627-1781807400-1781812800@slaa-sfeb.org
SUMMARY:Men's Meeting
DESCRIPTION:Speakers: 1st\, 3rd\, 5th Thursday; Step Reading: 2nd\, 4th Thursdays; Chips: 4th Thursday. \nZoom link:\nhttps://us02web.zoom.us/j/87296314258?pwd=T0NzeXNWZlNHY1djMlQ4VzVST2Y2QT09 \nMeeting ID: 872 9631 4258\nPassword: 1823 \nDial by your location\n+1 669 900 6833 US (San Jose)\n+1 253 215 8782 US (Tacoma)\n+1 346 248 7799 US (Houston)\n+1 929 436 2866 US (New York)\n+1 301 715 8592 US (Germantown)\n+1 312 626 6799 US (Chicago)
URL:https://slaa-sfeb.org/event/hybrid-mens-meeting-2-2/2026-06-18/
CATEGORIES:Meeting: Zoom / Online
LOCATION:https://us02web.zoom.us/j/87296314258?pwd=T0NzeXNWZlNHY1djMlQ4VzVST2Y2QT09
END:VEVENT
BEGIN:VEVENT
DTSTART;TZID=UTC:20260625T183000
DTEND;TZID=UTC:20260625T200000
DTSTAMP:20260424T022202
CREATED:20250210T090920Z
LAST-MODIFIED:20260202T181507Z
UID:10015628-1782412200-1782417600@slaa-sfeb.org
SUMMARY:Men's Meeting
DESCRIPTION:Speakers: 1st\, 3rd\, 5th Thursday; Step Reading: 2nd\, 4th Thursdays; Chips: 4th Thursday. \nZoom link:\nhttps://us02web.zoom.us/j/87296314258?pwd=T0NzeXNWZlNHY1djMlQ4VzVST2Y2QT09 \nMeeting ID: 872 9631 4258\nPassword: 1823 \nDial by your location\n+1 669 900 6833 US (San Jose)\n+1 253 215 8782 US (Tacoma)\n+1 346 248 7799 US (Houston)\n+1 929 436 2866 US (New York)\n+1 301 715 8592 US (Germantown)\n+1 312 626 6799 US (Chicago)
URL:https://slaa-sfeb.org/event/hybrid-mens-meeting-2-2/2026-06-25/
CATEGORIES:Meeting: Zoom / Online
LOCATION:https://us02web.zoom.us/j/87296314258?pwd=T0NzeXNWZlNHY1djMlQ4VzVST2Y2QT09
END:VEVENT
BEGIN:VEVENT
DTSTART;TZID=UTC:20260702T183000
DTEND;TZID=UTC:20260702T200000
DTSTAMP:20260424T022202
CREATED:20250210T090920Z
LAST-MODIFIED:20260202T181507Z
UID:10015629-1783017000-1783022400@slaa-sfeb.org
SUMMARY:Men's Meeting
DESCRIPTION:Speakers: 1st\, 3rd\, 5th Thursday; Step Reading: 2nd\, 4th Thursdays; Chips: 4th Thursday. \nZoom link:\nhttps://us02web.zoom.us/j/87296314258?pwd=T0NzeXNWZlNHY1djMlQ4VzVST2Y2QT09 \nMeeting ID: 872 9631 4258\nPassword: 1823 \nDial by your location\n+1 669 900 6833 US (San Jose)\n+1 253 215 8782 US (Tacoma)\n+1 346 248 7799 US (Houston)\n+1 929 436 2866 US (New York)\n+1 301 715 8592 US (Germantown)\n+1 312 626 6799 US (Chicago)
URL:https://slaa-sfeb.org/event/hybrid-mens-meeting-2-2/2026-07-02/
CATEGORIES:Meeting: Zoom / Online
LOCATION:https://us02web.zoom.us/j/87296314258?pwd=T0NzeXNWZlNHY1djMlQ4VzVST2Y2QT09
END:VEVENT
BEGIN:VEVENT
DTSTART;TZID=UTC:20260709T183000
DTEND;TZID=UTC:20260709T200000
DTSTAMP:20260424T022202
CREATED:20250210T090920Z
LAST-MODIFIED:20260202T181507Z
UID:10015630-1783621800-1783627200@slaa-sfeb.org
SUMMARY:Men's Meeting
DESCRIPTION:Speakers: 1st\, 3rd\, 5th Thursday; Step Reading: 2nd\, 4th Thursdays; Chips: 4th Thursday. \nZoom link:\nhttps://us02web.zoom.us/j/87296314258?pwd=T0NzeXNWZlNHY1djMlQ4VzVST2Y2QT09 \nMeeting ID: 872 9631 4258\nPassword: 1823 \nDial by your location\n+1 669 900 6833 US (San Jose)\n+1 253 215 8782 US (Tacoma)\n+1 346 248 7799 US (Houston)\n+1 929 436 2866 US (New York)\n+1 301 715 8592 US (Germantown)\n+1 312 626 6799 US (Chicago)
URL:https://slaa-sfeb.org/event/hybrid-mens-meeting-2-2/2026-07-09/
CATEGORIES:Meeting: Zoom / Online
LOCATION:https://us02web.zoom.us/j/87296314258?pwd=T0NzeXNWZlNHY1djMlQ4VzVST2Y2QT09
END:VEVENT
BEGIN:VEVENT
DTSTART;TZID=UTC:20260716T183000
DTEND;TZID=UTC:20260716T200000
DTSTAMP:20260424T022202
CREATED:20250210T090920Z
LAST-MODIFIED:20260202T181507Z
UID:10015631-1784226600-1784232000@slaa-sfeb.org
SUMMARY:Men's Meeting
DESCRIPTION:Speakers: 1st\, 3rd\, 5th Thursday; Step Reading: 2nd\, 4th Thursdays; Chips: 4th Thursday. \nZoom link:\nhttps://us02web.zoom.us/j/87296314258?pwd=T0NzeXNWZlNHY1djMlQ4VzVST2Y2QT09 \nMeeting ID: 872 9631 4258\nPassword: 1823 \nDial by your location\n+1 669 900 6833 US (San Jose)\n+1 253 215 8782 US (Tacoma)\n+1 346 248 7799 US (Houston)\n+1 929 436 2866 US (New York)\n+1 301 715 8592 US (Germantown)\n+1 312 626 6799 US (Chicago)
URL:https://slaa-sfeb.org/event/hybrid-mens-meeting-2-2/2026-07-16/
CATEGORIES:Meeting: Zoom / Online
LOCATION:https://us02web.zoom.us/j/87296314258?pwd=T0NzeXNWZlNHY1djMlQ4VzVST2Y2QT09
END:VEVENT
BEGIN:VEVENT
DTSTART;TZID=UTC:20260723T183000
DTEND;TZID=UTC:20260723T200000
DTSTAMP:20260424T022202
CREATED:20250210T090920Z
LAST-MODIFIED:20260202T181507Z
UID:10015632-1784831400-1784836800@slaa-sfeb.org
SUMMARY:Men's Meeting
DESCRIPTION:Speakers: 1st\, 3rd\, 5th Thursday; Step Reading: 2nd\, 4th Thursdays; Chips: 4th Thursday. \nZoom link:\nhttps://us02web.zoom.us/j/87296314258?pwd=T0NzeXNWZlNHY1djMlQ4VzVST2Y2QT09 \nMeeting ID: 872 9631 4258\nPassword: 1823 \nDial by your location\n+1 669 900 6833 US (San Jose)\n+1 253 215 8782 US (Tacoma)\n+1 346 248 7799 US (Houston)\n+1 929 436 2866 US (New York)\n+1 301 715 8592 US (Germantown)\n+1 312 626 6799 US (Chicago)
URL:https://slaa-sfeb.org/event/hybrid-mens-meeting-2-2/2026-07-23/
CATEGORIES:Meeting: Zoom / Online
LOCATION:https://us02web.zoom.us/j/87296314258?pwd=T0NzeXNWZlNHY1djMlQ4VzVST2Y2QT09
END:VEVENT
BEGIN:VEVENT
DTSTART;TZID=UTC:20260730T183000
DTEND;TZID=UTC:20260730T200000
DTSTAMP:20260424T022202
CREATED:20250210T090920Z
LAST-MODIFIED:20260202T181507Z
UID:10015633-1785436200-1785441600@slaa-sfeb.org
SUMMARY:Men's Meeting
DESCRIPTION:Speakers: 1st\, 3rd\, 5th Thursday; Step Reading: 2nd\, 4th Thursdays; Chips: 4th Thursday. \nZoom link:\nhttps://us02web.zoom.us/j/87296314258?pwd=T0NzeXNWZlNHY1djMlQ4VzVST2Y2QT09 \nMeeting ID: 872 9631 4258\nPassword: 1823 \nDial by your location\n+1 669 900 6833 US (San Jose)\n+1 253 215 8782 US (Tacoma)\n+1 346 248 7799 US (Houston)\n+1 929 436 2866 US (New York)\n+1 301 715 8592 US (Germantown)\n+1 312 626 6799 US (Chicago)
URL:https://slaa-sfeb.org/event/hybrid-mens-meeting-2-2/2026-07-30/
CATEGORIES:Meeting: Zoom / Online
LOCATION:https://us02web.zoom.us/j/87296314258?pwd=T0NzeXNWZlNHY1djMlQ4VzVST2Y2QT09
END:VEVENT
BEGIN:VEVENT
DTSTART;TZID=UTC:20260806T183000
DTEND;TZID=UTC:20260806T200000
DTSTAMP:20260424T022202
CREATED:20250210T090920Z
LAST-MODIFIED:20260202T181507Z
UID:10015634-1786041000-1786046400@slaa-sfeb.org
SUMMARY:Men's Meeting
DESCRIPTION:Speakers: 1st\, 3rd\, 5th Thursday; Step Reading: 2nd\, 4th Thursdays; Chips: 4th Thursday. \nZoom link:\nhttps://us02web.zoom.us/j/87296314258?pwd=T0NzeXNWZlNHY1djMlQ4VzVST2Y2QT09 \nMeeting ID: 872 9631 4258\nPassword: 1823 \nDial by your location\n+1 669 900 6833 US (San Jose)\n+1 253 215 8782 US (Tacoma)\n+1 346 248 7799 US (Houston)\n+1 929 436 2866 US (New York)\n+1 301 715 8592 US (Germantown)\n+1 312 626 6799 US (Chicago)
URL:https://slaa-sfeb.org/event/hybrid-mens-meeting-2-2/2026-08-06/
CATEGORIES:Meeting: Zoom / Online
LOCATION:https://us02web.zoom.us/j/87296314258?pwd=T0NzeXNWZlNHY1djMlQ4VzVST2Y2QT09
END:VEVENT
BEGIN:VEVENT
DTSTART;TZID=UTC:20260813T183000
DTEND;TZID=UTC:20260813T200000
DTSTAMP:20260424T022202
CREATED:20250210T090920Z
LAST-MODIFIED:20260202T181507Z
UID:10015635-1786645800-1786651200@slaa-sfeb.org
SUMMARY:Men's Meeting
DESCRIPTION:Speakers: 1st\, 3rd\, 5th Thursday; Step Reading: 2nd\, 4th Thursdays; Chips: 4th Thursday. \nZoom link:\nhttps://us02web.zoom.us/j/87296314258?pwd=T0NzeXNWZlNHY1djMlQ4VzVST2Y2QT09 \nMeeting ID: 872 9631 4258\nPassword: 1823 \nDial by your location\n+1 669 900 6833 US (San Jose)\n+1 253 215 8782 US (Tacoma)\n+1 346 248 7799 US (Houston)\n+1 929 436 2866 US (New York)\n+1 301 715 8592 US (Germantown)\n+1 312 626 6799 US (Chicago)
URL:https://slaa-sfeb.org/event/hybrid-mens-meeting-2-2/2026-08-13/
CATEGORIES:Meeting: Zoom / Online
LOCATION:https://us02web.zoom.us/j/87296314258?pwd=T0NzeXNWZlNHY1djMlQ4VzVST2Y2QT09
END:VEVENT
BEGIN:VEVENT
DTSTART;TZID=UTC:20260820T183000
DTEND;TZID=UTC:20260820T200000
DTSTAMP:20260424T022202
CREATED:20250210T090920Z
LAST-MODIFIED:20260202T181507Z
UID:10015636-1787250600-1787256000@slaa-sfeb.org
SUMMARY:Men's Meeting
DESCRIPTION:Speakers: 1st\, 3rd\, 5th Thursday; Step Reading: 2nd\, 4th Thursdays; Chips: 4th Thursday. \nZoom link:\nhttps://us02web.zoom.us/j/87296314258?pwd=T0NzeXNWZlNHY1djMlQ4VzVST2Y2QT09 \nMeeting ID: 872 9631 4258\nPassword: 1823 \nDial by your location\n+1 669 900 6833 US (San Jose)\n+1 253 215 8782 US (Tacoma)\n+1 346 248 7799 US (Houston)\n+1 929 436 2866 US (New York)\n+1 301 715 8592 US (Germantown)\n+1 312 626 6799 US (Chicago)
URL:https://slaa-sfeb.org/event/hybrid-mens-meeting-2-2/2026-08-20/
CATEGORIES:Meeting: Zoom / Online
LOCATION:https://us02web.zoom.us/j/87296314258?pwd=T0NzeXNWZlNHY1djMlQ4VzVST2Y2QT09
END:VEVENT
BEGIN:VEVENT
DTSTART;TZID=UTC:20260827T183000
DTEND;TZID=UTC:20260827T200000
DTSTAMP:20260424T022202
CREATED:20250210T090920Z
LAST-MODIFIED:20260202T181507Z
UID:10015637-1787855400-1787860800@slaa-sfeb.org
SUMMARY:Men's Meeting
DESCRIPTION:Speakers: 1st\, 3rd\, 5th Thursday; Step Reading: 2nd\, 4th Thursdays; Chips: 4th Thursday. \nZoom link:\nhttps://us02web.zoom.us/j/87296314258?pwd=T0NzeXNWZlNHY1djMlQ4VzVST2Y2QT09 \nMeeting ID: 872 9631 4258\nPassword: 1823 \nDial by your location\n+1 669 900 6833 US (San Jose)\n+1 253 215 8782 US (Tacoma)\n+1 346 248 7799 US (Houston)\n+1 929 436 2866 US (New York)\n+1 301 715 8592 US (Germantown)\n+1 312 626 6799 US (Chicago)
URL:https://slaa-sfeb.org/event/hybrid-mens-meeting-2-2/2026-08-27/
CATEGORIES:Meeting: Zoom / Online
LOCATION:https://us02web.zoom.us/j/87296314258?pwd=T0NzeXNWZlNHY1djMlQ4VzVST2Y2QT09
END:VEVENT
BEGIN:VEVENT
DTSTART;TZID=UTC:20260903T183000
DTEND;TZID=UTC:20260903T200000
DTSTAMP:20260424T022202
CREATED:20250210T090920Z
LAST-MODIFIED:20260202T181507Z
UID:10015638-1788460200-1788465600@slaa-sfeb.org
SUMMARY:Men's Meeting
DESCRIPTION:Speakers: 1st\, 3rd\, 5th Thursday; Step Reading: 2nd\, 4th Thursdays; Chips: 4th Thursday. \nZoom link:\nhttps://us02web.zoom.us/j/87296314258?pwd=T0NzeXNWZlNHY1djMlQ4VzVST2Y2QT09 \nMeeting ID: 872 9631 4258\nPassword: 1823 \nDial by your location\n+1 669 900 6833 US (San Jose)\n+1 253 215 8782 US (Tacoma)\n+1 346 248 7799 US (Houston)\n+1 929 436 2866 US (New York)\n+1 301 715 8592 US (Germantown)\n+1 312 626 6799 US (Chicago)
URL:https://slaa-sfeb.org/event/hybrid-mens-meeting-2-2/2026-09-03/
CATEGORIES:Meeting: Zoom / Online
LOCATION:https://us02web.zoom.us/j/87296314258?pwd=T0NzeXNWZlNHY1djMlQ4VzVST2Y2QT09
END:VEVENT
BEGIN:VEVENT
DTSTART;TZID=UTC:20260910T183000
DTEND;TZID=UTC:20260910T200000
DTSTAMP:20260424T022202
CREATED:20250210T090920Z
LAST-MODIFIED:20260202T181507Z
UID:10015639-1789065000-1789070400@slaa-sfeb.org
SUMMARY:Men's Meeting
DESCRIPTION:Speakers: 1st\, 3rd\, 5th Thursday; Step Reading: 2nd\, 4th Thursdays; Chips: 4th Thursday. \nZoom link:\nhttps://us02web.zoom.us/j/87296314258?pwd=T0NzeXNWZlNHY1djMlQ4VzVST2Y2QT09 \nMeeting ID: 872 9631 4258\nPassword: 1823 \nDial by your location\n+1 669 900 6833 US (San Jose)\n+1 253 215 8782 US (Tacoma)\n+1 346 248 7799 US (Houston)\n+1 929 436 2866 US (New York)\n+1 301 715 8592 US (Germantown)\n+1 312 626 6799 US (Chicago)
URL:https://slaa-sfeb.org/event/hybrid-mens-meeting-2-2/2026-09-10/
CATEGORIES:Meeting: Zoom / Online
LOCATION:https://us02web.zoom.us/j/87296314258?pwd=T0NzeXNWZlNHY1djMlQ4VzVST2Y2QT09
END:VEVENT
BEGIN:VEVENT
DTSTART;TZID=UTC:20260917T183000
DTEND;TZID=UTC:20260917T200000
DTSTAMP:20260424T022202
CREATED:20250210T090920Z
LAST-MODIFIED:20260202T181507Z
UID:10015640-1789669800-1789675200@slaa-sfeb.org
SUMMARY:Men's Meeting
DESCRIPTION:Speakers: 1st\, 3rd\, 5th Thursday; Step Reading: 2nd\, 4th Thursdays; Chips: 4th Thursday. \nZoom link:\nhttps://us02web.zoom.us/j/87296314258?pwd=T0NzeXNWZlNHY1djMlQ4VzVST2Y2QT09 \nMeeting ID: 872 9631 4258\nPassword: 1823 \nDial by your location\n+1 669 900 6833 US (San Jose)\n+1 253 215 8782 US (Tacoma)\n+1 346 248 7799 US (Houston)\n+1 929 436 2866 US (New York)\n+1 301 715 8592 US (Germantown)\n+1 312 626 6799 US (Chicago)
URL:https://slaa-sfeb.org/event/hybrid-mens-meeting-2-2/2026-09-17/
CATEGORIES:Meeting: Zoom / Online
LOCATION:https://us02web.zoom.us/j/87296314258?pwd=T0NzeXNWZlNHY1djMlQ4VzVST2Y2QT09
END:VEVENT
BEGIN:VEVENT
DTSTART;TZID=UTC:20260924T183000
DTEND;TZID=UTC:20260924T200000
DTSTAMP:20260424T022202
CREATED:20250210T090920Z
LAST-MODIFIED:20260202T181507Z
UID:10015641-1790274600-1790280000@slaa-sfeb.org
SUMMARY:Men's Meeting
DESCRIPTION:Speakers: 1st\, 3rd\, 5th Thursday; Step Reading: 2nd\, 4th Thursdays; Chips: 4th Thursday. \nZoom link:\nhttps://us02web.zoom.us/j/87296314258?pwd=T0NzeXNWZlNHY1djMlQ4VzVST2Y2QT09 \nMeeting ID: 872 9631 4258\nPassword: 1823 \nDial by your location\n+1 669 900 6833 US (San Jose)\n+1 253 215 8782 US (Tacoma)\n+1 346 248 7799 US (Houston)\n+1 929 436 2866 US (New York)\n+1 301 715 8592 US (Germantown)\n+1 312 626 6799 US (Chicago)
URL:https://slaa-sfeb.org/event/hybrid-mens-meeting-2-2/2026-09-24/
CATEGORIES:Meeting: Zoom / Online
LOCATION:https://us02web.zoom.us/j/87296314258?pwd=T0NzeXNWZlNHY1djMlQ4VzVST2Y2QT09
END:VEVENT
BEGIN:VEVENT
DTSTART;TZID=UTC:20261001T183000
DTEND;TZID=UTC:20261001T200000
DTSTAMP:20260424T022202
CREATED:20250210T090920Z
LAST-MODIFIED:20260202T181507Z
UID:10015642-1790879400-1790884800@slaa-sfeb.org
SUMMARY:Men's Meeting
DESCRIPTION:Speakers: 1st\, 3rd\, 5th Thursday; Step Reading: 2nd\, 4th Thursdays; Chips: 4th Thursday. \nZoom link:\nhttps://us02web.zoom.us/j/87296314258?pwd=T0NzeXNWZlNHY1djMlQ4VzVST2Y2QT09 \nMeeting ID: 872 9631 4258\nPassword: 1823 \nDial by your location\n+1 669 900 6833 US (San Jose)\n+1 253 215 8782 US (Tacoma)\n+1 346 248 7799 US (Houston)\n+1 929 436 2866 US (New York)\n+1 301 715 8592 US (Germantown)\n+1 312 626 6799 US (Chicago)
URL:https://slaa-sfeb.org/event/hybrid-mens-meeting-2-2/2026-10-01/
CATEGORIES:Meeting: Zoom / Online
LOCATION:https://us02web.zoom.us/j/87296314258?pwd=T0NzeXNWZlNHY1djMlQ4VzVST2Y2QT09
END:VEVENT
BEGIN:VEVENT
DTSTART;TZID=UTC:20261008T183000
DTEND;TZID=UTC:20261008T200000
DTSTAMP:20260424T022202
CREATED:20250210T090920Z
LAST-MODIFIED:20260202T181507Z
UID:10015643-1791484200-1791489600@slaa-sfeb.org
SUMMARY:Men's Meeting
DESCRIPTION:Speakers: 1st\, 3rd\, 5th Thursday; Step Reading: 2nd\, 4th Thursdays; Chips: 4th Thursday. \nZoom link:\nhttps://us02web.zoom.us/j/87296314258?pwd=T0NzeXNWZlNHY1djMlQ4VzVST2Y2QT09 \nMeeting ID: 872 9631 4258\nPassword: 1823 \nDial by your location\n+1 669 900 6833 US (San Jose)\n+1 253 215 8782 US (Tacoma)\n+1 346 248 7799 US (Houston)\n+1 929 436 2866 US (New York)\n+1 301 715 8592 US (Germantown)\n+1 312 626 6799 US (Chicago)
URL:https://slaa-sfeb.org/event/hybrid-mens-meeting-2-2/2026-10-08/
CATEGORIES:Meeting: Zoom / Online
LOCATION:https://us02web.zoom.us/j/87296314258?pwd=T0NzeXNWZlNHY1djMlQ4VzVST2Y2QT09
END:VEVENT
BEGIN:VEVENT
DTSTART;TZID=UTC:20261015T183000
DTEND;TZID=UTC:20261015T200000
DTSTAMP:20260424T022202
CREATED:20250210T090920Z
LAST-MODIFIED:20260202T181507Z
UID:10015644-1792089000-1792094400@slaa-sfeb.org
SUMMARY:Men's Meeting
DESCRIPTION:Speakers: 1st\, 3rd\, 5th Thursday; Step Reading: 2nd\, 4th Thursdays; Chips: 4th Thursday. \nZoom link:\nhttps://us02web.zoom.us/j/87296314258?pwd=T0NzeXNWZlNHY1djMlQ4VzVST2Y2QT09 \nMeeting ID: 872 9631 4258\nPassword: 1823 \nDial by your location\n+1 669 900 6833 US (San Jose)\n+1 253 215 8782 US (Tacoma)\n+1 346 248 7799 US (Houston)\n+1 929 436 2866 US (New York)\n+1 301 715 8592 US (Germantown)\n+1 312 626 6799 US (Chicago)
URL:https://slaa-sfeb.org/event/hybrid-mens-meeting-2-2/2026-10-15/
CATEGORIES:Meeting: Zoom / Online
LOCATION:https://us02web.zoom.us/j/87296314258?pwd=T0NzeXNWZlNHY1djMlQ4VzVST2Y2QT09
END:VEVENT
BEGIN:VEVENT
DTSTART;TZID=UTC:20261022T183000
DTEND;TZID=UTC:20261022T200000
DTSTAMP:20260424T022202
CREATED:20250210T090920Z
LAST-MODIFIED:20260202T181507Z
UID:10015645-1792693800-1792699200@slaa-sfeb.org
SUMMARY:Men's Meeting
DESCRIPTION:Speakers: 1st\, 3rd\, 5th Thursday; Step Reading: 2nd\, 4th Thursdays; Chips: 4th Thursday. \nZoom link:\nhttps://us02web.zoom.us/j/87296314258?pwd=T0NzeXNWZlNHY1djMlQ4VzVST2Y2QT09 \nMeeting ID: 872 9631 4258\nPassword: 1823 \nDial by your location\n+1 669 900 6833 US (San Jose)\n+1 253 215 8782 US (Tacoma)\n+1 346 248 7799 US (Houston)\n+1 929 436 2866 US (New York)\n+1 301 715 8592 US (Germantown)\n+1 312 626 6799 US (Chicago)
URL:https://slaa-sfeb.org/event/hybrid-mens-meeting-2-2/2026-10-22/
CATEGORIES:Meeting: Zoom / Online
LOCATION:https://us02web.zoom.us/j/87296314258?pwd=T0NzeXNWZlNHY1djMlQ4VzVST2Y2QT09
END:VEVENT
BEGIN:VEVENT
DTSTART;TZID=UTC:20261029T183000
DTEND;TZID=UTC:20261029T200000
DTSTAMP:20260424T022202
CREATED:20250210T090920Z
LAST-MODIFIED:20260202T181507Z
UID:10015646-1793298600-1793304000@slaa-sfeb.org
SUMMARY:Men's Meeting
DESCRIPTION:Speakers: 1st\, 3rd\, 5th Thursday; Step Reading: 2nd\, 4th Thursdays; Chips: 4th Thursday. \nZoom link:\nhttps://us02web.zoom.us/j/87296314258?pwd=T0NzeXNWZlNHY1djMlQ4VzVST2Y2QT09 \nMeeting ID: 872 9631 4258\nPassword: 1823 \nDial by your location\n+1 669 900 6833 US (San Jose)\n+1 253 215 8782 US (Tacoma)\n+1 346 248 7799 US (Houston)\n+1 929 436 2866 US (New York)\n+1 301 715 8592 US (Germantown)\n+1 312 626 6799 US (Chicago)
URL:https://slaa-sfeb.org/event/hybrid-mens-meeting-2-2/2026-10-29/
CATEGORIES:Meeting: Zoom / Online
LOCATION:https://us02web.zoom.us/j/87296314258?pwd=T0NzeXNWZlNHY1djMlQ4VzVST2Y2QT09
END:VEVENT
BEGIN:VEVENT
DTSTART;TZID=UTC:20261105T183000
DTEND;TZID=UTC:20261105T200000
DTSTAMP:20260424T022202
CREATED:20250210T090920Z
LAST-MODIFIED:20260202T181507Z
UID:10015647-1793903400-1793908800@slaa-sfeb.org
SUMMARY:Men's Meeting
DESCRIPTION:Speakers: 1st\, 3rd\, 5th Thursday; Step Reading: 2nd\, 4th Thursdays; Chips: 4th Thursday. \nZoom link:\nhttps://us02web.zoom.us/j/87296314258?pwd=T0NzeXNWZlNHY1djMlQ4VzVST2Y2QT09 \nMeeting ID: 872 9631 4258\nPassword: 1823 \nDial by your location\n+1 669 900 6833 US (San Jose)\n+1 253 215 8782 US (Tacoma)\n+1 346 248 7799 US (Houston)\n+1 929 436 2866 US (New York)\n+1 301 715 8592 US (Germantown)\n+1 312 626 6799 US (Chicago)
URL:https://slaa-sfeb.org/event/hybrid-mens-meeting-2-2/2026-11-05/
CATEGORIES:Meeting: Zoom / Online
LOCATION:https://us02web.zoom.us/j/87296314258?pwd=T0NzeXNWZlNHY1djMlQ4VzVST2Y2QT09
END:VEVENT
BEGIN:VEVENT
DTSTART;TZID=UTC:20261112T183000
DTEND;TZID=UTC:20261112T200000
DTSTAMP:20260424T022202
CREATED:20250210T090920Z
LAST-MODIFIED:20260202T181507Z
UID:10015648-1794508200-1794513600@slaa-sfeb.org
SUMMARY:Men's Meeting
DESCRIPTION:Speakers: 1st\, 3rd\, 5th Thursday; Step Reading: 2nd\, 4th Thursdays; Chips: 4th Thursday. \nZoom link:\nhttps://us02web.zoom.us/j/87296314258?pwd=T0NzeXNWZlNHY1djMlQ4VzVST2Y2QT09 \nMeeting ID: 872 9631 4258\nPassword: 1823 \nDial by your location\n+1 669 900 6833 US (San Jose)\n+1 253 215 8782 US (Tacoma)\n+1 346 248 7799 US (Houston)\n+1 929 436 2866 US (New York)\n+1 301 715 8592 US (Germantown)\n+1 312 626 6799 US (Chicago)
URL:https://slaa-sfeb.org/event/hybrid-mens-meeting-2-2/2026-11-12/
CATEGORIES:Meeting: Zoom / Online
LOCATION:https://us02web.zoom.us/j/87296314258?pwd=T0NzeXNWZlNHY1djMlQ4VzVST2Y2QT09
END:VEVENT
BEGIN:VEVENT
DTSTART;TZID=UTC:20261119T183000
DTEND;TZID=UTC:20261119T200000
DTSTAMP:20260424T022202
CREATED:20250210T090920Z
LAST-MODIFIED:20260202T181507Z
UID:10015649-1795113000-1795118400@slaa-sfeb.org
SUMMARY:Men's Meeting
DESCRIPTION:Speakers: 1st\, 3rd\, 5th Thursday; Step Reading: 2nd\, 4th Thursdays; Chips: 4th Thursday. \nZoom link:\nhttps://us02web.zoom.us/j/87296314258?pwd=T0NzeXNWZlNHY1djMlQ4VzVST2Y2QT09 \nMeeting ID: 872 9631 4258\nPassword: 1823 \nDial by your location\n+1 669 900 6833 US (San Jose)\n+1 253 215 8782 US (Tacoma)\n+1 346 248 7799 US (Houston)\n+1 929 436 2866 US (New York)\n+1 301 715 8592 US (Germantown)\n+1 312 626 6799 US (Chicago)
URL:https://slaa-sfeb.org/event/hybrid-mens-meeting-2-2/2026-11-19/
CATEGORIES:Meeting: Zoom / Online
LOCATION:https://us02web.zoom.us/j/87296314258?pwd=T0NzeXNWZlNHY1djMlQ4VzVST2Y2QT09
END:VEVENT
END:VCALENDAR