
BEGIN:VCALENDAR
VERSION:2.0
PRODID:-//San Francisco / East Bay SLAA - ECPv6.15.20//NONSGML v1.0//EN
CALSCALE:GREGORIAN
METHOD:PUBLISH
X-WR-CALNAME:San Francisco / East Bay SLAA
X-ORIGINAL-URL:https://slaa-sfeb.org
X-WR-CALDESC:Events for San Francisco / East Bay SLAA
REFRESH-INTERVAL;VALUE=DURATION:PT1H
X-Robots-Tag:noindex
X-PUBLISHED-TTL:PT1H
BEGIN:VTIMEZONE
TZID:UTC
BEGIN:STANDARD
TZOFFSETFROM:+0000
TZOFFSETTO:+0000
TZNAME:UTC
DTSTART:20250101T000000
END:STANDARD
END:VTIMEZONE
BEGIN:VEVENT
DTSTART;TZID=UTC:20260426T183000
DTEND;TZID=UTC:20260426T193000
DTSTAMP:20260423T222655
CREATED:20240807T125512Z
LAST-MODIFIED:20250201T064350Z
UID:10012737-1777228200-1777231800@slaa-sfeb.org
SUMMARY:EB: Trans\, GQ & Women's Meeting
DESCRIPTION:Step Study 3rd\, Speaker 2nd & 4th\, Business meeting 1st. \nSt Pauls Lutheran Church\n1658 Excelsior Ave\, Oakland\, CA 94602\n*Entrance on Woodruff Ave\n*Ramp entrance on Excelsior Ave \nC\, SC\, 12\, GC\, WA\, S\, SD\, NC\, GL. 
URL:https://slaa-sfeb.org/event/trans-gq-womens-meeting/2026-04-26/
LOCATION:St Pauls Lutheran Church\, 1658 Excelsior Ave\, Oakland\, CA\, United States
CATEGORIES:Meeting: In-Person
END:VEVENT
BEGIN:VEVENT
DTSTART;TZID=UTC:20260503T183000
DTEND;TZID=UTC:20260503T193000
DTSTAMP:20260423T222655
CREATED:20240807T125512Z
LAST-MODIFIED:20250201T064350Z
UID:10012738-1777833000-1777836600@slaa-sfeb.org
SUMMARY:EB: Trans\, GQ & Women's Meeting
DESCRIPTION:Step Study 3rd\, Speaker 2nd & 4th\, Business meeting 1st. \nSt Pauls Lutheran Church\n1658 Excelsior Ave\, Oakland\, CA 94602\n*Entrance on Woodruff Ave\n*Ramp entrance on Excelsior Ave \nC\, SC\, 12\, GC\, WA\, S\, SD\, NC\, GL. 
URL:https://slaa-sfeb.org/event/trans-gq-womens-meeting/2026-05-03/
LOCATION:St Pauls Lutheran Church\, 1658 Excelsior Ave\, Oakland\, CA\, United States
CATEGORIES:Meeting: In-Person
END:VEVENT
BEGIN:VEVENT
DTSTART;TZID=UTC:20260510T183000
DTEND;TZID=UTC:20260510T193000
DTSTAMP:20260423T222655
CREATED:20240807T125512Z
LAST-MODIFIED:20250201T064350Z
UID:10012739-1778437800-1778441400@slaa-sfeb.org
SUMMARY:EB: Trans\, GQ & Women's Meeting
DESCRIPTION:Step Study 3rd\, Speaker 2nd & 4th\, Business meeting 1st. \nSt Pauls Lutheran Church\n1658 Excelsior Ave\, Oakland\, CA 94602\n*Entrance on Woodruff Ave\n*Ramp entrance on Excelsior Ave \nC\, SC\, 12\, GC\, WA\, S\, SD\, NC\, GL. 
URL:https://slaa-sfeb.org/event/trans-gq-womens-meeting/2026-05-10/
LOCATION:St Pauls Lutheran Church\, 1658 Excelsior Ave\, Oakland\, CA\, United States
CATEGORIES:Meeting: In-Person
END:VEVENT
BEGIN:VEVENT
DTSTART;TZID=UTC:20260517T183000
DTEND;TZID=UTC:20260517T193000
DTSTAMP:20260423T222655
CREATED:20240807T125512Z
LAST-MODIFIED:20250201T064350Z
UID:10012740-1779042600-1779046200@slaa-sfeb.org
SUMMARY:EB: Trans\, GQ & Women's Meeting
DESCRIPTION:Step Study 3rd\, Speaker 2nd & 4th\, Business meeting 1st. \nSt Pauls Lutheran Church\n1658 Excelsior Ave\, Oakland\, CA 94602\n*Entrance on Woodruff Ave\n*Ramp entrance on Excelsior Ave \nC\, SC\, 12\, GC\, WA\, S\, SD\, NC\, GL. 
URL:https://slaa-sfeb.org/event/trans-gq-womens-meeting/2026-05-17/
LOCATION:St Pauls Lutheran Church\, 1658 Excelsior Ave\, Oakland\, CA\, United States
CATEGORIES:Meeting: In-Person
END:VEVENT
BEGIN:VEVENT
DTSTART;TZID=UTC:20260524T183000
DTEND;TZID=UTC:20260524T193000
DTSTAMP:20260423T222655
CREATED:20240807T125512Z
LAST-MODIFIED:20250201T064350Z
UID:10012741-1779647400-1779651000@slaa-sfeb.org
SUMMARY:EB: Trans\, GQ & Women's Meeting
DESCRIPTION:Step Study 3rd\, Speaker 2nd & 4th\, Business meeting 1st. \nSt Pauls Lutheran Church\n1658 Excelsior Ave\, Oakland\, CA 94602\n*Entrance on Woodruff Ave\n*Ramp entrance on Excelsior Ave \nC\, SC\, 12\, GC\, WA\, S\, SD\, NC\, GL. 
URL:https://slaa-sfeb.org/event/trans-gq-womens-meeting/2026-05-24/
LOCATION:St Pauls Lutheran Church\, 1658 Excelsior Ave\, Oakland\, CA\, United States
CATEGORIES:Meeting: In-Person
END:VEVENT
BEGIN:VEVENT
DTSTART;TZID=UTC:20260531T183000
DTEND;TZID=UTC:20260531T193000
DTSTAMP:20260423T222655
CREATED:20240807T125512Z
LAST-MODIFIED:20250201T064350Z
UID:10012742-1780252200-1780255800@slaa-sfeb.org
SUMMARY:EB: Trans\, GQ & Women's Meeting
DESCRIPTION:Step Study 3rd\, Speaker 2nd & 4th\, Business meeting 1st. \nSt Pauls Lutheran Church\n1658 Excelsior Ave\, Oakland\, CA 94602\n*Entrance on Woodruff Ave\n*Ramp entrance on Excelsior Ave \nC\, SC\, 12\, GC\, WA\, S\, SD\, NC\, GL. 
URL:https://slaa-sfeb.org/event/trans-gq-womens-meeting/2026-05-31/
LOCATION:St Pauls Lutheran Church\, 1658 Excelsior Ave\, Oakland\, CA\, United States
CATEGORIES:Meeting: In-Person
END:VEVENT
BEGIN:VEVENT
DTSTART;TZID=UTC:20260607T183000
DTEND;TZID=UTC:20260607T193000
DTSTAMP:20260423T222655
CREATED:20240807T125512Z
LAST-MODIFIED:20250201T064350Z
UID:10012743-1780857000-1780860600@slaa-sfeb.org
SUMMARY:EB: Trans\, GQ & Women's Meeting
DESCRIPTION:Step Study 3rd\, Speaker 2nd & 4th\, Business meeting 1st. \nSt Pauls Lutheran Church\n1658 Excelsior Ave\, Oakland\, CA 94602\n*Entrance on Woodruff Ave\n*Ramp entrance on Excelsior Ave \nC\, SC\, 12\, GC\, WA\, S\, SD\, NC\, GL. 
URL:https://slaa-sfeb.org/event/trans-gq-womens-meeting/2026-06-07/
LOCATION:St Pauls Lutheran Church\, 1658 Excelsior Ave\, Oakland\, CA\, United States
CATEGORIES:Meeting: In-Person
END:VEVENT
BEGIN:VEVENT
DTSTART;TZID=UTC:20260614T183000
DTEND;TZID=UTC:20260614T193000
DTSTAMP:20260423T222655
CREATED:20240807T125512Z
LAST-MODIFIED:20250201T064350Z
UID:10012744-1781461800-1781465400@slaa-sfeb.org
SUMMARY:EB: Trans\, GQ & Women's Meeting
DESCRIPTION:Step Study 3rd\, Speaker 2nd & 4th\, Business meeting 1st. \nSt Pauls Lutheran Church\n1658 Excelsior Ave\, Oakland\, CA 94602\n*Entrance on Woodruff Ave\n*Ramp entrance on Excelsior Ave \nC\, SC\, 12\, GC\, WA\, S\, SD\, NC\, GL. 
URL:https://slaa-sfeb.org/event/trans-gq-womens-meeting/2026-06-14/
LOCATION:St Pauls Lutheran Church\, 1658 Excelsior Ave\, Oakland\, CA\, United States
CATEGORIES:Meeting: In-Person
END:VEVENT
BEGIN:VEVENT
DTSTART;TZID=UTC:20260621T183000
DTEND;TZID=UTC:20260621T193000
DTSTAMP:20260423T222655
CREATED:20240807T125512Z
LAST-MODIFIED:20250201T064350Z
UID:10012745-1782066600-1782070200@slaa-sfeb.org
SUMMARY:EB: Trans\, GQ & Women's Meeting
DESCRIPTION:Step Study 3rd\, Speaker 2nd & 4th\, Business meeting 1st. \nSt Pauls Lutheran Church\n1658 Excelsior Ave\, Oakland\, CA 94602\n*Entrance on Woodruff Ave\n*Ramp entrance on Excelsior Ave \nC\, SC\, 12\, GC\, WA\, S\, SD\, NC\, GL. 
URL:https://slaa-sfeb.org/event/trans-gq-womens-meeting/2026-06-21/
LOCATION:St Pauls Lutheran Church\, 1658 Excelsior Ave\, Oakland\, CA\, United States
CATEGORIES:Meeting: In-Person
END:VEVENT
BEGIN:VEVENT
DTSTART;TZID=UTC:20260628T183000
DTEND;TZID=UTC:20260628T193000
DTSTAMP:20260423T222655
CREATED:20240807T125512Z
LAST-MODIFIED:20250201T064350Z
UID:10012746-1782671400-1782675000@slaa-sfeb.org
SUMMARY:EB: Trans\, GQ & Women's Meeting
DESCRIPTION:Step Study 3rd\, Speaker 2nd & 4th\, Business meeting 1st. \nSt Pauls Lutheran Church\n1658 Excelsior Ave\, Oakland\, CA 94602\n*Entrance on Woodruff Ave\n*Ramp entrance on Excelsior Ave \nC\, SC\, 12\, GC\, WA\, S\, SD\, NC\, GL. 
URL:https://slaa-sfeb.org/event/trans-gq-womens-meeting/2026-06-28/
LOCATION:St Pauls Lutheran Church\, 1658 Excelsior Ave\, Oakland\, CA\, United States
CATEGORIES:Meeting: In-Person
END:VEVENT
BEGIN:VEVENT
DTSTART;TZID=UTC:20260705T183000
DTEND;TZID=UTC:20260705T193000
DTSTAMP:20260423T222655
CREATED:20240807T125512Z
LAST-MODIFIED:20250201T064350Z
UID:10012747-1783276200-1783279800@slaa-sfeb.org
SUMMARY:EB: Trans\, GQ & Women's Meeting
DESCRIPTION:Step Study 3rd\, Speaker 2nd & 4th\, Business meeting 1st. \nSt Pauls Lutheran Church\n1658 Excelsior Ave\, Oakland\, CA 94602\n*Entrance on Woodruff Ave\n*Ramp entrance on Excelsior Ave \nC\, SC\, 12\, GC\, WA\, S\, SD\, NC\, GL. 
URL:https://slaa-sfeb.org/event/trans-gq-womens-meeting/2026-07-05/
LOCATION:St Pauls Lutheran Church\, 1658 Excelsior Ave\, Oakland\, CA\, United States
CATEGORIES:Meeting: In-Person
END:VEVENT
BEGIN:VEVENT
DTSTART;TZID=UTC:20260712T183000
DTEND;TZID=UTC:20260712T193000
DTSTAMP:20260423T222655
CREATED:20240807T125512Z
LAST-MODIFIED:20250201T064350Z
UID:10012748-1783881000-1783884600@slaa-sfeb.org
SUMMARY:EB: Trans\, GQ & Women's Meeting
DESCRIPTION:Step Study 3rd\, Speaker 2nd & 4th\, Business meeting 1st. \nSt Pauls Lutheran Church\n1658 Excelsior Ave\, Oakland\, CA 94602\n*Entrance on Woodruff Ave\n*Ramp entrance on Excelsior Ave \nC\, SC\, 12\, GC\, WA\, S\, SD\, NC\, GL. 
URL:https://slaa-sfeb.org/event/trans-gq-womens-meeting/2026-07-12/
LOCATION:St Pauls Lutheran Church\, 1658 Excelsior Ave\, Oakland\, CA\, United States
CATEGORIES:Meeting: In-Person
END:VEVENT
BEGIN:VEVENT
DTSTART;TZID=UTC:20260719T183000
DTEND;TZID=UTC:20260719T193000
DTSTAMP:20260423T222655
CREATED:20240807T125512Z
LAST-MODIFIED:20250201T064350Z
UID:10012749-1784485800-1784489400@slaa-sfeb.org
SUMMARY:EB: Trans\, GQ & Women's Meeting
DESCRIPTION:Step Study 3rd\, Speaker 2nd & 4th\, Business meeting 1st. \nSt Pauls Lutheran Church\n1658 Excelsior Ave\, Oakland\, CA 94602\n*Entrance on Woodruff Ave\n*Ramp entrance on Excelsior Ave \nC\, SC\, 12\, GC\, WA\, S\, SD\, NC\, GL. 
URL:https://slaa-sfeb.org/event/trans-gq-womens-meeting/2026-07-19/
LOCATION:St Pauls Lutheran Church\, 1658 Excelsior Ave\, Oakland\, CA\, United States
CATEGORIES:Meeting: In-Person
END:VEVENT
BEGIN:VEVENT
DTSTART;TZID=UTC:20260726T183000
DTEND;TZID=UTC:20260726T193000
DTSTAMP:20260423T222655
CREATED:20240807T125512Z
LAST-MODIFIED:20250201T064350Z
UID:10012750-1785090600-1785094200@slaa-sfeb.org
SUMMARY:EB: Trans\, GQ & Women's Meeting
DESCRIPTION:Step Study 3rd\, Speaker 2nd & 4th\, Business meeting 1st. \nSt Pauls Lutheran Church\n1658 Excelsior Ave\, Oakland\, CA 94602\n*Entrance on Woodruff Ave\n*Ramp entrance on Excelsior Ave \nC\, SC\, 12\, GC\, WA\, S\, SD\, NC\, GL. 
URL:https://slaa-sfeb.org/event/trans-gq-womens-meeting/2026-07-26/
LOCATION:St Pauls Lutheran Church\, 1658 Excelsior Ave\, Oakland\, CA\, United States
CATEGORIES:Meeting: In-Person
END:VEVENT
BEGIN:VEVENT
DTSTART;TZID=UTC:20260802T183000
DTEND;TZID=UTC:20260802T193000
DTSTAMP:20260423T222655
CREATED:20240807T125512Z
LAST-MODIFIED:20250201T064350Z
UID:10012751-1785695400-1785699000@slaa-sfeb.org
SUMMARY:EB: Trans\, GQ & Women's Meeting
DESCRIPTION:Step Study 3rd\, Speaker 2nd & 4th\, Business meeting 1st. \nSt Pauls Lutheran Church\n1658 Excelsior Ave\, Oakland\, CA 94602\n*Entrance on Woodruff Ave\n*Ramp entrance on Excelsior Ave \nC\, SC\, 12\, GC\, WA\, S\, SD\, NC\, GL. 
URL:https://slaa-sfeb.org/event/trans-gq-womens-meeting/2026-08-02/
LOCATION:St Pauls Lutheran Church\, 1658 Excelsior Ave\, Oakland\, CA\, United States
CATEGORIES:Meeting: In-Person
END:VEVENT
BEGIN:VEVENT
DTSTART;TZID=UTC:20260809T183000
DTEND;TZID=UTC:20260809T193000
DTSTAMP:20260423T222655
CREATED:20240807T125512Z
LAST-MODIFIED:20250201T064350Z
UID:10012752-1786300200-1786303800@slaa-sfeb.org
SUMMARY:EB: Trans\, GQ & Women's Meeting
DESCRIPTION:Step Study 3rd\, Speaker 2nd & 4th\, Business meeting 1st. \nSt Pauls Lutheran Church\n1658 Excelsior Ave\, Oakland\, CA 94602\n*Entrance on Woodruff Ave\n*Ramp entrance on Excelsior Ave \nC\, SC\, 12\, GC\, WA\, S\, SD\, NC\, GL. 
URL:https://slaa-sfeb.org/event/trans-gq-womens-meeting/2026-08-09/
LOCATION:St Pauls Lutheran Church\, 1658 Excelsior Ave\, Oakland\, CA\, United States
CATEGORIES:Meeting: In-Person
END:VEVENT
BEGIN:VEVENT
DTSTART;TZID=UTC:20260816T183000
DTEND;TZID=UTC:20260816T193000
DTSTAMP:20260423T222655
CREATED:20240807T125512Z
LAST-MODIFIED:20250201T064350Z
UID:10012753-1786905000-1786908600@slaa-sfeb.org
SUMMARY:EB: Trans\, GQ & Women's Meeting
DESCRIPTION:Step Study 3rd\, Speaker 2nd & 4th\, Business meeting 1st. \nSt Pauls Lutheran Church\n1658 Excelsior Ave\, Oakland\, CA 94602\n*Entrance on Woodruff Ave\n*Ramp entrance on Excelsior Ave \nC\, SC\, 12\, GC\, WA\, S\, SD\, NC\, GL. 
URL:https://slaa-sfeb.org/event/trans-gq-womens-meeting/2026-08-16/
LOCATION:St Pauls Lutheran Church\, 1658 Excelsior Ave\, Oakland\, CA\, United States
CATEGORIES:Meeting: In-Person
END:VEVENT
BEGIN:VEVENT
DTSTART;TZID=UTC:20260823T183000
DTEND;TZID=UTC:20260823T193000
DTSTAMP:20260423T222655
CREATED:20240807T125512Z
LAST-MODIFIED:20250201T064350Z
UID:10012754-1787509800-1787513400@slaa-sfeb.org
SUMMARY:EB: Trans\, GQ & Women's Meeting
DESCRIPTION:Step Study 3rd\, Speaker 2nd & 4th\, Business meeting 1st. \nSt Pauls Lutheran Church\n1658 Excelsior Ave\, Oakland\, CA 94602\n*Entrance on Woodruff Ave\n*Ramp entrance on Excelsior Ave \nC\, SC\, 12\, GC\, WA\, S\, SD\, NC\, GL. 
URL:https://slaa-sfeb.org/event/trans-gq-womens-meeting/2026-08-23/
LOCATION:St Pauls Lutheran Church\, 1658 Excelsior Ave\, Oakland\, CA\, United States
CATEGORIES:Meeting: In-Person
END:VEVENT
BEGIN:VEVENT
DTSTART;TZID=UTC:20260830T183000
DTEND;TZID=UTC:20260830T193000
DTSTAMP:20260423T222655
CREATED:20240807T125512Z
LAST-MODIFIED:20250201T064350Z
UID:10012755-1788114600-1788118200@slaa-sfeb.org
SUMMARY:EB: Trans\, GQ & Women's Meeting
DESCRIPTION:Step Study 3rd\, Speaker 2nd & 4th\, Business meeting 1st. \nSt Pauls Lutheran Church\n1658 Excelsior Ave\, Oakland\, CA 94602\n*Entrance on Woodruff Ave\n*Ramp entrance on Excelsior Ave \nC\, SC\, 12\, GC\, WA\, S\, SD\, NC\, GL. 
URL:https://slaa-sfeb.org/event/trans-gq-womens-meeting/2026-08-30/
LOCATION:St Pauls Lutheran Church\, 1658 Excelsior Ave\, Oakland\, CA\, United States
CATEGORIES:Meeting: In-Person
END:VEVENT
BEGIN:VEVENT
DTSTART;TZID=UTC:20260906T183000
DTEND;TZID=UTC:20260906T193000
DTSTAMP:20260423T222655
CREATED:20240807T125512Z
LAST-MODIFIED:20250201T064350Z
UID:10012756-1788719400-1788723000@slaa-sfeb.org
SUMMARY:EB: Trans\, GQ & Women's Meeting
DESCRIPTION:Step Study 3rd\, Speaker 2nd & 4th\, Business meeting 1st. \nSt Pauls Lutheran Church\n1658 Excelsior Ave\, Oakland\, CA 94602\n*Entrance on Woodruff Ave\n*Ramp entrance on Excelsior Ave \nC\, SC\, 12\, GC\, WA\, S\, SD\, NC\, GL. 
URL:https://slaa-sfeb.org/event/trans-gq-womens-meeting/2026-09-06/
LOCATION:St Pauls Lutheran Church\, 1658 Excelsior Ave\, Oakland\, CA\, United States
CATEGORIES:Meeting: In-Person
END:VEVENT
BEGIN:VEVENT
DTSTART;TZID=UTC:20260913T183000
DTEND;TZID=UTC:20260913T193000
DTSTAMP:20260423T222655
CREATED:20240807T125512Z
LAST-MODIFIED:20250201T064350Z
UID:10012757-1789324200-1789327800@slaa-sfeb.org
SUMMARY:EB: Trans\, GQ & Women's Meeting
DESCRIPTION:Step Study 3rd\, Speaker 2nd & 4th\, Business meeting 1st. \nSt Pauls Lutheran Church\n1658 Excelsior Ave\, Oakland\, CA 94602\n*Entrance on Woodruff Ave\n*Ramp entrance on Excelsior Ave \nC\, SC\, 12\, GC\, WA\, S\, SD\, NC\, GL. 
URL:https://slaa-sfeb.org/event/trans-gq-womens-meeting/2026-09-13/
LOCATION:St Pauls Lutheran Church\, 1658 Excelsior Ave\, Oakland\, CA\, United States
CATEGORIES:Meeting: In-Person
END:VEVENT
BEGIN:VEVENT
DTSTART;TZID=UTC:20260920T183000
DTEND;TZID=UTC:20260920T193000
DTSTAMP:20260423T222655
CREATED:20240807T125512Z
LAST-MODIFIED:20250201T064350Z
UID:10012758-1789929000-1789932600@slaa-sfeb.org
SUMMARY:EB: Trans\, GQ & Women's Meeting
DESCRIPTION:Step Study 3rd\, Speaker 2nd & 4th\, Business meeting 1st. \nSt Pauls Lutheran Church\n1658 Excelsior Ave\, Oakland\, CA 94602\n*Entrance on Woodruff Ave\n*Ramp entrance on Excelsior Ave \nC\, SC\, 12\, GC\, WA\, S\, SD\, NC\, GL. 
URL:https://slaa-sfeb.org/event/trans-gq-womens-meeting/2026-09-20/
LOCATION:St Pauls Lutheran Church\, 1658 Excelsior Ave\, Oakland\, CA\, United States
CATEGORIES:Meeting: In-Person
END:VEVENT
BEGIN:VEVENT
DTSTART;TZID=UTC:20260927T183000
DTEND;TZID=UTC:20260927T193000
DTSTAMP:20260423T222655
CREATED:20240807T125512Z
LAST-MODIFIED:20250201T064350Z
UID:10012759-1790533800-1790537400@slaa-sfeb.org
SUMMARY:EB: Trans\, GQ & Women's Meeting
DESCRIPTION:Step Study 3rd\, Speaker 2nd & 4th\, Business meeting 1st. \nSt Pauls Lutheran Church\n1658 Excelsior Ave\, Oakland\, CA 94602\n*Entrance on Woodruff Ave\n*Ramp entrance on Excelsior Ave \nC\, SC\, 12\, GC\, WA\, S\, SD\, NC\, GL. 
URL:https://slaa-sfeb.org/event/trans-gq-womens-meeting/2026-09-27/
LOCATION:St Pauls Lutheran Church\, 1658 Excelsior Ave\, Oakland\, CA\, United States
CATEGORIES:Meeting: In-Person
END:VEVENT
BEGIN:VEVENT
DTSTART;TZID=UTC:20261004T183000
DTEND;TZID=UTC:20261004T193000
DTSTAMP:20260423T222655
CREATED:20240807T125512Z
LAST-MODIFIED:20250201T064350Z
UID:10012760-1791138600-1791142200@slaa-sfeb.org
SUMMARY:EB: Trans\, GQ & Women's Meeting
DESCRIPTION:Step Study 3rd\, Speaker 2nd & 4th\, Business meeting 1st. \nSt Pauls Lutheran Church\n1658 Excelsior Ave\, Oakland\, CA 94602\n*Entrance on Woodruff Ave\n*Ramp entrance on Excelsior Ave \nC\, SC\, 12\, GC\, WA\, S\, SD\, NC\, GL. 
URL:https://slaa-sfeb.org/event/trans-gq-womens-meeting/2026-10-04/
LOCATION:St Pauls Lutheran Church\, 1658 Excelsior Ave\, Oakland\, CA\, United States
CATEGORIES:Meeting: In-Person
END:VEVENT
BEGIN:VEVENT
DTSTART;TZID=UTC:20261011T183000
DTEND;TZID=UTC:20261011T193000
DTSTAMP:20260423T222655
CREATED:20240807T125512Z
LAST-MODIFIED:20250201T064350Z
UID:10012761-1791743400-1791747000@slaa-sfeb.org
SUMMARY:EB: Trans\, GQ & Women's Meeting
DESCRIPTION:Step Study 3rd\, Speaker 2nd & 4th\, Business meeting 1st. \nSt Pauls Lutheran Church\n1658 Excelsior Ave\, Oakland\, CA 94602\n*Entrance on Woodruff Ave\n*Ramp entrance on Excelsior Ave \nC\, SC\, 12\, GC\, WA\, S\, SD\, NC\, GL. 
URL:https://slaa-sfeb.org/event/trans-gq-womens-meeting/2026-10-11/
LOCATION:St Pauls Lutheran Church\, 1658 Excelsior Ave\, Oakland\, CA\, United States
CATEGORIES:Meeting: In-Person
END:VEVENT
BEGIN:VEVENT
DTSTART;TZID=UTC:20261018T183000
DTEND;TZID=UTC:20261018T193000
DTSTAMP:20260423T222655
CREATED:20240807T125512Z
LAST-MODIFIED:20250201T064350Z
UID:10012762-1792348200-1792351800@slaa-sfeb.org
SUMMARY:EB: Trans\, GQ & Women's Meeting
DESCRIPTION:Step Study 3rd\, Speaker 2nd & 4th\, Business meeting 1st. \nSt Pauls Lutheran Church\n1658 Excelsior Ave\, Oakland\, CA 94602\n*Entrance on Woodruff Ave\n*Ramp entrance on Excelsior Ave \nC\, SC\, 12\, GC\, WA\, S\, SD\, NC\, GL. 
URL:https://slaa-sfeb.org/event/trans-gq-womens-meeting/2026-10-18/
LOCATION:St Pauls Lutheran Church\, 1658 Excelsior Ave\, Oakland\, CA\, United States
CATEGORIES:Meeting: In-Person
END:VEVENT
BEGIN:VEVENT
DTSTART;TZID=UTC:20261025T183000
DTEND;TZID=UTC:20261025T193000
DTSTAMP:20260423T222655
CREATED:20240807T125512Z
LAST-MODIFIED:20250201T064350Z
UID:10012763-1792953000-1792956600@slaa-sfeb.org
SUMMARY:EB: Trans\, GQ & Women's Meeting
DESCRIPTION:Step Study 3rd\, Speaker 2nd & 4th\, Business meeting 1st. \nSt Pauls Lutheran Church\n1658 Excelsior Ave\, Oakland\, CA 94602\n*Entrance on Woodruff Ave\n*Ramp entrance on Excelsior Ave \nC\, SC\, 12\, GC\, WA\, S\, SD\, NC\, GL. 
URL:https://slaa-sfeb.org/event/trans-gq-womens-meeting/2026-10-25/
LOCATION:St Pauls Lutheran Church\, 1658 Excelsior Ave\, Oakland\, CA\, United States
CATEGORIES:Meeting: In-Person
END:VEVENT
BEGIN:VEVENT
DTSTART;TZID=UTC:20261101T183000
DTEND;TZID=UTC:20261101T193000
DTSTAMP:20260423T222655
CREATED:20240807T125512Z
LAST-MODIFIED:20250201T064350Z
UID:10012764-1793557800-1793561400@slaa-sfeb.org
SUMMARY:EB: Trans\, GQ & Women's Meeting
DESCRIPTION:Step Study 3rd\, Speaker 2nd & 4th\, Business meeting 1st. \nSt Pauls Lutheran Church\n1658 Excelsior Ave\, Oakland\, CA 94602\n*Entrance on Woodruff Ave\n*Ramp entrance on Excelsior Ave \nC\, SC\, 12\, GC\, WA\, S\, SD\, NC\, GL. 
URL:https://slaa-sfeb.org/event/trans-gq-womens-meeting/2026-11-01/
LOCATION:St Pauls Lutheran Church\, 1658 Excelsior Ave\, Oakland\, CA\, United States
CATEGORIES:Meeting: In-Person
END:VEVENT
BEGIN:VEVENT
DTSTART;TZID=UTC:20261108T183000
DTEND;TZID=UTC:20261108T193000
DTSTAMP:20260423T222655
CREATED:20240807T125512Z
LAST-MODIFIED:20250201T064350Z
UID:10012765-1794162600-1794166200@slaa-sfeb.org
SUMMARY:EB: Trans\, GQ & Women's Meeting
DESCRIPTION:Step Study 3rd\, Speaker 2nd & 4th\, Business meeting 1st. \nSt Pauls Lutheran Church\n1658 Excelsior Ave\, Oakland\, CA 94602\n*Entrance on Woodruff Ave\n*Ramp entrance on Excelsior Ave \nC\, SC\, 12\, GC\, WA\, S\, SD\, NC\, GL. 
URL:https://slaa-sfeb.org/event/trans-gq-womens-meeting/2026-11-08/
LOCATION:St Pauls Lutheran Church\, 1658 Excelsior Ave\, Oakland\, CA\, United States
CATEGORIES:Meeting: In-Person
END:VEVENT
BEGIN:VEVENT
DTSTART;TZID=UTC:20261115T183000
DTEND;TZID=UTC:20261115T193000
DTSTAMP:20260423T222655
CREATED:20240807T125512Z
LAST-MODIFIED:20250201T064350Z
UID:10012766-1794767400-1794771000@slaa-sfeb.org
SUMMARY:EB: Trans\, GQ & Women's Meeting
DESCRIPTION:Step Study 3rd\, Speaker 2nd & 4th\, Business meeting 1st. \nSt Pauls Lutheran Church\n1658 Excelsior Ave\, Oakland\, CA 94602\n*Entrance on Woodruff Ave\n*Ramp entrance on Excelsior Ave \nC\, SC\, 12\, GC\, WA\, S\, SD\, NC\, GL. 
URL:https://slaa-sfeb.org/event/trans-gq-womens-meeting/2026-11-15/
LOCATION:St Pauls Lutheran Church\, 1658 Excelsior Ave\, Oakland\, CA\, United States
CATEGORIES:Meeting: In-Person
END:VEVENT
END:VCALENDAR