
BEGIN:VCALENDAR
VERSION:2.0
PRODID:-//San Francisco / East Bay SLAA - ECPv6.15.20//NONSGML v1.0//EN
CALSCALE:GREGORIAN
METHOD:PUBLISH
X-WR-CALNAME:San Francisco / East Bay SLAA
X-ORIGINAL-URL:https://slaa-sfeb.org
X-WR-CALDESC:Events for San Francisco / East Bay SLAA
REFRESH-INTERVAL;VALUE=DURATION:PT1H
X-Robots-Tag:noindex
X-PUBLISHED-TTL:PT1H
BEGIN:VTIMEZONE
TZID:UTC
BEGIN:STANDARD
TZOFFSETFROM:+0000
TZOFFSETTO:+0000
TZNAME:UTC
DTSTART:20250101T000000
END:STANDARD
END:VTIMEZONE
BEGIN:VEVENT
DTSTART;TZID=UTC:20260501T193000
DTEND;TZID=UTC:20260501T203000
DTSTAMP:20260420T224459
CREATED:20240807T121157Z
LAST-MODIFIED:20240815T082758Z
UID:10010530-1777663800-1777667400@slaa-sfeb.org
SUMMARY:Healthy Fun & Adventure (Men)
DESCRIPTION:(formerly in-person in SF) \nhttps://us02web.zoom.us/j/88059783225?pwd=TUFwSHdmczRoRy83djZFcTNvMGVsdz09 \nMeeting ID: 880 5978 3225\nPasscode: 839954 \n+1 669 900 6833 US
URL:https://slaa-sfeb.org/event/healthy-fun-and-adventure-men/2026-05-01/
CATEGORIES:Meeting: Zoom / Online
LOCATION:https://us02web.zoom.us/j/88059783225?pwd=TUFwSHdmczRoRy83djZFcTNvMGVsdz09
END:VEVENT
BEGIN:VEVENT
DTSTART;TZID=UTC:20260502T080000
DTEND;TZID=UTC:20260502T090000
DTSTAMP:20260420T224459
CREATED:20250201T081223Z
LAST-MODIFIED:20250827T015315Z
UID:10014223-1777708800-1777712400@slaa-sfeb.org
SUMMARY:Open Men's Meeting
DESCRIPTION:Zoom is open at 7:45 before the meeting and left open for fellowship after the meeting until 9:30. \nHow to ensure your anonymity online/phone \nJOIN THE ZOOM \nMeeting ID: 859 8049 7255\nPasscode: 328236 \nOne tap mobile\n+16699006833\,\,85980497255#\,\,\,\,\,\,0#\,\,328236# US (San Jose)\n+13462487799\,\,85980497255#\,\,\,\,\,\,0#\,\,328236# US (Houston) \n 
URL:https://slaa-sfeb.org/event/open-mens-meeting-2/2026-05-02/
CATEGORIES:Meeting: Zoom / Online
END:VEVENT
BEGIN:VEVENT
DTSTART;TZID=UTC:20260502T090000
DTEND;TZID=UTC:20260502T100000
DTSTAMP:20260420T224459
CREATED:20240807T122809Z
LAST-MODIFIED:20240815T082638Z
UID:10011052-1777712400-1777716000@slaa-sfeb.org
SUMMARY:EB: Men's Meeting – Living in the Solution (NEW)
DESCRIPTION:This meeting is in-person. Reading/Writing alternate weeks.\n\n\n\n\nFellowship following the meeting is encouraged.\nO. Men’s. GC\, 12\, GC\, SC\, SD.\n\n\nGood Shepherd Episcopal Church\n1823 Ninth St. Berkeley\, CA 94710 – Sisson Salon
URL:https://slaa-sfeb.org/event/mens-meeting-living-in-the-solution-new/2026-05-02/
LOCATION:Good Shepherd Episcopal Church\, 1823 9th Street\, Berkeley\, CA\, United States
CATEGORIES:Meeting: In-Person
END:VEVENT
BEGIN:VEVENT
DTSTART;TZID=UTC:20260505T073000
DTEND;TZID=UTC:20260505T083000
DTSTAMP:20260420T224459
CREATED:20240807T063703Z
LAST-MODIFIED:20240815T091906Z
UID:10005832-1777966200-1777969800@slaa-sfeb.org
SUMMARY:EB: In the Solution (Men)
DESCRIPTION:This meeting is an in-person\, men’s meeting.\n\n\n\n\n\nMen only. O. 12\, GC\, SC\, SD.
URL:https://slaa-sfeb.org/event/in-the-solution/2026-05-05/
LOCATION:Berkeley Fellowship of Unitarian Universalists\, 1924 Cedar Street\, Berkeley\, CA\, 94709\, United States
CATEGORIES:Meeting: In-Person
END:VEVENT
BEGIN:VEVENT
DTSTART;TZID=UTC:20260506T200000
DTEND;TZID=UTC:20260506T211500
DTSTAMP:20260420T224459
CREATED:20240807T112123Z
LAST-MODIFIED:20240815T083914Z
UID:10008443-1778097600-1778102100@slaa-sfeb.org
SUMMARY:Men's Basic Text & Speaker Meeting
DESCRIPTION:All male identified individuals welcome. O. GC\, SC\, WA\, S\, NC. Speaker every week. (previously at CPMC in San Francisco) \nhttps://us02web.zoom.us/j/86397645337?pwd=OWZqWnFCdkRxYTNmQmFoVTZqUG5xZz09\nMeeting ID: 863 9764 5337\nPassword: 822460\n+1 669 900 6833 > US \nslaasfebwednesdaynightmens@tutamail.com
URL:https://slaa-sfeb.org/event/sf-mens-basic-text-speaker-meeting/2026-05-06/
CATEGORIES:Meeting: Zoom / Online
LOCATION:https://us02web.zoom.us/j/86397645337?pwd=OWZqWnFCdkRxYTNmQmFoVTZqUG5xZz09
END:VEVENT
BEGIN:VEVENT
DTSTART;TZID=UTC:20260507T180000
DTEND;TZID=UTC:20260507T193000
DTSTAMP:20260420T224459
CREATED:20250201T075445Z
LAST-MODIFIED:20250201T075445Z
UID:10013929-1778176800-1778182200@slaa-sfeb.org
SUMMARY:SF: The San Francisco Augustine Group
DESCRIPTION:Alternating step study/speaker every other week. \nNot wheelchair accessible.
URL:https://slaa-sfeb.org/event/sf-the-san-francisco-augustine-group/2026-05-07/
LOCATION:Holy Innocents Church\, 455 Fair Oaks Street\, San Francisco\, CA\, United States
CATEGORIES:Meeting: In-Person
END:VEVENT
BEGIN:VEVENT
DTSTART;TZID=UTC:20260508T193000
DTEND;TZID=UTC:20260508T203000
DTSTAMP:20260420T224459
CREATED:20240807T121157Z
LAST-MODIFIED:20240815T082758Z
UID:10010531-1778268600-1778272200@slaa-sfeb.org
SUMMARY:Healthy Fun & Adventure (Men)
DESCRIPTION:(formerly in-person in SF) \nhttps://us02web.zoom.us/j/88059783225?pwd=TUFwSHdmczRoRy83djZFcTNvMGVsdz09 \nMeeting ID: 880 5978 3225\nPasscode: 839954 \n+1 669 900 6833 US
URL:https://slaa-sfeb.org/event/healthy-fun-and-adventure-men/2026-05-08/
CATEGORIES:Meeting: Zoom / Online
LOCATION:https://us02web.zoom.us/j/88059783225?pwd=TUFwSHdmczRoRy83djZFcTNvMGVsdz09
END:VEVENT
BEGIN:VEVENT
DTSTART;TZID=UTC:20260509T080000
DTEND;TZID=UTC:20260509T090000
DTSTAMP:20260420T224459
CREATED:20250201T081223Z
LAST-MODIFIED:20250827T015315Z
UID:10014224-1778313600-1778317200@slaa-sfeb.org
SUMMARY:Open Men's Meeting
DESCRIPTION:Zoom is open at 7:45 before the meeting and left open for fellowship after the meeting until 9:30. \nHow to ensure your anonymity online/phone \nJOIN THE ZOOM \nMeeting ID: 859 8049 7255\nPasscode: 328236 \nOne tap mobile\n+16699006833\,\,85980497255#\,\,\,\,\,\,0#\,\,328236# US (San Jose)\n+13462487799\,\,85980497255#\,\,\,\,\,\,0#\,\,328236# US (Houston) \n 
URL:https://slaa-sfeb.org/event/open-mens-meeting-2/2026-05-09/
CATEGORIES:Meeting: Zoom / Online
END:VEVENT
BEGIN:VEVENT
DTSTART;TZID=UTC:20260509T090000
DTEND;TZID=UTC:20260509T100000
DTSTAMP:20260420T224459
CREATED:20240807T122809Z
LAST-MODIFIED:20240815T082638Z
UID:10011053-1778317200-1778320800@slaa-sfeb.org
SUMMARY:EB: Men's Meeting – Living in the Solution (NEW)
DESCRIPTION:This meeting is in-person. Reading/Writing alternate weeks.\n\n\n\n\nFellowship following the meeting is encouraged.\nO. Men’s. GC\, 12\, GC\, SC\, SD.\n\n\nGood Shepherd Episcopal Church\n1823 Ninth St. Berkeley\, CA 94710 – Sisson Salon
URL:https://slaa-sfeb.org/event/mens-meeting-living-in-the-solution-new/2026-05-09/
LOCATION:Good Shepherd Episcopal Church\, 1823 9th Street\, Berkeley\, CA\, United States
CATEGORIES:Meeting: In-Person
END:VEVENT
BEGIN:VEVENT
DTSTART;TZID=UTC:20260512T073000
DTEND;TZID=UTC:20260512T083000
DTSTAMP:20260420T224459
CREATED:20240807T063703Z
LAST-MODIFIED:20240815T091906Z
UID:10005833-1778571000-1778574600@slaa-sfeb.org
SUMMARY:EB: In the Solution (Men)
DESCRIPTION:This meeting is an in-person\, men’s meeting.\n\n\n\n\n\nMen only. O. 12\, GC\, SC\, SD.
URL:https://slaa-sfeb.org/event/in-the-solution/2026-05-12/
LOCATION:Berkeley Fellowship of Unitarian Universalists\, 1924 Cedar Street\, Berkeley\, CA\, 94709\, United States
CATEGORIES:Meeting: In-Person
END:VEVENT
BEGIN:VEVENT
DTSTART;TZID=UTC:20260513T200000
DTEND;TZID=UTC:20260513T211500
DTSTAMP:20260420T224459
CREATED:20240807T112123Z
LAST-MODIFIED:20240815T083914Z
UID:10008444-1778702400-1778706900@slaa-sfeb.org
SUMMARY:Men's Basic Text & Speaker Meeting
DESCRIPTION:All male identified individuals welcome. O. GC\, SC\, WA\, S\, NC. Speaker every week. (previously at CPMC in San Francisco) \nhttps://us02web.zoom.us/j/86397645337?pwd=OWZqWnFCdkRxYTNmQmFoVTZqUG5xZz09\nMeeting ID: 863 9764 5337\nPassword: 822460\n+1 669 900 6833 > US \nslaasfebwednesdaynightmens@tutamail.com
URL:https://slaa-sfeb.org/event/sf-mens-basic-text-speaker-meeting/2026-05-13/
CATEGORIES:Meeting: Zoom / Online
LOCATION:https://us02web.zoom.us/j/86397645337?pwd=OWZqWnFCdkRxYTNmQmFoVTZqUG5xZz09
END:VEVENT
BEGIN:VEVENT
DTSTART;TZID=UTC:20260514T180000
DTEND;TZID=UTC:20260514T193000
DTSTAMP:20260420T224459
CREATED:20250201T075445Z
LAST-MODIFIED:20250201T075445Z
UID:10013930-1778781600-1778787000@slaa-sfeb.org
SUMMARY:SF: The San Francisco Augustine Group
DESCRIPTION:Alternating step study/speaker every other week. \nNot wheelchair accessible.
URL:https://slaa-sfeb.org/event/sf-the-san-francisco-augustine-group/2026-05-14/
LOCATION:Holy Innocents Church\, 455 Fair Oaks Street\, San Francisco\, CA\, United States
CATEGORIES:Meeting: In-Person
END:VEVENT
BEGIN:VEVENT
DTSTART;TZID=UTC:20260515T193000
DTEND;TZID=UTC:20260515T203000
DTSTAMP:20260420T224459
CREATED:20240807T121157Z
LAST-MODIFIED:20240815T082758Z
UID:10010532-1778873400-1778877000@slaa-sfeb.org
SUMMARY:Healthy Fun & Adventure (Men)
DESCRIPTION:(formerly in-person in SF) \nhttps://us02web.zoom.us/j/88059783225?pwd=TUFwSHdmczRoRy83djZFcTNvMGVsdz09 \nMeeting ID: 880 5978 3225\nPasscode: 839954 \n+1 669 900 6833 US
URL:https://slaa-sfeb.org/event/healthy-fun-and-adventure-men/2026-05-15/
CATEGORIES:Meeting: Zoom / Online
LOCATION:https://us02web.zoom.us/j/88059783225?pwd=TUFwSHdmczRoRy83djZFcTNvMGVsdz09
END:VEVENT
BEGIN:VEVENT
DTSTART;TZID=UTC:20260516T080000
DTEND;TZID=UTC:20260516T090000
DTSTAMP:20260420T224459
CREATED:20250201T081223Z
LAST-MODIFIED:20250827T015315Z
UID:10014225-1778918400-1778922000@slaa-sfeb.org
SUMMARY:Open Men's Meeting
DESCRIPTION:Zoom is open at 7:45 before the meeting and left open for fellowship after the meeting until 9:30. \nHow to ensure your anonymity online/phone \nJOIN THE ZOOM \nMeeting ID: 859 8049 7255\nPasscode: 328236 \nOne tap mobile\n+16699006833\,\,85980497255#\,\,\,\,\,\,0#\,\,328236# US (San Jose)\n+13462487799\,\,85980497255#\,\,\,\,\,\,0#\,\,328236# US (Houston) \n 
URL:https://slaa-sfeb.org/event/open-mens-meeting-2/2026-05-16/
CATEGORIES:Meeting: Zoom / Online
END:VEVENT
BEGIN:VEVENT
DTSTART;TZID=UTC:20260516T090000
DTEND;TZID=UTC:20260516T100000
DTSTAMP:20260420T224459
CREATED:20240807T122809Z
LAST-MODIFIED:20240815T082638Z
UID:10011054-1778922000-1778925600@slaa-sfeb.org
SUMMARY:EB: Men's Meeting – Living in the Solution (NEW)
DESCRIPTION:This meeting is in-person. Reading/Writing alternate weeks.\n\n\n\n\nFellowship following the meeting is encouraged.\nO. Men’s. GC\, 12\, GC\, SC\, SD.\n\n\nGood Shepherd Episcopal Church\n1823 Ninth St. Berkeley\, CA 94710 – Sisson Salon
URL:https://slaa-sfeb.org/event/mens-meeting-living-in-the-solution-new/2026-05-16/
LOCATION:Good Shepherd Episcopal Church\, 1823 9th Street\, Berkeley\, CA\, United States
CATEGORIES:Meeting: In-Person
END:VEVENT
BEGIN:VEVENT
DTSTART;TZID=UTC:20260519T073000
DTEND;TZID=UTC:20260519T083000
DTSTAMP:20260420T224459
CREATED:20240807T063703Z
LAST-MODIFIED:20240815T091906Z
UID:10005834-1779175800-1779179400@slaa-sfeb.org
SUMMARY:EB: In the Solution (Men)
DESCRIPTION:This meeting is an in-person\, men’s meeting.\n\n\n\n\n\nMen only. O. 12\, GC\, SC\, SD.
URL:https://slaa-sfeb.org/event/in-the-solution/2026-05-19/
LOCATION:Berkeley Fellowship of Unitarian Universalists\, 1924 Cedar Street\, Berkeley\, CA\, 94709\, United States
CATEGORIES:Meeting: In-Person
END:VEVENT
BEGIN:VEVENT
DTSTART;TZID=UTC:20260520T200000
DTEND;TZID=UTC:20260520T211500
DTSTAMP:20260420T224459
CREATED:20240807T112123Z
LAST-MODIFIED:20240815T083914Z
UID:10008445-1779307200-1779311700@slaa-sfeb.org
SUMMARY:Men's Basic Text & Speaker Meeting
DESCRIPTION:All male identified individuals welcome. O. GC\, SC\, WA\, S\, NC. Speaker every week. (previously at CPMC in San Francisco) \nhttps://us02web.zoom.us/j/86397645337?pwd=OWZqWnFCdkRxYTNmQmFoVTZqUG5xZz09\nMeeting ID: 863 9764 5337\nPassword: 822460\n+1 669 900 6833 > US \nslaasfebwednesdaynightmens@tutamail.com
URL:https://slaa-sfeb.org/event/sf-mens-basic-text-speaker-meeting/2026-05-20/
CATEGORIES:Meeting: Zoom / Online
LOCATION:https://us02web.zoom.us/j/86397645337?pwd=OWZqWnFCdkRxYTNmQmFoVTZqUG5xZz09
END:VEVENT
BEGIN:VEVENT
DTSTART;TZID=UTC:20260521T180000
DTEND;TZID=UTC:20260521T193000
DTSTAMP:20260420T224459
CREATED:20250201T075445Z
LAST-MODIFIED:20250201T075445Z
UID:10013931-1779386400-1779391800@slaa-sfeb.org
SUMMARY:SF: The San Francisco Augustine Group
DESCRIPTION:Alternating step study/speaker every other week. \nNot wheelchair accessible.
URL:https://slaa-sfeb.org/event/sf-the-san-francisco-augustine-group/2026-05-21/
LOCATION:Holy Innocents Church\, 455 Fair Oaks Street\, San Francisco\, CA\, United States
CATEGORIES:Meeting: In-Person
END:VEVENT
BEGIN:VEVENT
DTSTART;TZID=UTC:20260522T193000
DTEND;TZID=UTC:20260522T203000
DTSTAMP:20260420T224459
CREATED:20240807T121157Z
LAST-MODIFIED:20240815T082758Z
UID:10010533-1779478200-1779481800@slaa-sfeb.org
SUMMARY:Healthy Fun & Adventure (Men)
DESCRIPTION:(formerly in-person in SF) \nhttps://us02web.zoom.us/j/88059783225?pwd=TUFwSHdmczRoRy83djZFcTNvMGVsdz09 \nMeeting ID: 880 5978 3225\nPasscode: 839954 \n+1 669 900 6833 US
URL:https://slaa-sfeb.org/event/healthy-fun-and-adventure-men/2026-05-22/
CATEGORIES:Meeting: Zoom / Online
LOCATION:https://us02web.zoom.us/j/88059783225?pwd=TUFwSHdmczRoRy83djZFcTNvMGVsdz09
END:VEVENT
BEGIN:VEVENT
DTSTART;TZID=UTC:20260523T080000
DTEND;TZID=UTC:20260523T090000
DTSTAMP:20260420T224459
CREATED:20250201T081223Z
LAST-MODIFIED:20250827T015315Z
UID:10014226-1779523200-1779526800@slaa-sfeb.org
SUMMARY:Open Men's Meeting
DESCRIPTION:Zoom is open at 7:45 before the meeting and left open for fellowship after the meeting until 9:30. \nHow to ensure your anonymity online/phone \nJOIN THE ZOOM \nMeeting ID: 859 8049 7255\nPasscode: 328236 \nOne tap mobile\n+16699006833\,\,85980497255#\,\,\,\,\,\,0#\,\,328236# US (San Jose)\n+13462487799\,\,85980497255#\,\,\,\,\,\,0#\,\,328236# US (Houston) \n 
URL:https://slaa-sfeb.org/event/open-mens-meeting-2/2026-05-23/
CATEGORIES:Meeting: Zoom / Online
END:VEVENT
BEGIN:VEVENT
DTSTART;TZID=UTC:20260523T090000
DTEND;TZID=UTC:20260523T100000
DTSTAMP:20260420T224459
CREATED:20240807T122809Z
LAST-MODIFIED:20240815T082638Z
UID:10011055-1779526800-1779530400@slaa-sfeb.org
SUMMARY:EB: Men's Meeting – Living in the Solution (NEW)
DESCRIPTION:This meeting is in-person. Reading/Writing alternate weeks.\n\n\n\n\nFellowship following the meeting is encouraged.\nO. Men’s. GC\, 12\, GC\, SC\, SD.\n\n\nGood Shepherd Episcopal Church\n1823 Ninth St. Berkeley\, CA 94710 – Sisson Salon
URL:https://slaa-sfeb.org/event/mens-meeting-living-in-the-solution-new/2026-05-23/
LOCATION:Good Shepherd Episcopal Church\, 1823 9th Street\, Berkeley\, CA\, United States
CATEGORIES:Meeting: In-Person
END:VEVENT
BEGIN:VEVENT
DTSTART;TZID=UTC:20260526T073000
DTEND;TZID=UTC:20260526T083000
DTSTAMP:20260420T224459
CREATED:20240807T063703Z
LAST-MODIFIED:20240815T091906Z
UID:10005835-1779780600-1779784200@slaa-sfeb.org
SUMMARY:EB: In the Solution (Men)
DESCRIPTION:This meeting is an in-person\, men’s meeting.\n\n\n\n\n\nMen only. O. 12\, GC\, SC\, SD.
URL:https://slaa-sfeb.org/event/in-the-solution/2026-05-26/
LOCATION:Berkeley Fellowship of Unitarian Universalists\, 1924 Cedar Street\, Berkeley\, CA\, 94709\, United States
CATEGORIES:Meeting: In-Person
END:VEVENT
BEGIN:VEVENT
DTSTART;TZID=UTC:20260527T200000
DTEND;TZID=UTC:20260527T211500
DTSTAMP:20260420T224459
CREATED:20240807T112123Z
LAST-MODIFIED:20240815T083914Z
UID:10008446-1779912000-1779916500@slaa-sfeb.org
SUMMARY:Men's Basic Text & Speaker Meeting
DESCRIPTION:All male identified individuals welcome. O. GC\, SC\, WA\, S\, NC. Speaker every week. (previously at CPMC in San Francisco) \nhttps://us02web.zoom.us/j/86397645337?pwd=OWZqWnFCdkRxYTNmQmFoVTZqUG5xZz09\nMeeting ID: 863 9764 5337\nPassword: 822460\n+1 669 900 6833 > US \nslaasfebwednesdaynightmens@tutamail.com
URL:https://slaa-sfeb.org/event/sf-mens-basic-text-speaker-meeting/2026-05-27/
CATEGORIES:Meeting: Zoom / Online
LOCATION:https://us02web.zoom.us/j/86397645337?pwd=OWZqWnFCdkRxYTNmQmFoVTZqUG5xZz09
END:VEVENT
BEGIN:VEVENT
DTSTART;TZID=UTC:20260528T180000
DTEND;TZID=UTC:20260528T193000
DTSTAMP:20260420T224459
CREATED:20250201T075445Z
LAST-MODIFIED:20250201T075445Z
UID:10013932-1779991200-1779996600@slaa-sfeb.org
SUMMARY:SF: The San Francisco Augustine Group
DESCRIPTION:Alternating step study/speaker every other week. \nNot wheelchair accessible.
URL:https://slaa-sfeb.org/event/sf-the-san-francisco-augustine-group/2026-05-28/
LOCATION:Holy Innocents Church\, 455 Fair Oaks Street\, San Francisco\, CA\, United States
CATEGORIES:Meeting: In-Person
END:VEVENT
BEGIN:VEVENT
DTSTART;TZID=UTC:20260529T193000
DTEND;TZID=UTC:20260529T203000
DTSTAMP:20260420T224459
CREATED:20240807T121157Z
LAST-MODIFIED:20240815T082758Z
UID:10010534-1780083000-1780086600@slaa-sfeb.org
SUMMARY:Healthy Fun & Adventure (Men)
DESCRIPTION:(formerly in-person in SF) \nhttps://us02web.zoom.us/j/88059783225?pwd=TUFwSHdmczRoRy83djZFcTNvMGVsdz09 \nMeeting ID: 880 5978 3225\nPasscode: 839954 \n+1 669 900 6833 US
URL:https://slaa-sfeb.org/event/healthy-fun-and-adventure-men/2026-05-29/
CATEGORIES:Meeting: Zoom / Online
LOCATION:https://us02web.zoom.us/j/88059783225?pwd=TUFwSHdmczRoRy83djZFcTNvMGVsdz09
END:VEVENT
BEGIN:VEVENT
DTSTART;TZID=UTC:20260530T080000
DTEND;TZID=UTC:20260530T090000
DTSTAMP:20260420T224459
CREATED:20250201T081223Z
LAST-MODIFIED:20250827T015315Z
UID:10014227-1780128000-1780131600@slaa-sfeb.org
SUMMARY:Open Men's Meeting
DESCRIPTION:Zoom is open at 7:45 before the meeting and left open for fellowship after the meeting until 9:30. \nHow to ensure your anonymity online/phone \nJOIN THE ZOOM \nMeeting ID: 859 8049 7255\nPasscode: 328236 \nOne tap mobile\n+16699006833\,\,85980497255#\,\,\,\,\,\,0#\,\,328236# US (San Jose)\n+13462487799\,\,85980497255#\,\,\,\,\,\,0#\,\,328236# US (Houston) \n 
URL:https://slaa-sfeb.org/event/open-mens-meeting-2/2026-05-30/
CATEGORIES:Meeting: Zoom / Online
END:VEVENT
BEGIN:VEVENT
DTSTART;TZID=UTC:20260530T090000
DTEND;TZID=UTC:20260530T100000
DTSTAMP:20260420T224459
CREATED:20240807T122809Z
LAST-MODIFIED:20240815T082638Z
UID:10011056-1780131600-1780135200@slaa-sfeb.org
SUMMARY:EB: Men's Meeting – Living in the Solution (NEW)
DESCRIPTION:This meeting is in-person. Reading/Writing alternate weeks.\n\n\n\n\nFellowship following the meeting is encouraged.\nO. Men’s. GC\, 12\, GC\, SC\, SD.\n\n\nGood Shepherd Episcopal Church\n1823 Ninth St. Berkeley\, CA 94710 – Sisson Salon
URL:https://slaa-sfeb.org/event/mens-meeting-living-in-the-solution-new/2026-05-30/
LOCATION:Good Shepherd Episcopal Church\, 1823 9th Street\, Berkeley\, CA\, United States
CATEGORIES:Meeting: In-Person
END:VEVENT
END:VCALENDAR