
BEGIN:VCALENDAR
VERSION:2.0
PRODID:-//San Francisco / East Bay SLAA - ECPv6.15.20//NONSGML v1.0//EN
CALSCALE:GREGORIAN
METHOD:PUBLISH
X-ORIGINAL-URL:https://slaa-sfeb.org
X-WR-CALDESC:Events for San Francisco / East Bay SLAA
REFRESH-INTERVAL;VALUE=DURATION:PT1H
X-Robots-Tag:noindex
X-PUBLISHED-TTL:PT1H
BEGIN:VTIMEZONE
TZID:UTC
BEGIN:STANDARD
TZOFFSETFROM:+0000
TZOFFSETTO:+0000
TZNAME:UTC
DTSTART:20250101T000000
END:STANDARD
END:VTIMEZONE
BEGIN:VEVENT
DTSTART;TZID=UTC:20260701T200000
DTEND;TZID=UTC:20260701T211500
DTSTAMP:20260425T081857
CREATED:20240807T112123Z
LAST-MODIFIED:20240815T083914Z
UID:10008451-1782936000-1782940500@slaa-sfeb.org
SUMMARY:Men's Basic Text & Speaker Meeting
DESCRIPTION:All male identified individuals welcome. O. GC\, SC\, WA\, S\, NC. Speaker every week. (previously at CPMC in San Francisco) \nhttps://us02web.zoom.us/j/86397645337?pwd=OWZqWnFCdkRxYTNmQmFoVTZqUG5xZz09\nMeeting ID: 863 9764 5337\nPassword: 822460\n+1 669 900 6833 > US \nslaasfebwednesdaynightmens@tutamail.com
URL:https://slaa-sfeb.org/event/sf-mens-basic-text-speaker-meeting/2026-07-01/
CATEGORIES:Meeting: Zoom / Online
LOCATION:https://us02web.zoom.us/j/86397645337?pwd=OWZqWnFCdkRxYTNmQmFoVTZqUG5xZz09
END:VEVENT
BEGIN:VEVENT
DTSTART;TZID=UTC:20260702T180000
DTEND;TZID=UTC:20260702T193000
DTSTAMP:20260425T081857
CREATED:20250201T075445Z
LAST-MODIFIED:20250201T075445Z
UID:10013937-1783015200-1783020600@slaa-sfeb.org
SUMMARY:SF: The San Francisco Augustine Group
DESCRIPTION:Alternating step study/speaker every other week. \nNot wheelchair accessible.
URL:https://slaa-sfeb.org/event/sf-the-san-francisco-augustine-group/2026-07-02/
LOCATION:Holy Innocents Church\, 455 Fair Oaks Street\, San Francisco\, CA\, United States
CATEGORIES:Meeting: In-Person
END:VEVENT
BEGIN:VEVENT
DTSTART;TZID=UTC:20260703T193000
DTEND;TZID=UTC:20260703T203000
DTSTAMP:20260425T081857
CREATED:20240807T121157Z
LAST-MODIFIED:20240815T082758Z
UID:10010539-1783107000-1783110600@slaa-sfeb.org
SUMMARY:Healthy Fun & Adventure (Men)
DESCRIPTION:(formerly in-person in SF) \nhttps://us02web.zoom.us/j/88059783225?pwd=TUFwSHdmczRoRy83djZFcTNvMGVsdz09 \nMeeting ID: 880 5978 3225\nPasscode: 839954 \n+1 669 900 6833 US
URL:https://slaa-sfeb.org/event/healthy-fun-and-adventure-men/2026-07-03/
CATEGORIES:Meeting: Zoom / Online
LOCATION:https://us02web.zoom.us/j/88059783225?pwd=TUFwSHdmczRoRy83djZFcTNvMGVsdz09
END:VEVENT
BEGIN:VEVENT
DTSTART;TZID=UTC:20260704T080000
DTEND;TZID=UTC:20260704T090000
DTSTAMP:20260425T081857
CREATED:20250201T081223Z
LAST-MODIFIED:20250827T015315Z
UID:10014232-1783152000-1783155600@slaa-sfeb.org
SUMMARY:Open Men's Meeting
DESCRIPTION:Zoom is open at 7:45 before the meeting and left open for fellowship after the meeting until 9:30. \nHow to ensure your anonymity online/phone \nJOIN THE ZOOM \nMeeting ID: 859 8049 7255\nPasscode: 328236 \nOne tap mobile\n+16699006833\,\,85980497255#\,\,\,\,\,\,0#\,\,328236# US (San Jose)\n+13462487799\,\,85980497255#\,\,\,\,\,\,0#\,\,328236# US (Houston) \n 
URL:https://slaa-sfeb.org/event/open-mens-meeting-2/2026-07-04/
CATEGORIES:Meeting: Zoom / Online
END:VEVENT
BEGIN:VEVENT
DTSTART;TZID=UTC:20260704T090000
DTEND;TZID=UTC:20260704T100000
DTSTAMP:20260425T081857
CREATED:20240807T122809Z
LAST-MODIFIED:20240815T082638Z
UID:10011061-1783155600-1783159200@slaa-sfeb.org
SUMMARY:EB: Men's Meeting – Living in the Solution (NEW)
DESCRIPTION:This meeting is in-person. Reading/Writing alternate weeks.\n\n\n\n\nFellowship following the meeting is encouraged.\nO. Men’s. GC\, 12\, GC\, SC\, SD.\n\n\nGood Shepherd Episcopal Church\n1823 Ninth St. Berkeley\, CA 94710 – Sisson Salon
URL:https://slaa-sfeb.org/event/mens-meeting-living-in-the-solution-new/2026-07-04/
LOCATION:Good Shepherd Episcopal Church\, 1823 9th Street\, Berkeley\, CA\, United States
CATEGORIES:Meeting: In-Person
END:VEVENT
BEGIN:VEVENT
DTSTART;TZID=UTC:20260707T073000
DTEND;TZID=UTC:20260707T083000
DTSTAMP:20260425T081857
CREATED:20240807T063703Z
LAST-MODIFIED:20240815T091906Z
UID:10005841-1783409400-1783413000@slaa-sfeb.org
SUMMARY:EB: In the Solution (Men)
DESCRIPTION:This meeting is an in-person\, men’s meeting.\n\n\n\n\n\nMen only. O. 12\, GC\, SC\, SD.
URL:https://slaa-sfeb.org/event/in-the-solution/2026-07-07/
LOCATION:Berkeley Fellowship of Unitarian Universalists\, 1924 Cedar Street\, Berkeley\, CA\, 94709\, United States
CATEGORIES:Meeting: In-Person
END:VEVENT
BEGIN:VEVENT
DTSTART;TZID=UTC:20260708T200000
DTEND;TZID=UTC:20260708T211500
DTSTAMP:20260425T081857
CREATED:20240807T112123Z
LAST-MODIFIED:20240815T083914Z
UID:10008452-1783540800-1783545300@slaa-sfeb.org
SUMMARY:Men's Basic Text & Speaker Meeting
DESCRIPTION:All male identified individuals welcome. O. GC\, SC\, WA\, S\, NC. Speaker every week. (previously at CPMC in San Francisco) \nhttps://us02web.zoom.us/j/86397645337?pwd=OWZqWnFCdkRxYTNmQmFoVTZqUG5xZz09\nMeeting ID: 863 9764 5337\nPassword: 822460\n+1 669 900 6833 > US \nslaasfebwednesdaynightmens@tutamail.com
URL:https://slaa-sfeb.org/event/sf-mens-basic-text-speaker-meeting/2026-07-08/
CATEGORIES:Meeting: Zoom / Online
LOCATION:https://us02web.zoom.us/j/86397645337?pwd=OWZqWnFCdkRxYTNmQmFoVTZqUG5xZz09
END:VEVENT
BEGIN:VEVENT
DTSTART;TZID=UTC:20260709T180000
DTEND;TZID=UTC:20260709T193000
DTSTAMP:20260425T081857
CREATED:20250201T075445Z
LAST-MODIFIED:20250201T075445Z
UID:10013938-1783620000-1783625400@slaa-sfeb.org
SUMMARY:SF: The San Francisco Augustine Group
DESCRIPTION:Alternating step study/speaker every other week. \nNot wheelchair accessible.
URL:https://slaa-sfeb.org/event/sf-the-san-francisco-augustine-group/2026-07-09/
LOCATION:Holy Innocents Church\, 455 Fair Oaks Street\, San Francisco\, CA\, United States
CATEGORIES:Meeting: In-Person
END:VEVENT
BEGIN:VEVENT
DTSTART;TZID=UTC:20260710T193000
DTEND;TZID=UTC:20260710T203000
DTSTAMP:20260425T081857
CREATED:20240807T121157Z
LAST-MODIFIED:20240815T082758Z
UID:10010540-1783711800-1783715400@slaa-sfeb.org
SUMMARY:Healthy Fun & Adventure (Men)
DESCRIPTION:(formerly in-person in SF) \nhttps://us02web.zoom.us/j/88059783225?pwd=TUFwSHdmczRoRy83djZFcTNvMGVsdz09 \nMeeting ID: 880 5978 3225\nPasscode: 839954 \n+1 669 900 6833 US
URL:https://slaa-sfeb.org/event/healthy-fun-and-adventure-men/2026-07-10/
CATEGORIES:Meeting: Zoom / Online
LOCATION:https://us02web.zoom.us/j/88059783225?pwd=TUFwSHdmczRoRy83djZFcTNvMGVsdz09
END:VEVENT
BEGIN:VEVENT
DTSTART;TZID=UTC:20260711T080000
DTEND;TZID=UTC:20260711T090000
DTSTAMP:20260425T081857
CREATED:20250201T081223Z
LAST-MODIFIED:20250827T015315Z
UID:10014233-1783756800-1783760400@slaa-sfeb.org
SUMMARY:Open Men's Meeting
DESCRIPTION:Zoom is open at 7:45 before the meeting and left open for fellowship after the meeting until 9:30. \nHow to ensure your anonymity online/phone \nJOIN THE ZOOM \nMeeting ID: 859 8049 7255\nPasscode: 328236 \nOne tap mobile\n+16699006833\,\,85980497255#\,\,\,\,\,\,0#\,\,328236# US (San Jose)\n+13462487799\,\,85980497255#\,\,\,\,\,\,0#\,\,328236# US (Houston) \n 
URL:https://slaa-sfeb.org/event/open-mens-meeting-2/2026-07-11/
CATEGORIES:Meeting: Zoom / Online
END:VEVENT
BEGIN:VEVENT
DTSTART;TZID=UTC:20260711T090000
DTEND;TZID=UTC:20260711T100000
DTSTAMP:20260425T081857
CREATED:20240807T122809Z
LAST-MODIFIED:20240815T082638Z
UID:10011062-1783760400-1783764000@slaa-sfeb.org
SUMMARY:EB: Men's Meeting – Living in the Solution (NEW)
DESCRIPTION:This meeting is in-person. Reading/Writing alternate weeks.\n\n\n\n\nFellowship following the meeting is encouraged.\nO. Men’s. GC\, 12\, GC\, SC\, SD.\n\n\nGood Shepherd Episcopal Church\n1823 Ninth St. Berkeley\, CA 94710 – Sisson Salon
URL:https://slaa-sfeb.org/event/mens-meeting-living-in-the-solution-new/2026-07-11/
LOCATION:Good Shepherd Episcopal Church\, 1823 9th Street\, Berkeley\, CA\, United States
CATEGORIES:Meeting: In-Person
END:VEVENT
BEGIN:VEVENT
DTSTART;TZID=UTC:20260714T073000
DTEND;TZID=UTC:20260714T083000
DTSTAMP:20260425T081857
CREATED:20240807T063703Z
LAST-MODIFIED:20240815T091906Z
UID:10005842-1784014200-1784017800@slaa-sfeb.org
SUMMARY:EB: In the Solution (Men)
DESCRIPTION:This meeting is an in-person\, men’s meeting.\n\n\n\n\n\nMen only. O. 12\, GC\, SC\, SD.
URL:https://slaa-sfeb.org/event/in-the-solution/2026-07-14/
LOCATION:Berkeley Fellowship of Unitarian Universalists\, 1924 Cedar Street\, Berkeley\, CA\, 94709\, United States
CATEGORIES:Meeting: In-Person
END:VEVENT
BEGIN:VEVENT
DTSTART;TZID=UTC:20260715T200000
DTEND;TZID=UTC:20260715T211500
DTSTAMP:20260425T081857
CREATED:20240807T112123Z
LAST-MODIFIED:20240815T083914Z
UID:10008453-1784145600-1784150100@slaa-sfeb.org
SUMMARY:Men's Basic Text & Speaker Meeting
DESCRIPTION:All male identified individuals welcome. O. GC\, SC\, WA\, S\, NC. Speaker every week. (previously at CPMC in San Francisco) \nhttps://us02web.zoom.us/j/86397645337?pwd=OWZqWnFCdkRxYTNmQmFoVTZqUG5xZz09\nMeeting ID: 863 9764 5337\nPassword: 822460\n+1 669 900 6833 > US \nslaasfebwednesdaynightmens@tutamail.com
URL:https://slaa-sfeb.org/event/sf-mens-basic-text-speaker-meeting/2026-07-15/
CATEGORIES:Meeting: Zoom / Online
LOCATION:https://us02web.zoom.us/j/86397645337?pwd=OWZqWnFCdkRxYTNmQmFoVTZqUG5xZz09
END:VEVENT
BEGIN:VEVENT
DTSTART;TZID=UTC:20260716T180000
DTEND;TZID=UTC:20260716T193000
DTSTAMP:20260425T081857
CREATED:20250201T075445Z
LAST-MODIFIED:20250201T075445Z
UID:10013939-1784224800-1784230200@slaa-sfeb.org
SUMMARY:SF: The San Francisco Augustine Group
DESCRIPTION:Alternating step study/speaker every other week. \nNot wheelchair accessible.
URL:https://slaa-sfeb.org/event/sf-the-san-francisco-augustine-group/2026-07-16/
LOCATION:Holy Innocents Church\, 455 Fair Oaks Street\, San Francisco\, CA\, United States
CATEGORIES:Meeting: In-Person
END:VEVENT
BEGIN:VEVENT
DTSTART;TZID=UTC:20260717T193000
DTEND;TZID=UTC:20260717T203000
DTSTAMP:20260425T081857
CREATED:20240807T121157Z
LAST-MODIFIED:20240815T082758Z
UID:10010541-1784316600-1784320200@slaa-sfeb.org
SUMMARY:Healthy Fun & Adventure (Men)
DESCRIPTION:(formerly in-person in SF) \nhttps://us02web.zoom.us/j/88059783225?pwd=TUFwSHdmczRoRy83djZFcTNvMGVsdz09 \nMeeting ID: 880 5978 3225\nPasscode: 839954 \n+1 669 900 6833 US
URL:https://slaa-sfeb.org/event/healthy-fun-and-adventure-men/2026-07-17/
CATEGORIES:Meeting: Zoom / Online
LOCATION:https://us02web.zoom.us/j/88059783225?pwd=TUFwSHdmczRoRy83djZFcTNvMGVsdz09
END:VEVENT
BEGIN:VEVENT
DTSTART;TZID=UTC:20260718T080000
DTEND;TZID=UTC:20260718T090000
DTSTAMP:20260425T081857
CREATED:20250201T081223Z
LAST-MODIFIED:20250827T015315Z
UID:10014234-1784361600-1784365200@slaa-sfeb.org
SUMMARY:Open Men's Meeting
DESCRIPTION:Zoom is open at 7:45 before the meeting and left open for fellowship after the meeting until 9:30. \nHow to ensure your anonymity online/phone \nJOIN THE ZOOM \nMeeting ID: 859 8049 7255\nPasscode: 328236 \nOne tap mobile\n+16699006833\,\,85980497255#\,\,\,\,\,\,0#\,\,328236# US (San Jose)\n+13462487799\,\,85980497255#\,\,\,\,\,\,0#\,\,328236# US (Houston) \n 
URL:https://slaa-sfeb.org/event/open-mens-meeting-2/2026-07-18/
CATEGORIES:Meeting: Zoom / Online
END:VEVENT
BEGIN:VEVENT
DTSTART;TZID=UTC:20260718T090000
DTEND;TZID=UTC:20260718T100000
DTSTAMP:20260425T081857
CREATED:20240807T122809Z
LAST-MODIFIED:20240815T082638Z
UID:10011063-1784365200-1784368800@slaa-sfeb.org
SUMMARY:EB: Men's Meeting – Living in the Solution (NEW)
DESCRIPTION:This meeting is in-person. Reading/Writing alternate weeks.\n\n\n\n\nFellowship following the meeting is encouraged.\nO. Men’s. GC\, 12\, GC\, SC\, SD.\n\n\nGood Shepherd Episcopal Church\n1823 Ninth St. Berkeley\, CA 94710 – Sisson Salon
URL:https://slaa-sfeb.org/event/mens-meeting-living-in-the-solution-new/2026-07-18/
LOCATION:Good Shepherd Episcopal Church\, 1823 9th Street\, Berkeley\, CA\, United States
CATEGORIES:Meeting: In-Person
END:VEVENT
BEGIN:VEVENT
DTSTART;TZID=UTC:20260721T073000
DTEND;TZID=UTC:20260721T083000
DTSTAMP:20260425T081857
CREATED:20240807T063703Z
LAST-MODIFIED:20240815T091906Z
UID:10005843-1784619000-1784622600@slaa-sfeb.org
SUMMARY:EB: In the Solution (Men)
DESCRIPTION:This meeting is an in-person\, men’s meeting.\n\n\n\n\n\nMen only. O. 12\, GC\, SC\, SD.
URL:https://slaa-sfeb.org/event/in-the-solution/2026-07-21/
LOCATION:Berkeley Fellowship of Unitarian Universalists\, 1924 Cedar Street\, Berkeley\, CA\, 94709\, United States
CATEGORIES:Meeting: In-Person
END:VEVENT
BEGIN:VEVENT
DTSTART;TZID=UTC:20260722T200000
DTEND;TZID=UTC:20260722T211500
DTSTAMP:20260425T081857
CREATED:20240807T112123Z
LAST-MODIFIED:20240815T083914Z
UID:10008454-1784750400-1784754900@slaa-sfeb.org
SUMMARY:Men's Basic Text & Speaker Meeting
DESCRIPTION:All male identified individuals welcome. O. GC\, SC\, WA\, S\, NC. Speaker every week. (previously at CPMC in San Francisco) \nhttps://us02web.zoom.us/j/86397645337?pwd=OWZqWnFCdkRxYTNmQmFoVTZqUG5xZz09\nMeeting ID: 863 9764 5337\nPassword: 822460\n+1 669 900 6833 > US \nslaasfebwednesdaynightmens@tutamail.com
URL:https://slaa-sfeb.org/event/sf-mens-basic-text-speaker-meeting/2026-07-22/
CATEGORIES:Meeting: Zoom / Online
LOCATION:https://us02web.zoom.us/j/86397645337?pwd=OWZqWnFCdkRxYTNmQmFoVTZqUG5xZz09
END:VEVENT
BEGIN:VEVENT
DTSTART;TZID=UTC:20260723T180000
DTEND;TZID=UTC:20260723T193000
DTSTAMP:20260425T081857
CREATED:20250201T075445Z
LAST-MODIFIED:20250201T075445Z
UID:10013940-1784829600-1784835000@slaa-sfeb.org
SUMMARY:SF: The San Francisco Augustine Group
DESCRIPTION:Alternating step study/speaker every other week. \nNot wheelchair accessible.
URL:https://slaa-sfeb.org/event/sf-the-san-francisco-augustine-group/2026-07-23/
LOCATION:Holy Innocents Church\, 455 Fair Oaks Street\, San Francisco\, CA\, United States
CATEGORIES:Meeting: In-Person
END:VEVENT
BEGIN:VEVENT
DTSTART;TZID=UTC:20260724T193000
DTEND;TZID=UTC:20260724T203000
DTSTAMP:20260425T081857
CREATED:20240807T121157Z
LAST-MODIFIED:20240815T082758Z
UID:10010542-1784921400-1784925000@slaa-sfeb.org
SUMMARY:Healthy Fun & Adventure (Men)
DESCRIPTION:(formerly in-person in SF) \nhttps://us02web.zoom.us/j/88059783225?pwd=TUFwSHdmczRoRy83djZFcTNvMGVsdz09 \nMeeting ID: 880 5978 3225\nPasscode: 839954 \n+1 669 900 6833 US
URL:https://slaa-sfeb.org/event/healthy-fun-and-adventure-men/2026-07-24/
CATEGORIES:Meeting: Zoom / Online
LOCATION:https://us02web.zoom.us/j/88059783225?pwd=TUFwSHdmczRoRy83djZFcTNvMGVsdz09
END:VEVENT
BEGIN:VEVENT
DTSTART;TZID=UTC:20260725T080000
DTEND;TZID=UTC:20260725T090000
DTSTAMP:20260425T081857
CREATED:20250201T081223Z
LAST-MODIFIED:20250827T015315Z
UID:10014235-1784966400-1784970000@slaa-sfeb.org
SUMMARY:Open Men's Meeting
DESCRIPTION:Zoom is open at 7:45 before the meeting and left open for fellowship after the meeting until 9:30. \nHow to ensure your anonymity online/phone \nJOIN THE ZOOM \nMeeting ID: 859 8049 7255\nPasscode: 328236 \nOne tap mobile\n+16699006833\,\,85980497255#\,\,\,\,\,\,0#\,\,328236# US (San Jose)\n+13462487799\,\,85980497255#\,\,\,\,\,\,0#\,\,328236# US (Houston) \n 
URL:https://slaa-sfeb.org/event/open-mens-meeting-2/2026-07-25/
CATEGORIES:Meeting: Zoom / Online
END:VEVENT
BEGIN:VEVENT
DTSTART;TZID=UTC:20260725T090000
DTEND;TZID=UTC:20260725T100000
DTSTAMP:20260425T081857
CREATED:20240807T122809Z
LAST-MODIFIED:20240815T082638Z
UID:10011064-1784970000-1784973600@slaa-sfeb.org
SUMMARY:EB: Men's Meeting – Living in the Solution (NEW)
DESCRIPTION:This meeting is in-person. Reading/Writing alternate weeks.\n\n\n\n\nFellowship following the meeting is encouraged.\nO. Men’s. GC\, 12\, GC\, SC\, SD.\n\n\nGood Shepherd Episcopal Church\n1823 Ninth St. Berkeley\, CA 94710 – Sisson Salon
URL:https://slaa-sfeb.org/event/mens-meeting-living-in-the-solution-new/2026-07-25/
LOCATION:Good Shepherd Episcopal Church\, 1823 9th Street\, Berkeley\, CA\, United States
CATEGORIES:Meeting: In-Person
END:VEVENT
BEGIN:VEVENT
DTSTART;TZID=UTC:20260728T073000
DTEND;TZID=UTC:20260728T083000
DTSTAMP:20260425T081857
CREATED:20240807T063703Z
LAST-MODIFIED:20240815T091906Z
UID:10005844-1785223800-1785227400@slaa-sfeb.org
SUMMARY:EB: In the Solution (Men)
DESCRIPTION:This meeting is an in-person\, men’s meeting.\n\n\n\n\n\nMen only. O. 12\, GC\, SC\, SD.
URL:https://slaa-sfeb.org/event/in-the-solution/2026-07-28/
LOCATION:Berkeley Fellowship of Unitarian Universalists\, 1924 Cedar Street\, Berkeley\, CA\, 94709\, United States
CATEGORIES:Meeting: In-Person
END:VEVENT
BEGIN:VEVENT
DTSTART;TZID=UTC:20260729T200000
DTEND;TZID=UTC:20260729T211500
DTSTAMP:20260425T081857
CREATED:20240807T112123Z
LAST-MODIFIED:20240815T083914Z
UID:10008455-1785355200-1785359700@slaa-sfeb.org
SUMMARY:Men's Basic Text & Speaker Meeting
DESCRIPTION:All male identified individuals welcome. O. GC\, SC\, WA\, S\, NC. Speaker every week. (previously at CPMC in San Francisco) \nhttps://us02web.zoom.us/j/86397645337?pwd=OWZqWnFCdkRxYTNmQmFoVTZqUG5xZz09\nMeeting ID: 863 9764 5337\nPassword: 822460\n+1 669 900 6833 > US \nslaasfebwednesdaynightmens@tutamail.com
URL:https://slaa-sfeb.org/event/sf-mens-basic-text-speaker-meeting/2026-07-29/
CATEGORIES:Meeting: Zoom / Online
LOCATION:https://us02web.zoom.us/j/86397645337?pwd=OWZqWnFCdkRxYTNmQmFoVTZqUG5xZz09
END:VEVENT
BEGIN:VEVENT
DTSTART;TZID=UTC:20260730T180000
DTEND;TZID=UTC:20260730T193000
DTSTAMP:20260425T081857
CREATED:20250201T075445Z
LAST-MODIFIED:20250201T075445Z
UID:10013941-1785434400-1785439800@slaa-sfeb.org
SUMMARY:SF: The San Francisco Augustine Group
DESCRIPTION:Alternating step study/speaker every other week. \nNot wheelchair accessible.
URL:https://slaa-sfeb.org/event/sf-the-san-francisco-augustine-group/2026-07-30/
LOCATION:Holy Innocents Church\, 455 Fair Oaks Street\, San Francisco\, CA\, United States
CATEGORIES:Meeting: In-Person
END:VEVENT
BEGIN:VEVENT
DTSTART;TZID=UTC:20260731T193000
DTEND;TZID=UTC:20260731T203000
DTSTAMP:20260425T081857
CREATED:20240807T121157Z
LAST-MODIFIED:20240815T082758Z
UID:10010543-1785526200-1785529800@slaa-sfeb.org
SUMMARY:Healthy Fun & Adventure (Men)
DESCRIPTION:(formerly in-person in SF) \nhttps://us02web.zoom.us/j/88059783225?pwd=TUFwSHdmczRoRy83djZFcTNvMGVsdz09 \nMeeting ID: 880 5978 3225\nPasscode: 839954 \n+1 669 900 6833 US
URL:https://slaa-sfeb.org/event/healthy-fun-and-adventure-men/2026-07-31/
CATEGORIES:Meeting: Zoom / Online
LOCATION:https://us02web.zoom.us/j/88059783225?pwd=TUFwSHdmczRoRy83djZFcTNvMGVsdz09
END:VEVENT
END:VCALENDAR