
BEGIN:VCALENDAR
VERSION:2.0
PRODID:-//San Francisco / East Bay SLAA - ECPv6.15.20//NONSGML v1.0//EN
CALSCALE:GREGORIAN
METHOD:PUBLISH
X-ORIGINAL-URL:https://slaa-sfeb.org
X-WR-CALDESC:Events for San Francisco / East Bay SLAA
REFRESH-INTERVAL;VALUE=DURATION:PT1H
X-Robots-Tag:noindex
X-PUBLISHED-TTL:PT1H
BEGIN:VTIMEZONE
TZID:UTC
BEGIN:STANDARD
TZOFFSETFROM:+0000
TZOFFSETTO:+0000
TZNAME:UTC
DTSTART:20250101T000000
END:STANDARD
END:VTIMEZONE
BEGIN:VEVENT
DTSTART;TZID=UTC:20260901T073000
DTEND;TZID=UTC:20260901T083000
DTSTAMP:20260425T091159
CREATED:20240807T063703Z
LAST-MODIFIED:20240815T091906Z
UID:10005849-1788247800-1788251400@slaa-sfeb.org
SUMMARY:EB: In the Solution (Men)
DESCRIPTION:This meeting is an in-person\, men’s meeting.\n\n\n\n\n\nMen only. O. 12\, GC\, SC\, SD.
URL:https://slaa-sfeb.org/event/in-the-solution/2026-09-01/
LOCATION:Berkeley Fellowship of Unitarian Universalists\, 1924 Cedar Street\, Berkeley\, CA\, 94709\, United States
CATEGORIES:Meeting: In-Person
END:VEVENT
BEGIN:VEVENT
DTSTART;TZID=UTC:20260902T200000
DTEND;TZID=UTC:20260902T211500
DTSTAMP:20260425T091159
CREATED:20240807T112123Z
LAST-MODIFIED:20240815T083914Z
UID:10008460-1788379200-1788383700@slaa-sfeb.org
SUMMARY:Men's Basic Text & Speaker Meeting
DESCRIPTION:All male identified individuals welcome. O. GC\, SC\, WA\, S\, NC. Speaker every week. (previously at CPMC in San Francisco) \nhttps://us02web.zoom.us/j/86397645337?pwd=OWZqWnFCdkRxYTNmQmFoVTZqUG5xZz09\nMeeting ID: 863 9764 5337\nPassword: 822460\n+1 669 900 6833 > US \nslaasfebwednesdaynightmens@tutamail.com
URL:https://slaa-sfeb.org/event/sf-mens-basic-text-speaker-meeting/2026-09-02/
CATEGORIES:Meeting: Zoom / Online
LOCATION:https://us02web.zoom.us/j/86397645337?pwd=OWZqWnFCdkRxYTNmQmFoVTZqUG5xZz09
END:VEVENT
BEGIN:VEVENT
DTSTART;TZID=UTC:20260903T180000
DTEND;TZID=UTC:20260903T193000
DTSTAMP:20260425T091159
CREATED:20250201T075445Z
LAST-MODIFIED:20250201T075445Z
UID:10013946-1788458400-1788463800@slaa-sfeb.org
SUMMARY:SF: The San Francisco Augustine Group
DESCRIPTION:Alternating step study/speaker every other week. \nNot wheelchair accessible.
URL:https://slaa-sfeb.org/event/sf-the-san-francisco-augustine-group/2026-09-03/
LOCATION:Holy Innocents Church\, 455 Fair Oaks Street\, San Francisco\, CA\, United States
CATEGORIES:Meeting: In-Person
END:VEVENT
BEGIN:VEVENT
DTSTART;TZID=UTC:20260904T193000
DTEND;TZID=UTC:20260904T203000
DTSTAMP:20260425T091159
CREATED:20240807T121157Z
LAST-MODIFIED:20240815T082758Z
UID:10010548-1788550200-1788553800@slaa-sfeb.org
SUMMARY:Healthy Fun & Adventure (Men)
DESCRIPTION:(formerly in-person in SF) \nhttps://us02web.zoom.us/j/88059783225?pwd=TUFwSHdmczRoRy83djZFcTNvMGVsdz09 \nMeeting ID: 880 5978 3225\nPasscode: 839954 \n+1 669 900 6833 US
URL:https://slaa-sfeb.org/event/healthy-fun-and-adventure-men/2026-09-04/
CATEGORIES:Meeting: Zoom / Online
LOCATION:https://us02web.zoom.us/j/88059783225?pwd=TUFwSHdmczRoRy83djZFcTNvMGVsdz09
END:VEVENT
BEGIN:VEVENT
DTSTART;TZID=UTC:20260905T080000
DTEND;TZID=UTC:20260905T090000
DTSTAMP:20260425T091159
CREATED:20250201T081223Z
LAST-MODIFIED:20250827T015315Z
UID:10014241-1788595200-1788598800@slaa-sfeb.org
SUMMARY:Open Men's Meeting
DESCRIPTION:Zoom is open at 7:45 before the meeting and left open for fellowship after the meeting until 9:30. \nHow to ensure your anonymity online/phone \nJOIN THE ZOOM \nMeeting ID: 859 8049 7255\nPasscode: 328236 \nOne tap mobile\n+16699006833\,\,85980497255#\,\,\,\,\,\,0#\,\,328236# US (San Jose)\n+13462487799\,\,85980497255#\,\,\,\,\,\,0#\,\,328236# US (Houston) \n 
URL:https://slaa-sfeb.org/event/open-mens-meeting-2/2026-09-05/
CATEGORIES:Meeting: Zoom / Online
END:VEVENT
BEGIN:VEVENT
DTSTART;TZID=UTC:20260905T090000
DTEND;TZID=UTC:20260905T100000
DTSTAMP:20260425T091159
CREATED:20240807T122809Z
LAST-MODIFIED:20240815T082638Z
UID:10011070-1788598800-1788602400@slaa-sfeb.org
SUMMARY:EB: Men's Meeting – Living in the Solution (NEW)
DESCRIPTION:This meeting is in-person. Reading/Writing alternate weeks.\n\n\n\n\nFellowship following the meeting is encouraged.\nO. Men’s. GC\, 12\, GC\, SC\, SD.\n\n\nGood Shepherd Episcopal Church\n1823 Ninth St. Berkeley\, CA 94710 – Sisson Salon
URL:https://slaa-sfeb.org/event/mens-meeting-living-in-the-solution-new/2026-09-05/
LOCATION:Good Shepherd Episcopal Church\, 1823 9th Street\, Berkeley\, CA\, United States
CATEGORIES:Meeting: In-Person
END:VEVENT
BEGIN:VEVENT
DTSTART;TZID=UTC:20260908T073000
DTEND;TZID=UTC:20260908T083000
DTSTAMP:20260425T091159
CREATED:20240807T063703Z
LAST-MODIFIED:20240815T091906Z
UID:10005850-1788852600-1788856200@slaa-sfeb.org
SUMMARY:EB: In the Solution (Men)
DESCRIPTION:This meeting is an in-person\, men’s meeting.\n\n\n\n\n\nMen only. O. 12\, GC\, SC\, SD.
URL:https://slaa-sfeb.org/event/in-the-solution/2026-09-08/
LOCATION:Berkeley Fellowship of Unitarian Universalists\, 1924 Cedar Street\, Berkeley\, CA\, 94709\, United States
CATEGORIES:Meeting: In-Person
END:VEVENT
BEGIN:VEVENT
DTSTART;TZID=UTC:20260909T200000
DTEND;TZID=UTC:20260909T211500
DTSTAMP:20260425T091159
CREATED:20240807T112123Z
LAST-MODIFIED:20240815T083914Z
UID:10008461-1788984000-1788988500@slaa-sfeb.org
SUMMARY:Men's Basic Text & Speaker Meeting
DESCRIPTION:All male identified individuals welcome. O. GC\, SC\, WA\, S\, NC. Speaker every week. (previously at CPMC in San Francisco) \nhttps://us02web.zoom.us/j/86397645337?pwd=OWZqWnFCdkRxYTNmQmFoVTZqUG5xZz09\nMeeting ID: 863 9764 5337\nPassword: 822460\n+1 669 900 6833 > US \nslaasfebwednesdaynightmens@tutamail.com
URL:https://slaa-sfeb.org/event/sf-mens-basic-text-speaker-meeting/2026-09-09/
CATEGORIES:Meeting: Zoom / Online
LOCATION:https://us02web.zoom.us/j/86397645337?pwd=OWZqWnFCdkRxYTNmQmFoVTZqUG5xZz09
END:VEVENT
BEGIN:VEVENT
DTSTART;TZID=UTC:20260910T180000
DTEND;TZID=UTC:20260910T193000
DTSTAMP:20260425T091159
CREATED:20250201T075445Z
LAST-MODIFIED:20250201T075445Z
UID:10013947-1789063200-1789068600@slaa-sfeb.org
SUMMARY:SF: The San Francisco Augustine Group
DESCRIPTION:Alternating step study/speaker every other week. \nNot wheelchair accessible.
URL:https://slaa-sfeb.org/event/sf-the-san-francisco-augustine-group/2026-09-10/
LOCATION:Holy Innocents Church\, 455 Fair Oaks Street\, San Francisco\, CA\, United States
CATEGORIES:Meeting: In-Person
END:VEVENT
BEGIN:VEVENT
DTSTART;TZID=UTC:20260911T193000
DTEND;TZID=UTC:20260911T203000
DTSTAMP:20260425T091159
CREATED:20240807T121157Z
LAST-MODIFIED:20240815T082758Z
UID:10010549-1789155000-1789158600@slaa-sfeb.org
SUMMARY:Healthy Fun & Adventure (Men)
DESCRIPTION:(formerly in-person in SF) \nhttps://us02web.zoom.us/j/88059783225?pwd=TUFwSHdmczRoRy83djZFcTNvMGVsdz09 \nMeeting ID: 880 5978 3225\nPasscode: 839954 \n+1 669 900 6833 US
URL:https://slaa-sfeb.org/event/healthy-fun-and-adventure-men/2026-09-11/
CATEGORIES:Meeting: Zoom / Online
LOCATION:https://us02web.zoom.us/j/88059783225?pwd=TUFwSHdmczRoRy83djZFcTNvMGVsdz09
END:VEVENT
BEGIN:VEVENT
DTSTART;TZID=UTC:20260912T080000
DTEND;TZID=UTC:20260912T090000
DTSTAMP:20260425T091159
CREATED:20250201T081223Z
LAST-MODIFIED:20250827T015315Z
UID:10014242-1789200000-1789203600@slaa-sfeb.org
SUMMARY:Open Men's Meeting
DESCRIPTION:Zoom is open at 7:45 before the meeting and left open for fellowship after the meeting until 9:30. \nHow to ensure your anonymity online/phone \nJOIN THE ZOOM \nMeeting ID: 859 8049 7255\nPasscode: 328236 \nOne tap mobile\n+16699006833\,\,85980497255#\,\,\,\,\,\,0#\,\,328236# US (San Jose)\n+13462487799\,\,85980497255#\,\,\,\,\,\,0#\,\,328236# US (Houston) \n 
URL:https://slaa-sfeb.org/event/open-mens-meeting-2/2026-09-12/
CATEGORIES:Meeting: Zoom / Online
END:VEVENT
BEGIN:VEVENT
DTSTART;TZID=UTC:20260912T090000
DTEND;TZID=UTC:20260912T100000
DTSTAMP:20260425T091159
CREATED:20240807T122809Z
LAST-MODIFIED:20240815T082638Z
UID:10011071-1789203600-1789207200@slaa-sfeb.org
SUMMARY:EB: Men's Meeting – Living in the Solution (NEW)
DESCRIPTION:This meeting is in-person. Reading/Writing alternate weeks.\n\n\n\n\nFellowship following the meeting is encouraged.\nO. Men’s. GC\, 12\, GC\, SC\, SD.\n\n\nGood Shepherd Episcopal Church\n1823 Ninth St. Berkeley\, CA 94710 – Sisson Salon
URL:https://slaa-sfeb.org/event/mens-meeting-living-in-the-solution-new/2026-09-12/
LOCATION:Good Shepherd Episcopal Church\, 1823 9th Street\, Berkeley\, CA\, United States
CATEGORIES:Meeting: In-Person
END:VEVENT
BEGIN:VEVENT
DTSTART;TZID=UTC:20260915T073000
DTEND;TZID=UTC:20260915T083000
DTSTAMP:20260425T091159
CREATED:20240807T063703Z
LAST-MODIFIED:20240815T091906Z
UID:10005851-1789457400-1789461000@slaa-sfeb.org
SUMMARY:EB: In the Solution (Men)
DESCRIPTION:This meeting is an in-person\, men’s meeting.\n\n\n\n\n\nMen only. O. 12\, GC\, SC\, SD.
URL:https://slaa-sfeb.org/event/in-the-solution/2026-09-15/
LOCATION:Berkeley Fellowship of Unitarian Universalists\, 1924 Cedar Street\, Berkeley\, CA\, 94709\, United States
CATEGORIES:Meeting: In-Person
END:VEVENT
BEGIN:VEVENT
DTSTART;TZID=UTC:20260916T200000
DTEND;TZID=UTC:20260916T211500
DTSTAMP:20260425T091159
CREATED:20240807T112123Z
LAST-MODIFIED:20240815T083914Z
UID:10008462-1789588800-1789593300@slaa-sfeb.org
SUMMARY:Men's Basic Text & Speaker Meeting
DESCRIPTION:All male identified individuals welcome. O. GC\, SC\, WA\, S\, NC. Speaker every week. (previously at CPMC in San Francisco) \nhttps://us02web.zoom.us/j/86397645337?pwd=OWZqWnFCdkRxYTNmQmFoVTZqUG5xZz09\nMeeting ID: 863 9764 5337\nPassword: 822460\n+1 669 900 6833 > US \nslaasfebwednesdaynightmens@tutamail.com
URL:https://slaa-sfeb.org/event/sf-mens-basic-text-speaker-meeting/2026-09-16/
CATEGORIES:Meeting: Zoom / Online
LOCATION:https://us02web.zoom.us/j/86397645337?pwd=OWZqWnFCdkRxYTNmQmFoVTZqUG5xZz09
END:VEVENT
BEGIN:VEVENT
DTSTART;TZID=UTC:20260917T180000
DTEND;TZID=UTC:20260917T193000
DTSTAMP:20260425T091159
CREATED:20250201T075445Z
LAST-MODIFIED:20250201T075445Z
UID:10013948-1789668000-1789673400@slaa-sfeb.org
SUMMARY:SF: The San Francisco Augustine Group
DESCRIPTION:Alternating step study/speaker every other week. \nNot wheelchair accessible.
URL:https://slaa-sfeb.org/event/sf-the-san-francisco-augustine-group/2026-09-17/
LOCATION:Holy Innocents Church\, 455 Fair Oaks Street\, San Francisco\, CA\, United States
CATEGORIES:Meeting: In-Person
END:VEVENT
BEGIN:VEVENT
DTSTART;TZID=UTC:20260918T193000
DTEND;TZID=UTC:20260918T203000
DTSTAMP:20260425T091159
CREATED:20240807T121157Z
LAST-MODIFIED:20240815T082758Z
UID:10010550-1789759800-1789763400@slaa-sfeb.org
SUMMARY:Healthy Fun & Adventure (Men)
DESCRIPTION:(formerly in-person in SF) \nhttps://us02web.zoom.us/j/88059783225?pwd=TUFwSHdmczRoRy83djZFcTNvMGVsdz09 \nMeeting ID: 880 5978 3225\nPasscode: 839954 \n+1 669 900 6833 US
URL:https://slaa-sfeb.org/event/healthy-fun-and-adventure-men/2026-09-18/
CATEGORIES:Meeting: Zoom / Online
LOCATION:https://us02web.zoom.us/j/88059783225?pwd=TUFwSHdmczRoRy83djZFcTNvMGVsdz09
END:VEVENT
BEGIN:VEVENT
DTSTART;TZID=UTC:20260919T080000
DTEND;TZID=UTC:20260919T090000
DTSTAMP:20260425T091159
CREATED:20250201T081223Z
LAST-MODIFIED:20250827T015315Z
UID:10014243-1789804800-1789808400@slaa-sfeb.org
SUMMARY:Open Men's Meeting
DESCRIPTION:Zoom is open at 7:45 before the meeting and left open for fellowship after the meeting until 9:30. \nHow to ensure your anonymity online/phone \nJOIN THE ZOOM \nMeeting ID: 859 8049 7255\nPasscode: 328236 \nOne tap mobile\n+16699006833\,\,85980497255#\,\,\,\,\,\,0#\,\,328236# US (San Jose)\n+13462487799\,\,85980497255#\,\,\,\,\,\,0#\,\,328236# US (Houston) \n 
URL:https://slaa-sfeb.org/event/open-mens-meeting-2/2026-09-19/
CATEGORIES:Meeting: Zoom / Online
END:VEVENT
BEGIN:VEVENT
DTSTART;TZID=UTC:20260919T090000
DTEND;TZID=UTC:20260919T100000
DTSTAMP:20260425T091159
CREATED:20240807T122809Z
LAST-MODIFIED:20240815T082638Z
UID:10011072-1789808400-1789812000@slaa-sfeb.org
SUMMARY:EB: Men's Meeting – Living in the Solution (NEW)
DESCRIPTION:This meeting is in-person. Reading/Writing alternate weeks.\n\n\n\n\nFellowship following the meeting is encouraged.\nO. Men’s. GC\, 12\, GC\, SC\, SD.\n\n\nGood Shepherd Episcopal Church\n1823 Ninth St. Berkeley\, CA 94710 – Sisson Salon
URL:https://slaa-sfeb.org/event/mens-meeting-living-in-the-solution-new/2026-09-19/
LOCATION:Good Shepherd Episcopal Church\, 1823 9th Street\, Berkeley\, CA\, United States
CATEGORIES:Meeting: In-Person
END:VEVENT
BEGIN:VEVENT
DTSTART;TZID=UTC:20260922T073000
DTEND;TZID=UTC:20260922T083000
DTSTAMP:20260425T091159
CREATED:20240807T063703Z
LAST-MODIFIED:20240815T091906Z
UID:10005852-1790062200-1790065800@slaa-sfeb.org
SUMMARY:EB: In the Solution (Men)
DESCRIPTION:This meeting is an in-person\, men’s meeting.\n\n\n\n\n\nMen only. O. 12\, GC\, SC\, SD.
URL:https://slaa-sfeb.org/event/in-the-solution/2026-09-22/
LOCATION:Berkeley Fellowship of Unitarian Universalists\, 1924 Cedar Street\, Berkeley\, CA\, 94709\, United States
CATEGORIES:Meeting: In-Person
END:VEVENT
BEGIN:VEVENT
DTSTART;TZID=UTC:20260923T200000
DTEND;TZID=UTC:20260923T211500
DTSTAMP:20260425T091159
CREATED:20240807T112123Z
LAST-MODIFIED:20240815T083914Z
UID:10008463-1790193600-1790198100@slaa-sfeb.org
SUMMARY:Men's Basic Text & Speaker Meeting
DESCRIPTION:All male identified individuals welcome. O. GC\, SC\, WA\, S\, NC. Speaker every week. (previously at CPMC in San Francisco) \nhttps://us02web.zoom.us/j/86397645337?pwd=OWZqWnFCdkRxYTNmQmFoVTZqUG5xZz09\nMeeting ID: 863 9764 5337\nPassword: 822460\n+1 669 900 6833 > US \nslaasfebwednesdaynightmens@tutamail.com
URL:https://slaa-sfeb.org/event/sf-mens-basic-text-speaker-meeting/2026-09-23/
CATEGORIES:Meeting: Zoom / Online
LOCATION:https://us02web.zoom.us/j/86397645337?pwd=OWZqWnFCdkRxYTNmQmFoVTZqUG5xZz09
END:VEVENT
BEGIN:VEVENT
DTSTART;TZID=UTC:20260924T180000
DTEND;TZID=UTC:20260924T193000
DTSTAMP:20260425T091159
CREATED:20250201T075445Z
LAST-MODIFIED:20250201T075445Z
UID:10013949-1790272800-1790278200@slaa-sfeb.org
SUMMARY:SF: The San Francisco Augustine Group
DESCRIPTION:Alternating step study/speaker every other week. \nNot wheelchair accessible.
URL:https://slaa-sfeb.org/event/sf-the-san-francisco-augustine-group/2026-09-24/
LOCATION:Holy Innocents Church\, 455 Fair Oaks Street\, San Francisco\, CA\, United States
CATEGORIES:Meeting: In-Person
END:VEVENT
BEGIN:VEVENT
DTSTART;TZID=UTC:20260925T193000
DTEND;TZID=UTC:20260925T203000
DTSTAMP:20260425T091159
CREATED:20240807T121157Z
LAST-MODIFIED:20240815T082758Z
UID:10010551-1790364600-1790368200@slaa-sfeb.org
SUMMARY:Healthy Fun & Adventure (Men)
DESCRIPTION:(formerly in-person in SF) \nhttps://us02web.zoom.us/j/88059783225?pwd=TUFwSHdmczRoRy83djZFcTNvMGVsdz09 \nMeeting ID: 880 5978 3225\nPasscode: 839954 \n+1 669 900 6833 US
URL:https://slaa-sfeb.org/event/healthy-fun-and-adventure-men/2026-09-25/
CATEGORIES:Meeting: Zoom / Online
LOCATION:https://us02web.zoom.us/j/88059783225?pwd=TUFwSHdmczRoRy83djZFcTNvMGVsdz09
END:VEVENT
BEGIN:VEVENT
DTSTART;TZID=UTC:20260926T080000
DTEND;TZID=UTC:20260926T090000
DTSTAMP:20260425T091159
CREATED:20250201T081223Z
LAST-MODIFIED:20250827T015315Z
UID:10014244-1790409600-1790413200@slaa-sfeb.org
SUMMARY:Open Men's Meeting
DESCRIPTION:Zoom is open at 7:45 before the meeting and left open for fellowship after the meeting until 9:30. \nHow to ensure your anonymity online/phone \nJOIN THE ZOOM \nMeeting ID: 859 8049 7255\nPasscode: 328236 \nOne tap mobile\n+16699006833\,\,85980497255#\,\,\,\,\,\,0#\,\,328236# US (San Jose)\n+13462487799\,\,85980497255#\,\,\,\,\,\,0#\,\,328236# US (Houston) \n 
URL:https://slaa-sfeb.org/event/open-mens-meeting-2/2026-09-26/
CATEGORIES:Meeting: Zoom / Online
END:VEVENT
BEGIN:VEVENT
DTSTART;TZID=UTC:20260926T090000
DTEND;TZID=UTC:20260926T100000
DTSTAMP:20260425T091159
CREATED:20240807T122809Z
LAST-MODIFIED:20240815T082638Z
UID:10011073-1790413200-1790416800@slaa-sfeb.org
SUMMARY:EB: Men's Meeting – Living in the Solution (NEW)
DESCRIPTION:This meeting is in-person. Reading/Writing alternate weeks.\n\n\n\n\nFellowship following the meeting is encouraged.\nO. Men’s. GC\, 12\, GC\, SC\, SD.\n\n\nGood Shepherd Episcopal Church\n1823 Ninth St. Berkeley\, CA 94710 – Sisson Salon
URL:https://slaa-sfeb.org/event/mens-meeting-living-in-the-solution-new/2026-09-26/
LOCATION:Good Shepherd Episcopal Church\, 1823 9th Street\, Berkeley\, CA\, United States
CATEGORIES:Meeting: In-Person
END:VEVENT
BEGIN:VEVENT
DTSTART;TZID=UTC:20260929T073000
DTEND;TZID=UTC:20260929T083000
DTSTAMP:20260425T091159
CREATED:20240807T063703Z
LAST-MODIFIED:20240815T091906Z
UID:10005853-1790667000-1790670600@slaa-sfeb.org
SUMMARY:EB: In the Solution (Men)
DESCRIPTION:This meeting is an in-person\, men’s meeting.\n\n\n\n\n\nMen only. O. 12\, GC\, SC\, SD.
URL:https://slaa-sfeb.org/event/in-the-solution/2026-09-29/
LOCATION:Berkeley Fellowship of Unitarian Universalists\, 1924 Cedar Street\, Berkeley\, CA\, 94709\, United States
CATEGORIES:Meeting: In-Person
END:VEVENT
BEGIN:VEVENT
DTSTART;TZID=UTC:20260930T200000
DTEND;TZID=UTC:20260930T211500
DTSTAMP:20260425T091159
CREATED:20240807T112123Z
LAST-MODIFIED:20240815T083914Z
UID:10008464-1790798400-1790802900@slaa-sfeb.org
SUMMARY:Men's Basic Text & Speaker Meeting
DESCRIPTION:All male identified individuals welcome. O. GC\, SC\, WA\, S\, NC. Speaker every week. (previously at CPMC in San Francisco) \nhttps://us02web.zoom.us/j/86397645337?pwd=OWZqWnFCdkRxYTNmQmFoVTZqUG5xZz09\nMeeting ID: 863 9764 5337\nPassword: 822460\n+1 669 900 6833 > US \nslaasfebwednesdaynightmens@tutamail.com
URL:https://slaa-sfeb.org/event/sf-mens-basic-text-speaker-meeting/2026-09-30/
CATEGORIES:Meeting: Zoom / Online
LOCATION:https://us02web.zoom.us/j/86397645337?pwd=OWZqWnFCdkRxYTNmQmFoVTZqUG5xZz09
END:VEVENT
END:VCALENDAR