
BEGIN:VCALENDAR
VERSION:2.0
PRODID:-//San Francisco / East Bay SLAA - ECPv6.15.20//NONSGML v1.0//EN
CALSCALE:GREGORIAN
METHOD:PUBLISH
X-WR-CALNAME:San Francisco / East Bay SLAA
X-ORIGINAL-URL:https://slaa-sfeb.org
X-WR-CALDESC:Events for San Francisco / East Bay SLAA
REFRESH-INTERVAL;VALUE=DURATION:PT1H
X-Robots-Tag:noindex
X-PUBLISHED-TTL:PT1H
BEGIN:VTIMEZONE
TZID:UTC
BEGIN:STANDARD
TZOFFSETFROM:+0000
TZOFFSETTO:+0000
TZNAME:UTC
DTSTART:20250101T000000
END:STANDARD
END:VTIMEZONE
BEGIN:VEVENT
DTSTART;TZID=UTC:20260415T200000
DTEND;TZID=UTC:20260415T211500
DTSTAMP:20260420T224533
CREATED:20240807T112123Z
LAST-MODIFIED:20240815T083914Z
UID:10008440-1776283200-1776287700@slaa-sfeb.org
SUMMARY:Men's Basic Text & Speaker Meeting
DESCRIPTION:All male identified individuals welcome. O. GC\, SC\, WA\, S\, NC. Speaker every week. (previously at CPMC in San Francisco) \nhttps://us02web.zoom.us/j/86397645337?pwd=OWZqWnFCdkRxYTNmQmFoVTZqUG5xZz09\nMeeting ID: 863 9764 5337\nPassword: 822460\n+1 669 900 6833 > US \nslaasfebwednesdaynightmens@tutamail.com
URL:https://slaa-sfeb.org/event/sf-mens-basic-text-speaker-meeting/2026-04-15/
CATEGORIES:Meeting: Zoom / Online
LOCATION:https://us02web.zoom.us/j/86397645337?pwd=OWZqWnFCdkRxYTNmQmFoVTZqUG5xZz09
END:VEVENT
END:VCALENDAR