
BEGIN:VCALENDAR
VERSION:2.0
PRODID:-//San Francisco / East Bay SLAA - ECPv6.15.20//NONSGML v1.0//EN
CALSCALE:GREGORIAN
METHOD:PUBLISH
X-WR-CALNAME:San Francisco / East Bay SLAA
X-ORIGINAL-URL:https://slaa-sfeb.org
X-WR-CALDESC:Events for San Francisco / East Bay SLAA
REFRESH-INTERVAL;VALUE=DURATION:PT1H
X-Robots-Tag:noindex
X-PUBLISHED-TTL:PT1H
BEGIN:VTIMEZONE
TZID:UTC
BEGIN:STANDARD
TZOFFSETFROM:+0000
TZOFFSETTO:+0000
TZNAME:UTC
DTSTART:20250101T000000
END:STANDARD
END:VTIMEZONE
BEGIN:VEVENT
DTSTART;TZID=UTC:20260519T073000
DTEND;TZID=UTC:20260519T083000
DTSTAMP:20260420T224524
CREATED:20240807T063703Z
LAST-MODIFIED:20240815T091906Z
UID:10005834-1779175800-1779179400@slaa-sfeb.org
SUMMARY:EB: In the Solution (Men)
DESCRIPTION:This meeting is an in-person\, men’s meeting.\n\n\n\n\n\nMen only. O. 12\, GC\, SC\, SD.
URL:https://slaa-sfeb.org/event/in-the-solution/2026-05-19/
LOCATION:Berkeley Fellowship of Unitarian Universalists\, 1924 Cedar Street\, Berkeley\, CA\, 94709\, United States
CATEGORIES:Meeting: In-Person
END:VEVENT
END:VCALENDAR