
BEGIN:VCALENDAR
VERSION:2.0
PRODID:-//San Francisco / East Bay SLAA - ECPv6.15.20//NONSGML v1.0//EN
CALSCALE:GREGORIAN
METHOD:PUBLISH
X-WR-CALNAME:San Francisco / East Bay SLAA
X-ORIGINAL-URL:https://slaa-sfeb.org
X-WR-CALDESC:Events for San Francisco / East Bay SLAA
REFRESH-INTERVAL;VALUE=DURATION:PT1H
X-Robots-Tag:noindex
X-PUBLISHED-TTL:PT1H
BEGIN:VTIMEZONE
TZID:UTC
BEGIN:STANDARD
TZOFFSETFROM:+0000
TZOFFSETTO:+0000
TZNAME:UTC
DTSTART:20250101T000000
END:STANDARD
END:VTIMEZONE
BEGIN:VTIMEZONE
TZID:America/Los_Angeles
BEGIN:DAYLIGHT
TZOFFSETFROM:-0800
TZOFFSETTO:-0700
TZNAME:PDT
DTSTART:20250309T100000
END:DAYLIGHT
BEGIN:STANDARD
TZOFFSETFROM:-0700
TZOFFSETTO:-0800
TZNAME:PST
DTSTART:20251102T090000
END:STANDARD
BEGIN:DAYLIGHT
TZOFFSETFROM:-0800
TZOFFSETTO:-0700
TZNAME:PDT
DTSTART:20260308T100000
END:DAYLIGHT
BEGIN:STANDARD
TZOFFSETFROM:-0700
TZOFFSETTO:-0800
TZNAME:PST
DTSTART:20261101T090000
END:STANDARD
BEGIN:DAYLIGHT
TZOFFSETFROM:-0800
TZOFFSETTO:-0700
TZNAME:PDT
DTSTART:20270314T100000
END:DAYLIGHT
BEGIN:STANDARD
TZOFFSETFROM:-0700
TZOFFSETTO:-0800
TZNAME:PST
DTSTART:20271107T090000
END:STANDARD
END:VTIMEZONE
BEGIN:VEVENT
DTSTART;TZID=UTC:20260601T210000
DTEND;TZID=UTC:20260601T220000
DTSTAMP:20260425T033019
CREATED:20240807T023938Z
LAST-MODIFIED:20240815T090601Z
UID:10001190-1780347600-1780351200@slaa-sfeb.org
SUMMARY:One Ultimate Authority: Power of Group Conscience
DESCRIPTION:Tradition 2: For our group purpose there is but one ultimate authority – a loving god as this power may be expressed through our group conscience. Our leaders are but trusted servants\, they do not govern. \nWe meet seven nights a week at 9 pm pacific time\, same Zoom link every night\, and everyone is welcome. \n  \nJoin Zoom Meeting\nhttps://us02web.zoom.us/j/87052578236?pwd=RC9MY2JFeFRrWVNCQW5waVpma1Fkdz09 \nMeeting ID: 870 5257 8236\nPasscode: 262699\nOne tap mobile\n+16699006833\,\,87052578236#\,\,\,\,\,\,0#\,\,262699# US (San Jose)\n+12532158782\,\,87052578236#\,\,\,\,\,\,0#\,\,262699# US (Tacoma)
URL:https://slaa-sfeb.org/event/one-ultimate-authority-power-of-group-conscience/2026-06-01/
CATEGORIES:Meeting: Zoom / Online
LOCATION:https://us02web.zoom.us/j/87052578236?pwd=RC9MY2JFeFRrWVNCQW5waVpma1Fkdz09
END:VEVENT
BEGIN:VEVENT
DTSTART;TZID=UTC:20260601T210000
DTEND;TZID=UTC:20260601T220000
DTSTAMP:20260425T033019
CREATED:20240807T031309Z
LAST-MODIFIED:20240813T083637Z
UID:10003492-1780347600-1780351200@slaa-sfeb.org
SUMMARY:Healing Late Night Cravings
DESCRIPTION:Join Zoom Meeting \nMeeting ID: 981 878 1190\nPasscode: HLNC \nGroup email: HealingLNC9@gmail.com
URL:https://slaa-sfeb.org/event/healing-late-night-cravings/2026-06-01/
CATEGORIES:Meeting: Zoom / Online
LOCATION:https://us02web.zoom.us/j/9818781190?pwd%3DcGp2MmN4bG04V0c0V2IrcENMWUNJUT09&sa=D&source=calendar&usd=2&usg=AOvVaw2MobXfsymxB6kCg4TEcyZx
END:VEVENT
BEGIN:VEVENT
DTSTART;TZID=UTC:20260602T073000
DTEND;TZID=UTC:20260602T083000
DTSTAMP:20260425T033019
CREATED:20240807T063703Z
LAST-MODIFIED:20240815T091906Z
UID:10005836-1780385400-1780389000@slaa-sfeb.org
SUMMARY:EB: In the Solution (Men)
DESCRIPTION:This meeting is an in-person\, men’s meeting.\n\n\n\n\n\nMen only. O. 12\, GC\, SC\, SD.
URL:https://slaa-sfeb.org/event/in-the-solution/2026-06-02/
LOCATION:Berkeley Fellowship of Unitarian Universalists\, 1924 Cedar Street\, Berkeley\, CA\, 94709\, United States
CATEGORIES:Meeting: In-Person
END:VEVENT
BEGIN:VEVENT
DTSTART;TZID=UTC:20260602T184500
DTEND;TZID=UTC:20260602T194500
DTSTAMP:20260425T033019
CREATED:20240807T065500Z
LAST-MODIFIED:20240815T092116Z
UID:10006358-1780425900-1780429500@slaa-sfeb.org
SUMMARY:Tools\, Step Study\, & Meditation
DESCRIPTION:[formerly at CPMC in San Francisco] \nJoin Zoom Meeting\nhttps://us02web.zoom.us/j/989146422?pwd=ZVdkWWF6NUs3T2J3T1lyYWFCa3JwQT09 \nMeeting ID: 989 146 422\nPasscode: email toolsstepstudy@gmail.com for password \nCall in number: +1-669-900-6833
URL:https://slaa-sfeb.org/event/tools-step-study-meditation/2026-06-02/
CATEGORIES:Meeting: Zoom / Online
LOCATION:https://us02web.zoom.us/j/989146422?pwd=ZVdkWWF6NUs3T2J3T1lyYWFCa3JwQT09
END:VEVENT
BEGIN:VEVENT
DTSTART;TZID=UTC:20260602T210000
DTEND;TZID=UTC:20260602T220000
DTSTAMP:20260425T033019
CREATED:20240807T023938Z
LAST-MODIFIED:20240815T090601Z
UID:10001191-1780434000-1780437600@slaa-sfeb.org
SUMMARY:One Ultimate Authority: Power of Group Conscience
DESCRIPTION:Tradition 2: For our group purpose there is but one ultimate authority – a loving god as this power may be expressed through our group conscience. Our leaders are but trusted servants\, they do not govern. \nWe meet seven nights a week at 9 pm pacific time\, same Zoom link every night\, and everyone is welcome. \n  \nJoin Zoom Meeting\nhttps://us02web.zoom.us/j/87052578236?pwd=RC9MY2JFeFRrWVNCQW5waVpma1Fkdz09 \nMeeting ID: 870 5257 8236\nPasscode: 262699\nOne tap mobile\n+16699006833\,\,87052578236#\,\,\,\,\,\,0#\,\,262699# US (San Jose)\n+12532158782\,\,87052578236#\,\,\,\,\,\,0#\,\,262699# US (Tacoma)
URL:https://slaa-sfeb.org/event/one-ultimate-authority-power-of-group-conscience/2026-06-02/
CATEGORIES:Meeting: Zoom / Online
LOCATION:https://us02web.zoom.us/j/87052578236?pwd=RC9MY2JFeFRrWVNCQW5waVpma1Fkdz09
END:VEVENT
BEGIN:VEVENT
DTSTART;TZID=UTC:20260602T210000
DTEND;TZID=UTC:20260602T220000
DTSTAMP:20260425T033019
CREATED:20240807T031309Z
LAST-MODIFIED:20240813T083637Z
UID:10004745-1780434000-1780437600@slaa-sfeb.org
SUMMARY:Healing Late Night Cravings
DESCRIPTION:Join Zoom Meeting \nMeeting ID: 981 878 1190\nPasscode: HLNC \nGroup email: HealingLNC9@gmail.com
URL:https://slaa-sfeb.org/event/healing-late-night-cravings/2026-06-02/
CATEGORIES:Meeting: Zoom / Online
LOCATION:https://us02web.zoom.us/j/9818781190?pwd%3DcGp2MmN4bG04V0c0V2IrcENMWUNJUT09&sa=D&source=calendar&usd=2&usg=AOvVaw2MobXfsymxB6kCg4TEcyZx
END:VEVENT
BEGIN:VEVENT
DTSTART;TZID=UTC:20260603T070000
DTEND;TZID=UTC:20260603T080000
DTSTAMP:20260425T033019
CREATED:20240807T105554Z
LAST-MODIFIED:20240815T090522Z
UID:10007142-1780470000-1780473600@slaa-sfeb.org
SUMMARY:Open Recovery Writing Meeting
DESCRIPTION:Join Zoom Meeting \nhttps://us02web.zoom.us/j/86724219848?pwd=Wkc2b2dpU1liRi9ZMG1vcmYvdytBZz09 \nMeeting ID: 867 2421 9848\nPasscode: 325885 \n+16699006833\,\,86724219848#\,\,\,\,*325885# US (San Jose)
URL:https://slaa-sfeb.org/event/open-recovery-writing-meeting/2026-06-03/
CATEGORIES:Meeting: Zoom / Online
LOCATION:https://us02web.zoom.us/j/86724219848?pwd=Wkc2b2dpU1liRi9ZMG1vcmYvdytBZz09
END:VEVENT
BEGIN:VEVENT
DTSTART;TZID=UTC:20260603T073000
DTEND;TZID=UTC:20260603T083000
DTSTAMP:20260425T033019
CREATED:20240807T110256Z
LAST-MODIFIED:20240815T090507Z
UID:10007403-1780471800-1780475400@slaa-sfeb.org
SUMMARY:12 & 12 Gratitude
DESCRIPTION:(formerly @ Epworth Church in Berkeley) \nhttps://us02web.zoom.us/j/87064710004?pwd=dVZudzZBTTd1QU9KRW5CdWIxYndTQT09 \nMeeting ID: 870 6471 0004\nPasscode: 092883 \nOne tap mobile\n+16699006833\,\,87064710004#\,\,\,\,*092883# US (San Jose)\n+12532158782\,\,87064710004#\,\,\,\,*092883# US (Tacoma) \n\nInformation about how to maintain digital/phone anonymity\, click here.\nMeeting readings (12 steps\, etc.) click here.
URL:https://slaa-sfeb.org/event/12-12-gratitude/2026-06-03/
CATEGORIES:Meeting: Zoom / Online
LOCATION:https://us02web.zoom.us/j/87064710004?pwd=dVZudzZBTTd1QU9KRW5CdWIxYndTQT09
END:VEVENT
BEGIN:VEVENT
DTSTART;TZID=America/Los_Angeles:20260603T080000
DTEND;TZID=America/Los_Angeles:20260603T090000
DTSTAMP:20260425T033019
CREATED:20250317T221331Z
LAST-MODIFIED:20250318T193003Z
UID:10016662-1780473600-1780477200@slaa-sfeb.org
SUMMARY:Wednesday International Step Meeting
DESCRIPTION:This international meeting is an open meeting and is in English. Please join us. \nJoin Zoom Meeting\nhttps://us02web.zoom.us/j/87466906197?pwd=hlPfL40h1UESxRpLSGMn82vw5iF3hE.1\nMeeting ID: 874 6690 6197\nPasscode: 238629 \nIf you are calling in\nFind your local number: https://us02web.zoom.us/u/kehGUGKGHe
URL:https://slaa-sfeb.org/event/wednesday-international-step-meeting/2026-06-03/
CATEGORIES:Meeting: Zoom / Online
END:VEVENT
BEGIN:VEVENT
DTSTART;TZID=UTC:20260603T120000
DTEND;TZID=UTC:20260603T130000
DTSTAMP:20260425T033019
CREATED:20240807T110713Z
LAST-MODIFIED:20240815T091624Z
UID:10007664-1780488000-1780491600@slaa-sfeb.org
SUMMARY:Healthy Connections
DESCRIPTION:A San Francisco-based meeting cultivating healthy connecting relationships\nwith yourself\, with your Higher Power\, and with other people! Readings of SLAA literature on sex and love addiction as well as emotional\,\nsocial\, & sexual anorexia. Newcomers are welcome; Speaker every week; Readings; Getting Current shares. \nJoin Zoom Meeting\nhttps://us02web.zoom.us/j/151456784?pwd=UVpScFNNUDNNRjRoRTl0dllXMDVDdz09 \nMeeting ID: 151 456 784\nPasscode:  connect\nNumeric passcode (telephone): 2748387
URL:https://slaa-sfeb.org/event/565/2026-06-03/
CATEGORIES:Meeting: Zoom / Online
LOCATION:https://us02web.zoom.us/j/151456784?pwd=UVpScFNNUDNNRjRoRTl0dllXMDVDdz09
END:VEVENT
BEGIN:VEVENT
DTSTART;TZID=UTC:20260603T190000
DTEND;TZID=UTC:20260603T200000
DTSTAMP:20260425T033019
CREATED:20240807T111609Z
LAST-MODIFIED:20240815T084120Z
UID:10008186-1780513200-1780516800@slaa-sfeb.org
SUMMARY:Women on Wednesdays
DESCRIPTION:Open to all female identified people interested in their own recovery.\nTo receive the meeting credentials\, please send your name and email to womenonwednesdaymarin@gmail.com.\nBusiness Meetings are after the meeting on the first Wednesday of the month. \n(formerly in San Rafael)
URL:https://slaa-sfeb.org/event/women-on-wednesdays/2026-06-03/
CATEGORIES:Meeting: Zoom / Online
LOCATION:
END:VEVENT
BEGIN:VEVENT
DTSTART;TZID=UTC:20260603T200000
DTEND;TZID=UTC:20260603T211500
DTSTAMP:20260425T033019
CREATED:20240807T112123Z
LAST-MODIFIED:20240815T083914Z
UID:10008447-1780516800-1780521300@slaa-sfeb.org
SUMMARY:Men's Basic Text & Speaker Meeting
DESCRIPTION:All male identified individuals welcome. O. GC\, SC\, WA\, S\, NC. Speaker every week. (previously at CPMC in San Francisco) \nhttps://us02web.zoom.us/j/86397645337?pwd=OWZqWnFCdkRxYTNmQmFoVTZqUG5xZz09\nMeeting ID: 863 9764 5337\nPassword: 822460\n+1 669 900 6833 > US \nslaasfebwednesdaynightmens@tutamail.com
URL:https://slaa-sfeb.org/event/sf-mens-basic-text-speaker-meeting/2026-06-03/
CATEGORIES:Meeting: Zoom / Online
LOCATION:https://us02web.zoom.us/j/86397645337?pwd=OWZqWnFCdkRxYTNmQmFoVTZqUG5xZz09
END:VEVENT
BEGIN:VEVENT
DTSTART;TZID=UTC:20260603T210000
DTEND;TZID=UTC:20260603T220000
DTSTAMP:20260425T033019
CREATED:20240807T023938Z
LAST-MODIFIED:20240815T090601Z
UID:10001192-1780520400-1780524000@slaa-sfeb.org
SUMMARY:One Ultimate Authority: Power of Group Conscience
DESCRIPTION:Tradition 2: For our group purpose there is but one ultimate authority – a loving god as this power may be expressed through our group conscience. Our leaders are but trusted servants\, they do not govern. \nWe meet seven nights a week at 9 pm pacific time\, same Zoom link every night\, and everyone is welcome. \n  \nJoin Zoom Meeting\nhttps://us02web.zoom.us/j/87052578236?pwd=RC9MY2JFeFRrWVNCQW5waVpma1Fkdz09 \nMeeting ID: 870 5257 8236\nPasscode: 262699\nOne tap mobile\n+16699006833\,\,87052578236#\,\,\,\,\,\,0#\,\,262699# US (San Jose)\n+12532158782\,\,87052578236#\,\,\,\,\,\,0#\,\,262699# US (Tacoma)
URL:https://slaa-sfeb.org/event/one-ultimate-authority-power-of-group-conscience/2026-06-03/
CATEGORIES:Meeting: Zoom / Online
LOCATION:https://us02web.zoom.us/j/87052578236?pwd=RC9MY2JFeFRrWVNCQW5waVpma1Fkdz09
END:VEVENT
BEGIN:VEVENT
DTSTART;TZID=UTC:20260603T210000
DTEND;TZID=UTC:20260603T220000
DTSTAMP:20260425T033019
CREATED:20240807T031309Z
LAST-MODIFIED:20240813T083637Z
UID:10004746-1780520400-1780524000@slaa-sfeb.org
SUMMARY:Healing Late Night Cravings
DESCRIPTION:Join Zoom Meeting \nMeeting ID: 981 878 1190\nPasscode: HLNC \nGroup email: HealingLNC9@gmail.com
URL:https://slaa-sfeb.org/event/healing-late-night-cravings/2026-06-03/
CATEGORIES:Meeting: Zoom / Online
LOCATION:https://us02web.zoom.us/j/9818781190?pwd%3DcGp2MmN4bG04V0c0V2IrcENMWUNJUT09&sa=D&source=calendar&usd=2&usg=AOvVaw2MobXfsymxB6kCg4TEcyZx
END:VEVENT
BEGIN:VEVENT
DTSTART;TZID=UTC:20260604T193000
DTEND;TZID=UTC:20260604T204500
DTSTAMP:20260425T033019
CREATED:20250201T072453Z
LAST-MODIFIED:20250201T072453Z
UID:10009491-1780601400-1780605900@slaa-sfeb.org
SUMMARY:Focus On Anorexia: All Welcome!
DESCRIPTION:In the fellowship of SLAA\, “anorexia” is defined as the compulsive avoidance of giving or receiving social\, sexual or emotional nourishment. \nThis is an open meeting in which we explore how we may experience social\, sexual or emotional anorexia and how we can practice the SLAA program of recovery. GC\, SD\, NC. \nJoin Zoom Meeting\nhttps://us02web.zoom.us/j/88691371688?pwd=MWowRE1yZ0hXWVIzbDNTWC83MHZDUT09 \nMeeting ID: 886 9137 1688\nPasscode: 427112 \nOne tap mobile\n+1 669 444 9171 US
URL:https://slaa-sfeb.org/event/focus-on-anorexia-all-are-welcome-2/2026-06-04/
CATEGORIES:Meeting: Zoom / Online
LOCATION:https://us02web.zoom.us/j/88691371688?pwd=MWowRE1yZ0hXWVIzbDNTWC83MHZDUT09
END:VEVENT
BEGIN:VEVENT
DTSTART;TZID=UTC:20260604T210000
DTEND;TZID=UTC:20260604T220000
DTSTAMP:20260425T033019
CREATED:20240807T023938Z
LAST-MODIFIED:20240815T090601Z
UID:10001193-1780606800-1780610400@slaa-sfeb.org
SUMMARY:One Ultimate Authority: Power of Group Conscience
DESCRIPTION:Tradition 2: For our group purpose there is but one ultimate authority – a loving god as this power may be expressed through our group conscience. Our leaders are but trusted servants\, they do not govern. \nWe meet seven nights a week at 9 pm pacific time\, same Zoom link every night\, and everyone is welcome. \n  \nJoin Zoom Meeting\nhttps://us02web.zoom.us/j/87052578236?pwd=RC9MY2JFeFRrWVNCQW5waVpma1Fkdz09 \nMeeting ID: 870 5257 8236\nPasscode: 262699\nOne tap mobile\n+16699006833\,\,87052578236#\,\,\,\,\,\,0#\,\,262699# US (San Jose)\n+12532158782\,\,87052578236#\,\,\,\,\,\,0#\,\,262699# US (Tacoma)
URL:https://slaa-sfeb.org/event/one-ultimate-authority-power-of-group-conscience/2026-06-04/
CATEGORIES:Meeting: Zoom / Online
LOCATION:https://us02web.zoom.us/j/87052578236?pwd=RC9MY2JFeFRrWVNCQW5waVpma1Fkdz09
END:VEVENT
BEGIN:VEVENT
DTSTART;TZID=UTC:20260604T210000
DTEND;TZID=UTC:20260604T220000
DTSTAMP:20260425T033019
CREATED:20240807T031309Z
LAST-MODIFIED:20240813T083637Z
UID:10004747-1780606800-1780610400@slaa-sfeb.org
SUMMARY:Healing Late Night Cravings
DESCRIPTION:Join Zoom Meeting \nMeeting ID: 981 878 1190\nPasscode: HLNC \nGroup email: HealingLNC9@gmail.com
URL:https://slaa-sfeb.org/event/healing-late-night-cravings/2026-06-04/
CATEGORIES:Meeting: Zoom / Online
LOCATION:https://us02web.zoom.us/j/9818781190?pwd%3DcGp2MmN4bG04V0c0V2IrcENMWUNJUT09&sa=D&source=calendar&usd=2&usg=AOvVaw2MobXfsymxB6kCg4TEcyZx
END:VEVENT
BEGIN:VEVENT
DTSTART;TZID=UTC:20260605T073000
DTEND;TZID=UTC:20260605T073000
DTSTAMP:20260425T033019
CREATED:20240807T115633Z
LAST-MODIFIED:20240815T082949Z
UID:10010013-1780644600-1780644600@slaa-sfeb.org
SUMMARY:EB: Applying 12 Step Principles
DESCRIPTION:This meeting is in person. We read from three different books.\n\nEpworth United Methodist Church\, 1953 Hopkins St\, Berkeley\, CA 94707\, upstairs in the library\n\n\n\n\n\nO. 12. GC.
URL:https://slaa-sfeb.org/event/applying-12-step-principles/2026-06-05/
LOCATION:Epworth United Methodist Church\, 1953 Hopkins Street\, Berkeley\, CA\, 94707
CATEGORIES:Meeting: In-Person
END:VEVENT
BEGIN:VEVENT
DTSTART;TZID=UTC:20260605T210000
DTEND;TZID=UTC:20260605T220000
DTSTAMP:20260425T033019
CREATED:20240807T023938Z
LAST-MODIFIED:20240815T090601Z
UID:10001194-1780693200-1780696800@slaa-sfeb.org
SUMMARY:One Ultimate Authority: Power of Group Conscience
DESCRIPTION:Tradition 2: For our group purpose there is but one ultimate authority – a loving god as this power may be expressed through our group conscience. Our leaders are but trusted servants\, they do not govern. \nWe meet seven nights a week at 9 pm pacific time\, same Zoom link every night\, and everyone is welcome. \n  \nJoin Zoom Meeting\nhttps://us02web.zoom.us/j/87052578236?pwd=RC9MY2JFeFRrWVNCQW5waVpma1Fkdz09 \nMeeting ID: 870 5257 8236\nPasscode: 262699\nOne tap mobile\n+16699006833\,\,87052578236#\,\,\,\,\,\,0#\,\,262699# US (San Jose)\n+12532158782\,\,87052578236#\,\,\,\,\,\,0#\,\,262699# US (Tacoma)
URL:https://slaa-sfeb.org/event/one-ultimate-authority-power-of-group-conscience/2026-06-05/
CATEGORIES:Meeting: Zoom / Online
LOCATION:https://us02web.zoom.us/j/87052578236?pwd=RC9MY2JFeFRrWVNCQW5waVpma1Fkdz09
END:VEVENT
BEGIN:VEVENT
DTSTART;TZID=UTC:20260605T210000
DTEND;TZID=UTC:20260605T220000
DTSTAMP:20260425T033019
CREATED:20240807T031309Z
LAST-MODIFIED:20240813T083637Z
UID:10004748-1780693200-1780696800@slaa-sfeb.org
SUMMARY:Healing Late Night Cravings
DESCRIPTION:Join Zoom Meeting \nMeeting ID: 981 878 1190\nPasscode: HLNC \nGroup email: HealingLNC9@gmail.com
URL:https://slaa-sfeb.org/event/healing-late-night-cravings/2026-06-05/
CATEGORIES:Meeting: Zoom / Online
LOCATION:https://us02web.zoom.us/j/9818781190?pwd%3DcGp2MmN4bG04V0c0V2IrcENMWUNJUT09&sa=D&source=calendar&usd=2&usg=AOvVaw2MobXfsymxB6kCg4TEcyZx
END:VEVENT
BEGIN:VEVENT
DTSTART;TZID=UTC:20260606T090000
DTEND;TZID=UTC:20260606T100000
DTSTAMP:20260425T033019
CREATED:20240807T122809Z
LAST-MODIFIED:20240815T082638Z
UID:10011057-1780736400-1780740000@slaa-sfeb.org
SUMMARY:EB: Men's Meeting – Living in the Solution (NEW)
DESCRIPTION:This meeting is in-person. Reading/Writing alternate weeks.\n\n\n\n\nFellowship following the meeting is encouraged.\nO. Men’s. GC\, 12\, GC\, SC\, SD.\n\n\nGood Shepherd Episcopal Church\n1823 Ninth St. Berkeley\, CA 94710 – Sisson Salon
URL:https://slaa-sfeb.org/event/mens-meeting-living-in-the-solution-new/2026-06-06/
LOCATION:Good Shepherd Episcopal Church\, 1823 9th Street\, Berkeley\, CA\, United States
CATEGORIES:Meeting: In-Person
END:VEVENT
BEGIN:VEVENT
DTSTART;TZID=UTC:20260606T180000
DTEND;TZID=UTC:20260606T191500
DTSTAMP:20260425T033019
CREATED:20240807T124603Z
LAST-MODIFIED:20250201T082002Z
UID:10011840-1780768800-1780773300@slaa-sfeb.org
SUMMARY:EB: Saturday Evening in North Berkeley
DESCRIPTION:All are welcome\, this is an open\, in-person meeting. \nBerkeley Fellowship of Unitarian Universalists (“BFUU”) Church\n1606 Bonita Ave\, Berkeley\, CA 94709. \nTo get to the meeting room\, enter the courtyard through the gate on Bonita Ave.\, enter the building to the left and go up the stairs\, enter the first doorway on the left and go to the room straight ahead. \nAll are welcome\, this is an open meeting. Format to be determined by group conscience.
URL:https://slaa-sfeb.org/event/saturday-evening-slaa-meeting-in-north-berkeley/2026-06-06/
LOCATION:Berkeley Fellowship of Unitarian Universalists\, 1924 Cedar Street\, Berkeley\, CA\, 94709\, United States
CATEGORIES:Meeting: In-Person
END:VEVENT
BEGIN:VEVENT
DTSTART;TZID=UTC:20260606T180000
DTEND;TZID=UTC:20260606T193000
DTSTAMP:20260425T033019
CREATED:20240807T123617Z
LAST-MODIFIED:20240814T085634Z
UID:10011579-1780768800-1780774200@slaa-sfeb.org
SUMMARY:SF & HYBRID: Uptown Saturday Night
DESCRIPTION:O\, GC\, CH\, S. Chips last Saturday of each month. Fellowship happens most Saturdays after the meeting. \nIf you’d like to attend the meeting in person\, please join us at Holy Innocents Church at 455 Fair Oaks St (between 25th and 26th) in San Francisco. \nIf you’d like to join via Zoom\, please email saturdayslaasf@gmail.com and someone will reply with the Zoom meeting details. \nPer group conscience\, we ask anyone who is sick or experiencing cold or flu-like symptoms to stay home to protect the health of all in-person meeting participants.
URL:https://slaa-sfeb.org/event/hybrid-uptown-saturday-night/2026-06-06/
LOCATION:Holy Innocents Church\, 455 Fair Oaks Street\, San Francisco\, CA\, United States
CATEGORIES:Meeting: Hybrid,Meeting: In-Person
END:VEVENT
BEGIN:VEVENT
DTSTART;TZID=UTC:20260606T210000
DTEND;TZID=UTC:20260606T220000
DTSTAMP:20260425T033019
CREATED:20240807T023938Z
LAST-MODIFIED:20240815T090601Z
UID:10001195-1780779600-1780783200@slaa-sfeb.org
SUMMARY:One Ultimate Authority: Power of Group Conscience
DESCRIPTION:Tradition 2: For our group purpose there is but one ultimate authority – a loving god as this power may be expressed through our group conscience. Our leaders are but trusted servants\, they do not govern. \nWe meet seven nights a week at 9 pm pacific time\, same Zoom link every night\, and everyone is welcome. \n  \nJoin Zoom Meeting\nhttps://us02web.zoom.us/j/87052578236?pwd=RC9MY2JFeFRrWVNCQW5waVpma1Fkdz09 \nMeeting ID: 870 5257 8236\nPasscode: 262699\nOne tap mobile\n+16699006833\,\,87052578236#\,\,\,\,\,\,0#\,\,262699# US (San Jose)\n+12532158782\,\,87052578236#\,\,\,\,\,\,0#\,\,262699# US (Tacoma)
URL:https://slaa-sfeb.org/event/one-ultimate-authority-power-of-group-conscience/2026-06-06/
CATEGORIES:Meeting: Zoom / Online
LOCATION:https://us02web.zoom.us/j/87052578236?pwd=RC9MY2JFeFRrWVNCQW5waVpma1Fkdz09
END:VEVENT
BEGIN:VEVENT
DTSTART;TZID=UTC:20260606T210000
DTEND;TZID=UTC:20260606T220000
DTSTAMP:20260425T033019
CREATED:20240807T031309Z
LAST-MODIFIED:20240813T083637Z
UID:10004749-1780779600-1780783200@slaa-sfeb.org
SUMMARY:Healing Late Night Cravings
DESCRIPTION:Join Zoom Meeting \nMeeting ID: 981 878 1190\nPasscode: HLNC \nGroup email: HealingLNC9@gmail.com
URL:https://slaa-sfeb.org/event/healing-late-night-cravings/2026-06-06/
CATEGORIES:Meeting: Zoom / Online
LOCATION:https://us02web.zoom.us/j/9818781190?pwd%3DcGp2MmN4bG04V0c0V2IrcENMWUNJUT09&sa=D&source=calendar&usd=2&usg=AOvVaw2MobXfsymxB6kCg4TEcyZx
END:VEVENT
BEGIN:VEVENT
DTSTART;TZID=America/Los_Angeles:20260607T184500
DTEND;TZID=America/Los_Angeles:20260607T200000
DTSTAMP:20260425T033019
CREATED:20250226T222642Z
LAST-MODIFIED:20250226T223508Z
UID:10016419-1780857900-1780862400@slaa-sfeb.org
SUMMARY:Focus on Love Addiction
DESCRIPTION:Meetings on the first four Sundays of each month only — No meeting on the 5th Sunday of the month.\n \nhttps://us02web.zoom.us/j/83530443266?pwd=Z1VPSVhHSnhDTW1HZ2hZeEtmNEpMUT09 \nMeeting ID: 835 30443266\nPassword: love \nAdditional information: For script and readings\, visit https://app.box.com/s/z6stzhdsov9bh81d2y9h3kbiwrisv67d
URL:https://slaa-sfeb.org/event/focus-on-love-addiction/2026-06-07/
CATEGORIES:Meeting: Zoom / Online
END:VEVENT
BEGIN:VEVENT
DTSTART;TZID=UTC:20260607T210000
DTEND;TZID=UTC:20260607T220000
DTSTAMP:20260425T033019
CREATED:20240807T023938Z
LAST-MODIFIED:20240815T090601Z
UID:10001196-1780866000-1780869600@slaa-sfeb.org
SUMMARY:One Ultimate Authority: Power of Group Conscience
DESCRIPTION:Tradition 2: For our group purpose there is but one ultimate authority – a loving god as this power may be expressed through our group conscience. Our leaders are but trusted servants\, they do not govern. \nWe meet seven nights a week at 9 pm pacific time\, same Zoom link every night\, and everyone is welcome. \n  \nJoin Zoom Meeting\nhttps://us02web.zoom.us/j/87052578236?pwd=RC9MY2JFeFRrWVNCQW5waVpma1Fkdz09 \nMeeting ID: 870 5257 8236\nPasscode: 262699\nOne tap mobile\n+16699006833\,\,87052578236#\,\,\,\,\,\,0#\,\,262699# US (San Jose)\n+12532158782\,\,87052578236#\,\,\,\,\,\,0#\,\,262699# US (Tacoma)
URL:https://slaa-sfeb.org/event/one-ultimate-authority-power-of-group-conscience/2026-06-07/
CATEGORIES:Meeting: Zoom / Online
LOCATION:https://us02web.zoom.us/j/87052578236?pwd=RC9MY2JFeFRrWVNCQW5waVpma1Fkdz09
END:VEVENT
BEGIN:VEVENT
DTSTART;TZID=UTC:20260607T210000
DTEND;TZID=UTC:20260607T220000
DTSTAMP:20260425T033019
CREATED:20240807T031309Z
LAST-MODIFIED:20240813T083637Z
UID:10004750-1780866000-1780869600@slaa-sfeb.org
SUMMARY:Healing Late Night Cravings
DESCRIPTION:Join Zoom Meeting \nMeeting ID: 981 878 1190\nPasscode: HLNC \nGroup email: HealingLNC9@gmail.com
URL:https://slaa-sfeb.org/event/healing-late-night-cravings/2026-06-07/
CATEGORIES:Meeting: Zoom / Online
LOCATION:https://us02web.zoom.us/j/9818781190?pwd%3DcGp2MmN4bG04V0c0V2IrcENMWUNJUT09&sa=D&source=calendar&usd=2&usg=AOvVaw2MobXfsymxB6kCg4TEcyZx
END:VEVENT
BEGIN:VEVENT
DTSTART;TZID=UTC:20260608T210000
DTEND;TZID=UTC:20260608T220000
DTSTAMP:20260425T033019
CREATED:20240807T023938Z
LAST-MODIFIED:20240815T090601Z
UID:10001197-1780952400-1780956000@slaa-sfeb.org
SUMMARY:One Ultimate Authority: Power of Group Conscience
DESCRIPTION:Tradition 2: For our group purpose there is but one ultimate authority – a loving god as this power may be expressed through our group conscience. Our leaders are but trusted servants\, they do not govern. \nWe meet seven nights a week at 9 pm pacific time\, same Zoom link every night\, and everyone is welcome. \n  \nJoin Zoom Meeting\nhttps://us02web.zoom.us/j/87052578236?pwd=RC9MY2JFeFRrWVNCQW5waVpma1Fkdz09 \nMeeting ID: 870 5257 8236\nPasscode: 262699\nOne tap mobile\n+16699006833\,\,87052578236#\,\,\,\,\,\,0#\,\,262699# US (San Jose)\n+12532158782\,\,87052578236#\,\,\,\,\,\,0#\,\,262699# US (Tacoma)
URL:https://slaa-sfeb.org/event/one-ultimate-authority-power-of-group-conscience/2026-06-08/
CATEGORIES:Meeting: Zoom / Online
LOCATION:https://us02web.zoom.us/j/87052578236?pwd=RC9MY2JFeFRrWVNCQW5waVpma1Fkdz09
END:VEVENT
BEGIN:VEVENT
DTSTART;TZID=UTC:20260608T210000
DTEND;TZID=UTC:20260608T220000
DTSTAMP:20260425T033019
CREATED:20240807T031309Z
LAST-MODIFIED:20240813T083637Z
UID:10003493-1780952400-1780956000@slaa-sfeb.org
SUMMARY:Healing Late Night Cravings
DESCRIPTION:Join Zoom Meeting \nMeeting ID: 981 878 1190\nPasscode: HLNC \nGroup email: HealingLNC9@gmail.com
URL:https://slaa-sfeb.org/event/healing-late-night-cravings/2026-06-08/
CATEGORIES:Meeting: Zoom / Online
LOCATION:https://us02web.zoom.us/j/9818781190?pwd%3DcGp2MmN4bG04V0c0V2IrcENMWUNJUT09&sa=D&source=calendar&usd=2&usg=AOvVaw2MobXfsymxB6kCg4TEcyZx
END:VEVENT
END:VCALENDAR