
BEGIN:VCALENDAR
VERSION:2.0
PRODID:-//San Francisco / East Bay SLAA - ECPv6.15.20//NONSGML v1.0//EN
CALSCALE:GREGORIAN
METHOD:PUBLISH
X-ORIGINAL-URL:https://slaa-sfeb.org
X-WR-CALDESC:Events for San Francisco / East Bay SLAA
REFRESH-INTERVAL;VALUE=DURATION:PT1H
X-Robots-Tag:noindex
X-PUBLISHED-TTL:PT1H
BEGIN:VTIMEZONE
TZID:UTC
BEGIN:STANDARD
TZOFFSETFROM:+0000
TZOFFSETTO:+0000
TZNAME:UTC
DTSTART:20230101T000000
END:STANDARD
END:VTIMEZONE
BEGIN:VEVENT
DTSTART;TZID=UTC:20240906T183000
DTEND;TZID=UTC:20240906T194500
DTSTAMP:20260422T013055
CREATED:20240807T120817Z
LAST-MODIFIED:20250201T080755Z
UID:10010183-1725647400-1725651900@slaa-sfeb.org
SUMMARY:EB: Fantasy / Intrigue
DESCRIPTION:Friday Night meeting will be held indoors and in person every Friday at . \n\nEpworth United Methodist Church\n1953 Hopkins Street\, Berkeley\nRoom 29 \nThere is plenty of parking.
URL:https://slaa-sfeb.org/event/fantasy-intrigue/2024-09-06/
LOCATION:Berkeley Fellowship of Unitarian Universalists\, 1924 Cedar Street\, Berkeley\, CA\, 94709\, United States
CATEGORIES:Meeting: In-Person
END:VEVENT
BEGIN:VEVENT
DTSTART;TZID=UTC:20240906T073000
DTEND;TZID=UTC:20240906T073000
DTSTAMP:20260422T013055
CREATED:20240807T115633Z
LAST-MODIFIED:20240815T082949Z
UID:10009922-1725607800-1725607800@slaa-sfeb.org
SUMMARY:EB: Applying 12 Step Principles
DESCRIPTION:This meeting is in person. We read from three different books.\n\nEpworth United Methodist Church\, 1953 Hopkins St\, Berkeley\, CA 94707\, upstairs in the library\n\n\n\n\n\nO. 12. GC.
URL:https://slaa-sfeb.org/event/applying-12-step-principles/2024-09-06/
LOCATION:Epworth United Methodist Church\, 1953 Hopkins Street\, Berkeley\, CA\, 94707
CATEGORIES:Meeting: In-Person
END:VEVENT
BEGIN:VEVENT
DTSTART;TZID=UTC:20240830T183000
DTEND;TZID=UTC:20240830T194500
DTSTAMP:20260422T013055
CREATED:20240807T120817Z
LAST-MODIFIED:20250201T080755Z
UID:10010182-1725042600-1725047100@slaa-sfeb.org
SUMMARY:EB: Fantasy / Intrigue
DESCRIPTION:Friday Night meeting will be held indoors and in person every Friday at . \n\nEpworth United Methodist Church\n1953 Hopkins Street\, Berkeley\nRoom 29 \nThere is plenty of parking.
URL:https://slaa-sfeb.org/event/fantasy-intrigue/2024-08-30/
LOCATION:Berkeley Fellowship of Unitarian Universalists\, 1924 Cedar Street\, Berkeley\, CA\, 94709\, United States
CATEGORIES:Meeting: In-Person
END:VEVENT
BEGIN:VEVENT
DTSTART;TZID=UTC:20240830T073000
DTEND;TZID=UTC:20240830T073000
DTSTAMP:20260422T013055
CREATED:20240807T115633Z
LAST-MODIFIED:20240815T082949Z
UID:10009921-1725003000-1725003000@slaa-sfeb.org
SUMMARY:EB: Applying 12 Step Principles
DESCRIPTION:This meeting is in person. We read from three different books.\n\nEpworth United Methodist Church\, 1953 Hopkins St\, Berkeley\, CA 94707\, upstairs in the library\n\n\n\n\n\nO. 12. GC.
URL:https://slaa-sfeb.org/event/applying-12-step-principles/2024-08-30/
LOCATION:Epworth United Methodist Church\, 1953 Hopkins Street\, Berkeley\, CA\, 94707
CATEGORIES:Meeting: In-Person
END:VEVENT
BEGIN:VEVENT
DTSTART;TZID=UTC:20240823T183000
DTEND;TZID=UTC:20240823T194500
DTSTAMP:20260422T013055
CREATED:20240807T120817Z
LAST-MODIFIED:20250201T080755Z
UID:10010181-1724437800-1724442300@slaa-sfeb.org
SUMMARY:EB: Fantasy / Intrigue
DESCRIPTION:Friday Night meeting will be held indoors and in person every Friday at . \n\nEpworth United Methodist Church\n1953 Hopkins Street\, Berkeley\nRoom 29 \nThere is plenty of parking.
URL:https://slaa-sfeb.org/event/fantasy-intrigue/2024-08-23/
LOCATION:Berkeley Fellowship of Unitarian Universalists\, 1924 Cedar Street\, Berkeley\, CA\, 94709\, United States
CATEGORIES:Meeting: In-Person
END:VEVENT
BEGIN:VEVENT
DTSTART;TZID=UTC:20240823T073000
DTEND;TZID=UTC:20240823T073000
DTSTAMP:20260422T013055
CREATED:20240807T115633Z
LAST-MODIFIED:20240815T082949Z
UID:10009920-1724398200-1724398200@slaa-sfeb.org
SUMMARY:EB: Applying 12 Step Principles
DESCRIPTION:This meeting is in person. We read from three different books.\n\nEpworth United Methodist Church\, 1953 Hopkins St\, Berkeley\, CA 94707\, upstairs in the library\n\n\n\n\n\nO. 12. GC.
URL:https://slaa-sfeb.org/event/applying-12-step-principles/2024-08-23/
LOCATION:Epworth United Methodist Church\, 1953 Hopkins Street\, Berkeley\, CA\, 94707
CATEGORIES:Meeting: In-Person
END:VEVENT
BEGIN:VEVENT
DTSTART;TZID=UTC:20240816T183000
DTEND;TZID=UTC:20240816T194500
DTSTAMP:20260422T013055
CREATED:20240807T120817Z
LAST-MODIFIED:20250201T080755Z
UID:10010180-1723833000-1723837500@slaa-sfeb.org
SUMMARY:EB: Fantasy / Intrigue
DESCRIPTION:Friday Night meeting will be held indoors and in person every Friday at . \n\nEpworth United Methodist Church\n1953 Hopkins Street\, Berkeley\nRoom 29 \nThere is plenty of parking.
URL:https://slaa-sfeb.org/event/fantasy-intrigue/2024-08-16/
LOCATION:Berkeley Fellowship of Unitarian Universalists\, 1924 Cedar Street\, Berkeley\, CA\, 94709\, United States
CATEGORIES:Meeting: In-Person
END:VEVENT
BEGIN:VEVENT
DTSTART;TZID=UTC:20240816T073000
DTEND;TZID=UTC:20240816T073000
DTSTAMP:20260422T013055
CREATED:20240807T115633Z
LAST-MODIFIED:20240815T082949Z
UID:10009919-1723793400-1723793400@slaa-sfeb.org
SUMMARY:EB: Applying 12 Step Principles
DESCRIPTION:This meeting is in person. We read from three different books.\n\nEpworth United Methodist Church\, 1953 Hopkins St\, Berkeley\, CA 94707\, upstairs in the library\n\n\n\n\n\nO. 12. GC.
URL:https://slaa-sfeb.org/event/applying-12-step-principles/2024-08-16/
LOCATION:Epworth United Methodist Church\, 1953 Hopkins Street\, Berkeley\, CA\, 94707
CATEGORIES:Meeting: In-Person
END:VEVENT
BEGIN:VEVENT
DTSTART;TZID=UTC:20240809T183000
DTEND;TZID=UTC:20240809T194500
DTSTAMP:20260422T013055
CREATED:20240807T120817Z
LAST-MODIFIED:20250201T080755Z
UID:10010179-1723228200-1723232700@slaa-sfeb.org
SUMMARY:EB: Fantasy / Intrigue
DESCRIPTION:Friday Night meeting will be held indoors and in person every Friday at . \n\nEpworth United Methodist Church\n1953 Hopkins Street\, Berkeley\nRoom 29 \nThere is plenty of parking.
URL:https://slaa-sfeb.org/event/fantasy-intrigue/2024-08-09/
LOCATION:Berkeley Fellowship of Unitarian Universalists\, 1924 Cedar Street\, Berkeley\, CA\, 94709\, United States
CATEGORIES:Meeting: In-Person
END:VEVENT
BEGIN:VEVENT
DTSTART;TZID=UTC:20240809T073000
DTEND;TZID=UTC:20240809T073000
DTSTAMP:20260422T013055
CREATED:20240807T115633Z
LAST-MODIFIED:20240815T082949Z
UID:10009918-1723188600-1723188600@slaa-sfeb.org
SUMMARY:EB: Applying 12 Step Principles
DESCRIPTION:This meeting is in person. We read from three different books.\n\nEpworth United Methodist Church\, 1953 Hopkins St\, Berkeley\, CA 94707\, upstairs in the library\n\n\n\n\n\nO. 12. GC.
URL:https://slaa-sfeb.org/event/applying-12-step-principles/2024-08-09/
LOCATION:Epworth United Methodist Church\, 1953 Hopkins Street\, Berkeley\, CA\, 94707
CATEGORIES:Meeting: In-Person
END:VEVENT
END:VCALENDAR