
BEGIN:VCALENDAR
VERSION:2.0
PRODID:-//San Francisco / East Bay SLAA - ECPv6.15.20//NONSGML v1.0//EN
CALSCALE:GREGORIAN
METHOD:PUBLISH
X-WR-CALNAME:San Francisco / East Bay SLAA
X-ORIGINAL-URL:https://slaa-sfeb.org
X-WR-CALDESC:Events for San Francisco / East Bay SLAA
REFRESH-INTERVAL;VALUE=DURATION:PT1H
X-Robots-Tag:noindex
X-PUBLISHED-TTL:PT1H
BEGIN:VTIMEZONE
TZID:America/Los_Angeles
BEGIN:DAYLIGHT
TZOFFSETFROM:-0800
TZOFFSETTO:-0700
TZNAME:PDT
DTSTART:20250309T100000
END:DAYLIGHT
BEGIN:STANDARD
TZOFFSETFROM:-0700
TZOFFSETTO:-0800
TZNAME:PST
DTSTART:20251102T090000
END:STANDARD
BEGIN:DAYLIGHT
TZOFFSETFROM:-0800
TZOFFSETTO:-0700
TZNAME:PDT
DTSTART:20260308T100000
END:DAYLIGHT
BEGIN:STANDARD
TZOFFSETFROM:-0700
TZOFFSETTO:-0800
TZNAME:PST
DTSTART:20261101T090000
END:STANDARD
BEGIN:DAYLIGHT
TZOFFSETFROM:-0800
TZOFFSETTO:-0700
TZNAME:PDT
DTSTART:20270314T100000
END:DAYLIGHT
BEGIN:STANDARD
TZOFFSETFROM:-0700
TZOFFSETTO:-0800
TZNAME:PST
DTSTART:20271107T090000
END:STANDARD
END:VTIMEZONE
BEGIN:VEVENT
DTSTART;TZID=America/Los_Angeles:20260426T180000
DTEND;TZID=America/Los_Angeles:20260426T190000
DTSTAMP:20260424T131252
CREATED:20260119T175829Z
LAST-MODIFIED:20260208T000620Z
UID:10018127-1777226400-1777230000@slaa-sfeb.org
SUMMARY:EB: Practicing Healthy Relationships
DESCRIPTION:Practicing Healthy Relationships is a 1-hour open meeting of SLAA. We welcome newcomers and anyone who wants to know about sex and love addiction. \nTwo weeks are speaker-discussion and two weeks are readings. \nKaiser Permanente Oakland Medical Center\n3600 Broadway\, Lower- Level\nConference Room LL-H1 and H2
URL:https://slaa-sfeb.org/event/eb-practicing-healthy-relationships/2026-04-26/
LOCATION:Kaiser Permanente Oakland Medical Center\, 3600 Broadway\, Lower- Level\, Conference Room LL-H1 & H2\, Oakland\, United States
CATEGORIES:Meeting: In-Person
END:VEVENT
BEGIN:VEVENT
DTSTART;TZID=America/Los_Angeles:20260503T180000
DTEND;TZID=America/Los_Angeles:20260503T190000
DTSTAMP:20260424T131252
CREATED:20260119T175829Z
LAST-MODIFIED:20260208T000620Z
UID:10018128-1777831200-1777834800@slaa-sfeb.org
SUMMARY:EB: Practicing Healthy Relationships
DESCRIPTION:Practicing Healthy Relationships is a 1-hour open meeting of SLAA. We welcome newcomers and anyone who wants to know about sex and love addiction. \nTwo weeks are speaker-discussion and two weeks are readings. \nKaiser Permanente Oakland Medical Center\n3600 Broadway\, Lower- Level\nConference Room LL-H1 and H2
URL:https://slaa-sfeb.org/event/eb-practicing-healthy-relationships/2026-05-03/
LOCATION:Kaiser Permanente Oakland Medical Center\, 3600 Broadway\, Lower- Level\, Conference Room LL-H1 & H2\, Oakland\, United States
CATEGORIES:Meeting: In-Person
END:VEVENT
BEGIN:VEVENT
DTSTART;TZID=America/Los_Angeles:20260510T180000
DTEND;TZID=America/Los_Angeles:20260510T190000
DTSTAMP:20260424T131252
CREATED:20260119T175829Z
LAST-MODIFIED:20260208T000620Z
UID:10018129-1778436000-1778439600@slaa-sfeb.org
SUMMARY:EB: Practicing Healthy Relationships
DESCRIPTION:Practicing Healthy Relationships is a 1-hour open meeting of SLAA. We welcome newcomers and anyone who wants to know about sex and love addiction. \nTwo weeks are speaker-discussion and two weeks are readings. \nKaiser Permanente Oakland Medical Center\n3600 Broadway\, Lower- Level\nConference Room LL-H1 and H2
URL:https://slaa-sfeb.org/event/eb-practicing-healthy-relationships/2026-05-10/
LOCATION:Kaiser Permanente Oakland Medical Center\, 3600 Broadway\, Lower- Level\, Conference Room LL-H1 & H2\, Oakland\, United States
CATEGORIES:Meeting: In-Person
END:VEVENT
BEGIN:VEVENT
DTSTART;TZID=America/Los_Angeles:20260517T180000
DTEND;TZID=America/Los_Angeles:20260517T190000
DTSTAMP:20260424T131252
CREATED:20260119T175829Z
LAST-MODIFIED:20260208T000620Z
UID:10018130-1779040800-1779044400@slaa-sfeb.org
SUMMARY:EB: Practicing Healthy Relationships
DESCRIPTION:Practicing Healthy Relationships is a 1-hour open meeting of SLAA. We welcome newcomers and anyone who wants to know about sex and love addiction. \nTwo weeks are speaker-discussion and two weeks are readings. \nKaiser Permanente Oakland Medical Center\n3600 Broadway\, Lower- Level\nConference Room LL-H1 and H2
URL:https://slaa-sfeb.org/event/eb-practicing-healthy-relationships/2026-05-17/
LOCATION:Kaiser Permanente Oakland Medical Center\, 3600 Broadway\, Lower- Level\, Conference Room LL-H1 & H2\, Oakland\, United States
CATEGORIES:Meeting: In-Person
END:VEVENT
BEGIN:VEVENT
DTSTART;TZID=America/Los_Angeles:20260524T180000
DTEND;TZID=America/Los_Angeles:20260524T190000
DTSTAMP:20260424T131252
CREATED:20260119T175829Z
LAST-MODIFIED:20260208T000620Z
UID:10018131-1779645600-1779649200@slaa-sfeb.org
SUMMARY:EB: Practicing Healthy Relationships
DESCRIPTION:Practicing Healthy Relationships is a 1-hour open meeting of SLAA. We welcome newcomers and anyone who wants to know about sex and love addiction. \nTwo weeks are speaker-discussion and two weeks are readings. \nKaiser Permanente Oakland Medical Center\n3600 Broadway\, Lower- Level\nConference Room LL-H1 and H2
URL:https://slaa-sfeb.org/event/eb-practicing-healthy-relationships/2026-05-24/
LOCATION:Kaiser Permanente Oakland Medical Center\, 3600 Broadway\, Lower- Level\, Conference Room LL-H1 & H2\, Oakland\, United States
CATEGORIES:Meeting: In-Person
END:VEVENT
BEGIN:VEVENT
DTSTART;TZID=America/Los_Angeles:20260531T180000
DTEND;TZID=America/Los_Angeles:20260531T190000
DTSTAMP:20260424T131252
CREATED:20260119T175829Z
LAST-MODIFIED:20260208T000620Z
UID:10018132-1780250400-1780254000@slaa-sfeb.org
SUMMARY:EB: Practicing Healthy Relationships
DESCRIPTION:Practicing Healthy Relationships is a 1-hour open meeting of SLAA. We welcome newcomers and anyone who wants to know about sex and love addiction. \nTwo weeks are speaker-discussion and two weeks are readings. \nKaiser Permanente Oakland Medical Center\n3600 Broadway\, Lower- Level\nConference Room LL-H1 and H2
URL:https://slaa-sfeb.org/event/eb-practicing-healthy-relationships/2026-05-31/
LOCATION:Kaiser Permanente Oakland Medical Center\, 3600 Broadway\, Lower- Level\, Conference Room LL-H1 & H2\, Oakland\, United States
CATEGORIES:Meeting: In-Person
END:VEVENT
BEGIN:VEVENT
DTSTART;TZID=America/Los_Angeles:20260607T180000
DTEND;TZID=America/Los_Angeles:20260607T190000
DTSTAMP:20260424T131252
CREATED:20260119T175829Z
LAST-MODIFIED:20260208T000620Z
UID:10018133-1780855200-1780858800@slaa-sfeb.org
SUMMARY:EB: Practicing Healthy Relationships
DESCRIPTION:Practicing Healthy Relationships is a 1-hour open meeting of SLAA. We welcome newcomers and anyone who wants to know about sex and love addiction. \nTwo weeks are speaker-discussion and two weeks are readings. \nKaiser Permanente Oakland Medical Center\n3600 Broadway\, Lower- Level\nConference Room LL-H1 and H2
URL:https://slaa-sfeb.org/event/eb-practicing-healthy-relationships/2026-06-07/
LOCATION:Kaiser Permanente Oakland Medical Center\, 3600 Broadway\, Lower- Level\, Conference Room LL-H1 & H2\, Oakland\, United States
CATEGORIES:Meeting: In-Person
END:VEVENT
BEGIN:VEVENT
DTSTART;TZID=America/Los_Angeles:20260614T180000
DTEND;TZID=America/Los_Angeles:20260614T190000
DTSTAMP:20260424T131252
CREATED:20260119T175829Z
LAST-MODIFIED:20260208T000620Z
UID:10018134-1781460000-1781463600@slaa-sfeb.org
SUMMARY:EB: Practicing Healthy Relationships
DESCRIPTION:Practicing Healthy Relationships is a 1-hour open meeting of SLAA. We welcome newcomers and anyone who wants to know about sex and love addiction. \nTwo weeks are speaker-discussion and two weeks are readings. \nKaiser Permanente Oakland Medical Center\n3600 Broadway\, Lower- Level\nConference Room LL-H1 and H2
URL:https://slaa-sfeb.org/event/eb-practicing-healthy-relationships/2026-06-14/
LOCATION:Kaiser Permanente Oakland Medical Center\, 3600 Broadway\, Lower- Level\, Conference Room LL-H1 & H2\, Oakland\, United States
CATEGORIES:Meeting: In-Person
END:VEVENT
BEGIN:VEVENT
DTSTART;TZID=America/Los_Angeles:20260621T180000
DTEND;TZID=America/Los_Angeles:20260621T190000
DTSTAMP:20260424T131252
CREATED:20260119T175829Z
LAST-MODIFIED:20260208T000620Z
UID:10018135-1782064800-1782068400@slaa-sfeb.org
SUMMARY:EB: Practicing Healthy Relationships
DESCRIPTION:Practicing Healthy Relationships is a 1-hour open meeting of SLAA. We welcome newcomers and anyone who wants to know about sex and love addiction. \nTwo weeks are speaker-discussion and two weeks are readings. \nKaiser Permanente Oakland Medical Center\n3600 Broadway\, Lower- Level\nConference Room LL-H1 and H2
URL:https://slaa-sfeb.org/event/eb-practicing-healthy-relationships/2026-06-21/
LOCATION:Kaiser Permanente Oakland Medical Center\, 3600 Broadway\, Lower- Level\, Conference Room LL-H1 & H2\, Oakland\, United States
CATEGORIES:Meeting: In-Person
END:VEVENT
BEGIN:VEVENT
DTSTART;TZID=America/Los_Angeles:20260628T180000
DTEND;TZID=America/Los_Angeles:20260628T190000
DTSTAMP:20260424T131252
CREATED:20260119T175829Z
LAST-MODIFIED:20260208T000620Z
UID:10018136-1782669600-1782673200@slaa-sfeb.org
SUMMARY:EB: Practicing Healthy Relationships
DESCRIPTION:Practicing Healthy Relationships is a 1-hour open meeting of SLAA. We welcome newcomers and anyone who wants to know about sex and love addiction. \nTwo weeks are speaker-discussion and two weeks are readings. \nKaiser Permanente Oakland Medical Center\n3600 Broadway\, Lower- Level\nConference Room LL-H1 and H2
URL:https://slaa-sfeb.org/event/eb-practicing-healthy-relationships/2026-06-28/
LOCATION:Kaiser Permanente Oakland Medical Center\, 3600 Broadway\, Lower- Level\, Conference Room LL-H1 & H2\, Oakland\, United States
CATEGORIES:Meeting: In-Person
END:VEVENT
BEGIN:VEVENT
DTSTART;TZID=America/Los_Angeles:20260705T180000
DTEND;TZID=America/Los_Angeles:20260705T190000
DTSTAMP:20260424T131252
CREATED:20260119T175829Z
LAST-MODIFIED:20260208T000620Z
UID:10018137-1783274400-1783278000@slaa-sfeb.org
SUMMARY:EB: Practicing Healthy Relationships
DESCRIPTION:Practicing Healthy Relationships is a 1-hour open meeting of SLAA. We welcome newcomers and anyone who wants to know about sex and love addiction. \nTwo weeks are speaker-discussion and two weeks are readings. \nKaiser Permanente Oakland Medical Center\n3600 Broadway\, Lower- Level\nConference Room LL-H1 and H2
URL:https://slaa-sfeb.org/event/eb-practicing-healthy-relationships/2026-07-05/
LOCATION:Kaiser Permanente Oakland Medical Center\, 3600 Broadway\, Lower- Level\, Conference Room LL-H1 & H2\, Oakland\, United States
CATEGORIES:Meeting: In-Person
END:VEVENT
BEGIN:VEVENT
DTSTART;TZID=America/Los_Angeles:20260712T180000
DTEND;TZID=America/Los_Angeles:20260712T190000
DTSTAMP:20260424T131252
CREATED:20260119T175829Z
LAST-MODIFIED:20260208T000620Z
UID:10018138-1783879200-1783882800@slaa-sfeb.org
SUMMARY:EB: Practicing Healthy Relationships
DESCRIPTION:Practicing Healthy Relationships is a 1-hour open meeting of SLAA. We welcome newcomers and anyone who wants to know about sex and love addiction. \nTwo weeks are speaker-discussion and two weeks are readings. \nKaiser Permanente Oakland Medical Center\n3600 Broadway\, Lower- Level\nConference Room LL-H1 and H2
URL:https://slaa-sfeb.org/event/eb-practicing-healthy-relationships/2026-07-12/
LOCATION:Kaiser Permanente Oakland Medical Center\, 3600 Broadway\, Lower- Level\, Conference Room LL-H1 & H2\, Oakland\, United States
CATEGORIES:Meeting: In-Person
END:VEVENT
BEGIN:VEVENT
DTSTART;TZID=America/Los_Angeles:20260719T180000
DTEND;TZID=America/Los_Angeles:20260719T190000
DTSTAMP:20260424T131252
CREATED:20260119T175829Z
LAST-MODIFIED:20260208T000620Z
UID:10018139-1784484000-1784487600@slaa-sfeb.org
SUMMARY:EB: Practicing Healthy Relationships
DESCRIPTION:Practicing Healthy Relationships is a 1-hour open meeting of SLAA. We welcome newcomers and anyone who wants to know about sex and love addiction. \nTwo weeks are speaker-discussion and two weeks are readings. \nKaiser Permanente Oakland Medical Center\n3600 Broadway\, Lower- Level\nConference Room LL-H1 and H2
URL:https://slaa-sfeb.org/event/eb-practicing-healthy-relationships/2026-07-19/
LOCATION:Kaiser Permanente Oakland Medical Center\, 3600 Broadway\, Lower- Level\, Conference Room LL-H1 & H2\, Oakland\, United States
CATEGORIES:Meeting: In-Person
END:VEVENT
BEGIN:VEVENT
DTSTART;TZID=America/Los_Angeles:20260726T180000
DTEND;TZID=America/Los_Angeles:20260726T190000
DTSTAMP:20260424T131252
CREATED:20260119T175829Z
LAST-MODIFIED:20260208T000620Z
UID:10018140-1785088800-1785092400@slaa-sfeb.org
SUMMARY:EB: Practicing Healthy Relationships
DESCRIPTION:Practicing Healthy Relationships is a 1-hour open meeting of SLAA. We welcome newcomers and anyone who wants to know about sex and love addiction. \nTwo weeks are speaker-discussion and two weeks are readings. \nKaiser Permanente Oakland Medical Center\n3600 Broadway\, Lower- Level\nConference Room LL-H1 and H2
URL:https://slaa-sfeb.org/event/eb-practicing-healthy-relationships/2026-07-26/
LOCATION:Kaiser Permanente Oakland Medical Center\, 3600 Broadway\, Lower- Level\, Conference Room LL-H1 & H2\, Oakland\, United States
CATEGORIES:Meeting: In-Person
END:VEVENT
BEGIN:VEVENT
DTSTART;TZID=America/Los_Angeles:20260802T180000
DTEND;TZID=America/Los_Angeles:20260802T190000
DTSTAMP:20260424T131252
CREATED:20260119T175829Z
LAST-MODIFIED:20260208T000620Z
UID:10018141-1785693600-1785697200@slaa-sfeb.org
SUMMARY:EB: Practicing Healthy Relationships
DESCRIPTION:Practicing Healthy Relationships is a 1-hour open meeting of SLAA. We welcome newcomers and anyone who wants to know about sex and love addiction. \nTwo weeks are speaker-discussion and two weeks are readings. \nKaiser Permanente Oakland Medical Center\n3600 Broadway\, Lower- Level\nConference Room LL-H1 and H2
URL:https://slaa-sfeb.org/event/eb-practicing-healthy-relationships/2026-08-02/
LOCATION:Kaiser Permanente Oakland Medical Center\, 3600 Broadway\, Lower- Level\, Conference Room LL-H1 & H2\, Oakland\, United States
CATEGORIES:Meeting: In-Person
END:VEVENT
BEGIN:VEVENT
DTSTART;TZID=America/Los_Angeles:20260809T180000
DTEND;TZID=America/Los_Angeles:20260809T190000
DTSTAMP:20260424T131252
CREATED:20260119T175829Z
LAST-MODIFIED:20260208T000620Z
UID:10018142-1786298400-1786302000@slaa-sfeb.org
SUMMARY:EB: Practicing Healthy Relationships
DESCRIPTION:Practicing Healthy Relationships is a 1-hour open meeting of SLAA. We welcome newcomers and anyone who wants to know about sex and love addiction. \nTwo weeks are speaker-discussion and two weeks are readings. \nKaiser Permanente Oakland Medical Center\n3600 Broadway\, Lower- Level\nConference Room LL-H1 and H2
URL:https://slaa-sfeb.org/event/eb-practicing-healthy-relationships/2026-08-09/
LOCATION:Kaiser Permanente Oakland Medical Center\, 3600 Broadway\, Lower- Level\, Conference Room LL-H1 & H2\, Oakland\, United States
CATEGORIES:Meeting: In-Person
END:VEVENT
BEGIN:VEVENT
DTSTART;TZID=America/Los_Angeles:20260816T180000
DTEND;TZID=America/Los_Angeles:20260816T190000
DTSTAMP:20260424T131252
CREATED:20260119T175829Z
LAST-MODIFIED:20260208T000620Z
UID:10018143-1786903200-1786906800@slaa-sfeb.org
SUMMARY:EB: Practicing Healthy Relationships
DESCRIPTION:Practicing Healthy Relationships is a 1-hour open meeting of SLAA. We welcome newcomers and anyone who wants to know about sex and love addiction. \nTwo weeks are speaker-discussion and two weeks are readings. \nKaiser Permanente Oakland Medical Center\n3600 Broadway\, Lower- Level\nConference Room LL-H1 and H2
URL:https://slaa-sfeb.org/event/eb-practicing-healthy-relationships/2026-08-16/
LOCATION:Kaiser Permanente Oakland Medical Center\, 3600 Broadway\, Lower- Level\, Conference Room LL-H1 & H2\, Oakland\, United States
CATEGORIES:Meeting: In-Person
END:VEVENT
BEGIN:VEVENT
DTSTART;TZID=America/Los_Angeles:20260823T180000
DTEND;TZID=America/Los_Angeles:20260823T190000
DTSTAMP:20260424T131252
CREATED:20260119T175829Z
LAST-MODIFIED:20260208T000620Z
UID:10018144-1787508000-1787511600@slaa-sfeb.org
SUMMARY:EB: Practicing Healthy Relationships
DESCRIPTION:Practicing Healthy Relationships is a 1-hour open meeting of SLAA. We welcome newcomers and anyone who wants to know about sex and love addiction. \nTwo weeks are speaker-discussion and two weeks are readings. \nKaiser Permanente Oakland Medical Center\n3600 Broadway\, Lower- Level\nConference Room LL-H1 and H2
URL:https://slaa-sfeb.org/event/eb-practicing-healthy-relationships/2026-08-23/
LOCATION:Kaiser Permanente Oakland Medical Center\, 3600 Broadway\, Lower- Level\, Conference Room LL-H1 & H2\, Oakland\, United States
CATEGORIES:Meeting: In-Person
END:VEVENT
BEGIN:VEVENT
DTSTART;TZID=America/Los_Angeles:20260830T180000
DTEND;TZID=America/Los_Angeles:20260830T190000
DTSTAMP:20260424T131252
CREATED:20260119T175829Z
LAST-MODIFIED:20260208T000620Z
UID:10018145-1788112800-1788116400@slaa-sfeb.org
SUMMARY:EB: Practicing Healthy Relationships
DESCRIPTION:Practicing Healthy Relationships is a 1-hour open meeting of SLAA. We welcome newcomers and anyone who wants to know about sex and love addiction. \nTwo weeks are speaker-discussion and two weeks are readings. \nKaiser Permanente Oakland Medical Center\n3600 Broadway\, Lower- Level\nConference Room LL-H1 and H2
URL:https://slaa-sfeb.org/event/eb-practicing-healthy-relationships/2026-08-30/
LOCATION:Kaiser Permanente Oakland Medical Center\, 3600 Broadway\, Lower- Level\, Conference Room LL-H1 & H2\, Oakland\, United States
CATEGORIES:Meeting: In-Person
END:VEVENT
BEGIN:VEVENT
DTSTART;TZID=America/Los_Angeles:20260906T180000
DTEND;TZID=America/Los_Angeles:20260906T190000
DTSTAMP:20260424T131252
CREATED:20260119T175829Z
LAST-MODIFIED:20260208T000620Z
UID:10018146-1788717600-1788721200@slaa-sfeb.org
SUMMARY:EB: Practicing Healthy Relationships
DESCRIPTION:Practicing Healthy Relationships is a 1-hour open meeting of SLAA. We welcome newcomers and anyone who wants to know about sex and love addiction. \nTwo weeks are speaker-discussion and two weeks are readings. \nKaiser Permanente Oakland Medical Center\n3600 Broadway\, Lower- Level\nConference Room LL-H1 and H2
URL:https://slaa-sfeb.org/event/eb-practicing-healthy-relationships/2026-09-06/
LOCATION:Kaiser Permanente Oakland Medical Center\, 3600 Broadway\, Lower- Level\, Conference Room LL-H1 & H2\, Oakland\, United States
CATEGORIES:Meeting: In-Person
END:VEVENT
BEGIN:VEVENT
DTSTART;TZID=America/Los_Angeles:20260913T180000
DTEND;TZID=America/Los_Angeles:20260913T190000
DTSTAMP:20260424T131252
CREATED:20260119T175829Z
LAST-MODIFIED:20260208T000620Z
UID:10018147-1789322400-1789326000@slaa-sfeb.org
SUMMARY:EB: Practicing Healthy Relationships
DESCRIPTION:Practicing Healthy Relationships is a 1-hour open meeting of SLAA. We welcome newcomers and anyone who wants to know about sex and love addiction. \nTwo weeks are speaker-discussion and two weeks are readings. \nKaiser Permanente Oakland Medical Center\n3600 Broadway\, Lower- Level\nConference Room LL-H1 and H2
URL:https://slaa-sfeb.org/event/eb-practicing-healthy-relationships/2026-09-13/
LOCATION:Kaiser Permanente Oakland Medical Center\, 3600 Broadway\, Lower- Level\, Conference Room LL-H1 & H2\, Oakland\, United States
CATEGORIES:Meeting: In-Person
END:VEVENT
BEGIN:VEVENT
DTSTART;TZID=America/Los_Angeles:20260920T180000
DTEND;TZID=America/Los_Angeles:20260920T190000
DTSTAMP:20260424T131252
CREATED:20260119T175829Z
LAST-MODIFIED:20260208T000620Z
UID:10018148-1789927200-1789930800@slaa-sfeb.org
SUMMARY:EB: Practicing Healthy Relationships
DESCRIPTION:Practicing Healthy Relationships is a 1-hour open meeting of SLAA. We welcome newcomers and anyone who wants to know about sex and love addiction. \nTwo weeks are speaker-discussion and two weeks are readings. \nKaiser Permanente Oakland Medical Center\n3600 Broadway\, Lower- Level\nConference Room LL-H1 and H2
URL:https://slaa-sfeb.org/event/eb-practicing-healthy-relationships/2026-09-20/
LOCATION:Kaiser Permanente Oakland Medical Center\, 3600 Broadway\, Lower- Level\, Conference Room LL-H1 & H2\, Oakland\, United States
CATEGORIES:Meeting: In-Person
END:VEVENT
BEGIN:VEVENT
DTSTART;TZID=America/Los_Angeles:20260927T180000
DTEND;TZID=America/Los_Angeles:20260927T190000
DTSTAMP:20260424T131252
CREATED:20260119T175829Z
LAST-MODIFIED:20260208T000620Z
UID:10018149-1790532000-1790535600@slaa-sfeb.org
SUMMARY:EB: Practicing Healthy Relationships
DESCRIPTION:Practicing Healthy Relationships is a 1-hour open meeting of SLAA. We welcome newcomers and anyone who wants to know about sex and love addiction. \nTwo weeks are speaker-discussion and two weeks are readings. \nKaiser Permanente Oakland Medical Center\n3600 Broadway\, Lower- Level\nConference Room LL-H1 and H2
URL:https://slaa-sfeb.org/event/eb-practicing-healthy-relationships/2026-09-27/
LOCATION:Kaiser Permanente Oakland Medical Center\, 3600 Broadway\, Lower- Level\, Conference Room LL-H1 & H2\, Oakland\, United States
CATEGORIES:Meeting: In-Person
END:VEVENT
BEGIN:VEVENT
DTSTART;TZID=America/Los_Angeles:20261004T180000
DTEND;TZID=America/Los_Angeles:20261004T190000
DTSTAMP:20260424T131252
CREATED:20260119T175829Z
LAST-MODIFIED:20260208T000620Z
UID:10018150-1791136800-1791140400@slaa-sfeb.org
SUMMARY:EB: Practicing Healthy Relationships
DESCRIPTION:Practicing Healthy Relationships is a 1-hour open meeting of SLAA. We welcome newcomers and anyone who wants to know about sex and love addiction. \nTwo weeks are speaker-discussion and two weeks are readings. \nKaiser Permanente Oakland Medical Center\n3600 Broadway\, Lower- Level\nConference Room LL-H1 and H2
URL:https://slaa-sfeb.org/event/eb-practicing-healthy-relationships/2026-10-04/
LOCATION:Kaiser Permanente Oakland Medical Center\, 3600 Broadway\, Lower- Level\, Conference Room LL-H1 & H2\, Oakland\, United States
CATEGORIES:Meeting: In-Person
END:VEVENT
BEGIN:VEVENT
DTSTART;TZID=America/Los_Angeles:20261011T180000
DTEND;TZID=America/Los_Angeles:20261011T190000
DTSTAMP:20260424T131252
CREATED:20260119T175829Z
LAST-MODIFIED:20260208T000620Z
UID:10018151-1791741600-1791745200@slaa-sfeb.org
SUMMARY:EB: Practicing Healthy Relationships
DESCRIPTION:Practicing Healthy Relationships is a 1-hour open meeting of SLAA. We welcome newcomers and anyone who wants to know about sex and love addiction. \nTwo weeks are speaker-discussion and two weeks are readings. \nKaiser Permanente Oakland Medical Center\n3600 Broadway\, Lower- Level\nConference Room LL-H1 and H2
URL:https://slaa-sfeb.org/event/eb-practicing-healthy-relationships/2026-10-11/
LOCATION:Kaiser Permanente Oakland Medical Center\, 3600 Broadway\, Lower- Level\, Conference Room LL-H1 & H2\, Oakland\, United States
CATEGORIES:Meeting: In-Person
END:VEVENT
BEGIN:VEVENT
DTSTART;TZID=America/Los_Angeles:20261018T180000
DTEND;TZID=America/Los_Angeles:20261018T190000
DTSTAMP:20260424T131252
CREATED:20260119T175829Z
LAST-MODIFIED:20260208T000620Z
UID:10018152-1792346400-1792350000@slaa-sfeb.org
SUMMARY:EB: Practicing Healthy Relationships
DESCRIPTION:Practicing Healthy Relationships is a 1-hour open meeting of SLAA. We welcome newcomers and anyone who wants to know about sex and love addiction. \nTwo weeks are speaker-discussion and two weeks are readings. \nKaiser Permanente Oakland Medical Center\n3600 Broadway\, Lower- Level\nConference Room LL-H1 and H2
URL:https://slaa-sfeb.org/event/eb-practicing-healthy-relationships/2026-10-18/
LOCATION:Kaiser Permanente Oakland Medical Center\, 3600 Broadway\, Lower- Level\, Conference Room LL-H1 & H2\, Oakland\, United States
CATEGORIES:Meeting: In-Person
END:VEVENT
BEGIN:VEVENT
DTSTART;TZID=America/Los_Angeles:20261025T180000
DTEND;TZID=America/Los_Angeles:20261025T190000
DTSTAMP:20260424T131252
CREATED:20260119T175829Z
LAST-MODIFIED:20260208T000620Z
UID:10018153-1792951200-1792954800@slaa-sfeb.org
SUMMARY:EB: Practicing Healthy Relationships
DESCRIPTION:Practicing Healthy Relationships is a 1-hour open meeting of SLAA. We welcome newcomers and anyone who wants to know about sex and love addiction. \nTwo weeks are speaker-discussion and two weeks are readings. \nKaiser Permanente Oakland Medical Center\n3600 Broadway\, Lower- Level\nConference Room LL-H1 and H2
URL:https://slaa-sfeb.org/event/eb-practicing-healthy-relationships/2026-10-25/
LOCATION:Kaiser Permanente Oakland Medical Center\, 3600 Broadway\, Lower- Level\, Conference Room LL-H1 & H2\, Oakland\, United States
CATEGORIES:Meeting: In-Person
END:VEVENT
BEGIN:VEVENT
DTSTART;TZID=America/Los_Angeles:20261101T180000
DTEND;TZID=America/Los_Angeles:20261101T190000
DTSTAMP:20260424T131252
CREATED:20260119T175829Z
LAST-MODIFIED:20260208T000620Z
UID:10018154-1793556000-1793559600@slaa-sfeb.org
SUMMARY:EB: Practicing Healthy Relationships
DESCRIPTION:Practicing Healthy Relationships is a 1-hour open meeting of SLAA. We welcome newcomers and anyone who wants to know about sex and love addiction. \nTwo weeks are speaker-discussion and two weeks are readings. \nKaiser Permanente Oakland Medical Center\n3600 Broadway\, Lower- Level\nConference Room LL-H1 and H2
URL:https://slaa-sfeb.org/event/eb-practicing-healthy-relationships/2026-11-01/
LOCATION:Kaiser Permanente Oakland Medical Center\, 3600 Broadway\, Lower- Level\, Conference Room LL-H1 & H2\, Oakland\, United States
CATEGORIES:Meeting: In-Person
END:VEVENT
BEGIN:VEVENT
DTSTART;TZID=America/Los_Angeles:20261108T180000
DTEND;TZID=America/Los_Angeles:20261108T190000
DTSTAMP:20260424T131252
CREATED:20260119T175829Z
LAST-MODIFIED:20260208T000620Z
UID:10018155-1794160800-1794164400@slaa-sfeb.org
SUMMARY:EB: Practicing Healthy Relationships
DESCRIPTION:Practicing Healthy Relationships is a 1-hour open meeting of SLAA. We welcome newcomers and anyone who wants to know about sex and love addiction. \nTwo weeks are speaker-discussion and two weeks are readings. \nKaiser Permanente Oakland Medical Center\n3600 Broadway\, Lower- Level\nConference Room LL-H1 and H2
URL:https://slaa-sfeb.org/event/eb-practicing-healthy-relationships/2026-11-08/
LOCATION:Kaiser Permanente Oakland Medical Center\, 3600 Broadway\, Lower- Level\, Conference Room LL-H1 & H2\, Oakland\, United States
CATEGORIES:Meeting: In-Person
END:VEVENT
BEGIN:VEVENT
DTSTART;TZID=America/Los_Angeles:20261115T180000
DTEND;TZID=America/Los_Angeles:20261115T190000
DTSTAMP:20260424T131252
CREATED:20260119T175829Z
LAST-MODIFIED:20260208T000620Z
UID:10018156-1794765600-1794769200@slaa-sfeb.org
SUMMARY:EB: Practicing Healthy Relationships
DESCRIPTION:Practicing Healthy Relationships is a 1-hour open meeting of SLAA. We welcome newcomers and anyone who wants to know about sex and love addiction. \nTwo weeks are speaker-discussion and two weeks are readings. \nKaiser Permanente Oakland Medical Center\n3600 Broadway\, Lower- Level\nConference Room LL-H1 and H2
URL:https://slaa-sfeb.org/event/eb-practicing-healthy-relationships/2026-11-15/
LOCATION:Kaiser Permanente Oakland Medical Center\, 3600 Broadway\, Lower- Level\, Conference Room LL-H1 & H2\, Oakland\, United States
CATEGORIES:Meeting: In-Person
END:VEVENT
END:VCALENDAR